Workbook

Sheet Wyliczenia szczegółowe
E1: Rachunek za prąd (zasady 2024) | H1: Jak korzystać: 1. wpisuj dane w polach na żółto 2. odczytuj wynik z pól na niebiesko
I2: 1. wpisuj dane w polach na żółto
A3: Dane ogólne | H3: 2. odczytuj wynik z pól na niebiesko
A4: Roczne zużycie energii | B4: Roczna produkcja z 1 kWp | C4: 8000 | D4: kWh | E4: Odczytaj z faktury
A5: Twój limit niższej ceny energii | B5: Roczna produkcja z 1 kWp | C5: 1500 | D5: kWh | E5: 1500 kWh w standardzie, 1800 dla rodzin z osobami z niepełnosprawnościami, 2000 dla rolników i dla rodzin z Kartą Dużej Rodziny
A6: Dystrybutor | B6: Roczna produkcja z 1 kWp | C6: Enea | D6: =IF(OR(E21="ZŁA TARFYFA",E25="ZŁA TARYFA"),"BŁĄD! Proszę wybrać inną taryfę lub dystrybutora","") | E6: Wybierz z listy rozwijanej
A7: Sprzedawca | B7: Roczna produkcja z 1 kWp | C7: Enea | E7: Wybierz z listy rozwijanej
A8: Taryfa | B8: Roczna produkcja z 1 kWp | C8: G11 | E8: Wybierz z listy rozwijanej
C9: =IF(OR(C8="G12",C8="G12p",C8="G12w",C8="G12n",C8="G12r",C8="G13"),TRUE(),FALSE()) -> FALSE | D9: =IF(C8="G13",TRUE(),FALSE()) -> FALSE
A10: =IF($C$20,"Ile procent prądu pobierasz w droższej strefie?",IF($E$20,"Ile procent pobierasz w droższej strefie przed południowej?","")) | B10: Roczna produkcja z 1 kWp | C10: 0.35 | D10: =IF(OR(B8="g13",B8="g12"),"WYPEŁNIJ","") | E10: Wiersz używany przy taryfie G12 i G13
A11: =IF($E$20,"Ile procent pobierasz w droższej strefie po południowej?","") | B11: Roczna produkcja z 1 kWp | C11: =IF(C10>50%,5%,30%) -> 0.3 | D11: =IF(B8="g13","WYPEŁNIJ","") | E11: Wiersz używany tylko przy taryfie G13
A12: =IF($C$20,"Ile procent prądu pobierasz w tańszej strefie?",IF($E$20,"Ile procent pobierasz w tańszej strefie?","")) | B12: Roczna produkcja z 1 kWp | C12: =IF(LEFT(C8,3)="G12",100%-C10,IF(C8="G13",100%-C10-C11,0)) -> 0 | E12: Wiersz używany przy taryfie G12 i G13
A13: Układ jednofazowy / trójfazowy | B13: Roczna produkcja z 1 kWp | C13: trójfazowy | E13: Wybierz z listy rozwijanej
A14: Okres rozliczeniowy | B14: Roczna produkcja z 1 kWp | C14: 2-miesięczny | D14: =IF(C43="zły okres rozliczeniowy","Wybierz inny okres rozliczeniowy!","") | E14: Wybierz z listy rozwijanej
A17: Cena za 1 kWh | H17: 2. odczytuj wynik z pól na niebiesko
C18: Do 30 czerwca 2024 | E18: Od 1 lipca 2024 | F18: Do 30 czerwca 2024 stosuje się limit cen na zablokowanym poziomie z 2022 r. Powyżej limitu ceny zablokowane na poziomie z 2023. Od 1 lipca 2024 ceny są uwolnione i rynkowe.
C19: Do limitu | D19: Powyżej limitu
C20: =IF(LEFT(C8,3)="G12",TRUE()) -> FALSE | E20: =IF(LEFT(C8,3)="G13",TRUE()) -> FALSE
A21: ="Koszt energii czynnej (wybrany sprzedawca: "&C7&")" -> Koszt energii czynnej (wybrany sprzedawca: Enea) | B21: =IF($C$20,$C8&" szczyt",IF($E$20,$C8&" szczyt przed poł","G11")) -> G11 | C21: =IF($B21="","",IF(INDEX('Koszt energii czynnej'!$D$6:$I$22,MATCH($B21,'Koszt energii czynnej'!$D$6:$D$22,0),MATCH($C$7,'Koszt energii czynnej'!$D$6:$I$6,0))<0.412,INDEX('Koszt energii czynnej'!$D$6:$I$22,MATCH($B21,'Koszt energii czynnej'!$D$6:$D$22,0),MATCH($C$7,'Koszt energii czynnej'!$D$6:$I$6,0)),0.412)) -> 0.412 | D21: =IF($B21="","",IF(INDEX('Koszt energii czynnej'!$D$24:$I$40,MATCH($B21,'Koszt energii czynnej'!$D$24:$D$40,0),MATCH($C$7,'Koszt energii czynnej'!$D$24:$I$24,0))>0.693,0.693,INDEX('Koszt energii czynnej'!$D$24:$I$40,MATCH($B21,'Koszt energii czynnej'!$D$24:$D$40,0),MATCH($C$7,'Koszt energii czynnej'!$D$24:$I$24,0)))) -> 0.693 | E21: =IF($B21="","",MIN(0.5,INDEX('Koszt energii czynnej'!$D$42:$I$57,MATCH($B21,'Koszt energii czynnej'!$D$42:$D$57,0),MATCH($C$7,'Koszt energii czynnej'!$D$42:$I$42,0)))) -> 0.5 | F21: zł/kWh
A22: =IF($C$20,"Koszt energii czynnej "&C8&" poza szczytem",IF($E$20,"Koszt energii czynnej "&C8&" szczyt po poł","")) | B22: =IF($C$20,$C8&" poza szczytem",IF($E$20,$C8&" szczyt po poł","")) | C22: =IF($B22="","",IF(INDEX('Koszt energii czynnej'!$D$6:$I$22,MATCH($B22,'Koszt energii czynnej'!$D$6:$D$22,0),MATCH($C$7,'Koszt energii czynnej'!$D$6:$I$6,0))<0.412,INDEX('Koszt energii czynnej'!$D$6:$I$22,MATCH($B22,'Koszt energii czynnej'!$D$6:$D$22,0),MATCH($C$7,'Koszt energii czynnej'!$D$6:$I$6,0)),0.412)) | D22: =IF($B22="","",IF(INDEX('Koszt energii czynnej'!$D$24:$I$40,MATCH($B22,'Koszt energii czynnej'!$D$24:$D$40,0),MATCH($C$7,'Koszt energii czynnej'!$D$24:$I$24,0))>0.693,0.693,INDEX('Koszt energii czynnej'!$D$24:$I$40,MATCH($B22,'Koszt energii czynnej'!$D$24:$D$40,0),MATCH($C$7,'Koszt energii czynnej'!$D$24:$I$24,0)))) | E22: =IF($B22="","",MIN(0.5,INDEX('Koszt energii czynnej'!$D$42:$I$57,MATCH($B22,'Koszt energii czynnej'!$D$42:$D$57,0),MATCH($C$7,'Koszt energii czynnej'!$D$42:$I$42,0))))
A23: =IF(C8="G13","Koszt energii czynnej G13 poza szczytem","") | B23: =IF(C8="G13","G13 poza szczytem","") | C23: =IF($B23="","",INDEX('Koszt energii czynnej'!$D$6:$I$22,MATCH($B23,'Koszt energii czynnej'!$D$6:$D$22,0),MATCH($C$7,'Koszt energii czynnej'!$D$6:$I$6,0))) | D23: =IF($B23="","",IF(INDEX('Koszt energii czynnej'!$D$24:$I$40,MATCH($B23,'Koszt energii czynnej'!$D$24:$D$40,0),MATCH($C$7,'Koszt energii czynnej'!$D$24:$I$24,0))>0.693,0.693,INDEX('Koszt energii czynnej'!$D$24:$I$40,MATCH($B23,'Koszt energii czynnej'!$D$24:$D$40,0),MATCH($C$7,'Koszt energii czynnej'!$D$24:$I$24,0)))) | E23: =IF($B23="","",MIN(0.5,INDEX('Koszt energii czynnej'!$D$42:$I$57,MATCH($B23,'Koszt energii czynnej'!$D$42:$D$57,0),MATCH($C$7,'Koszt energii czynnej'!$D$42:$I$42,0))))
B24: normalizer | C24: =IF($C$20,(C21*$C$10)+(C22*$C$12),IF($E$20,(C21*$C$10)+(C22*$C$11)+(C23*$C$12),C$21)) -> 0.412 | D24: =IF($C$20,(D21*$C$10)+(D22*$C$12),IF($E$20,(D21*$C$10)+(D22*$C$11)+(D23*$C$12),D$21)) -> 0.693 | E24: =IF($C$20,(E21*$C$10)+(E22*$C$12),IF($E$20,(E21*$C$10)+(E22*$C$11)+(E23*$C$12),E$21)) -> 0.5
A25: ="Składnik zmienny stawki sieciowej (wybrany dystrybutor: "&C6&")" -> Składnik zmienny stawki sieciowej (wybrany dystrybutor: Enea) | B25: =IF($C$20,C8&" szczyt",IF($E$20,C8&" szczyt przed poł","G11")) -> G11 | C25: =IF($B21="","",INDEX('Składnik zmienny'!$C$5:$H$20,MATCH($B25,'Składnik zmienny'!$C$5:$C$20,0),MATCH($C$6,'Składnik zmienny'!$C$5:$H$5,0))) -> 0.1745 | D25: =IF($B21="","",INDEX('Składnik zmienny'!$C$22:$H$37,MATCH($B25,'Składnik zmienny'!$C$22:$C$37,0),MATCH($C$6,'Składnik zmienny'!$C$22:$H$22,0))) -> 0.2691 | E25: =IF($B21="","",INDEX('Składnik zmienny'!$C$39:$H$54,MATCH($B25,'Składnik zmienny'!$C$39:$C$54,0),MATCH($C$6,'Składnik zmienny'!$C$39:$H$39,0))) -> 0.2486 | F25: zł/kWh
A26: =IF($C$20,"Koszt energii czynnej "&C13&" poza szczytem",IF($E$20,"Koszt energii czynnej "&C13&" szczyt po poł","")) | B26: =IF($C$20,C8&" poza szczytem",IF($E$20,$C$8&" szczyt po poł","")) | C26: =IF($B22="","",INDEX('Składnik zmienny'!$C$5:$H$20,MATCH($B26,'Składnik zmienny'!$C$5:$C$20,0),MATCH($C$6,'Składnik zmienny'!$C$5:$H$5,0))) | D26: =IF($B22="","",INDEX('Składnik zmienny'!$C$22:$H$37,MATCH($B26,'Składnik zmienny'!$C$22:$C$37,0),MATCH($C$6,'Składnik zmienny'!$C$22:$H$22,0))) | E26: =IF($B22="","",INDEX('Składnik zmienny'!$C$39:$H$54,MATCH($B26,'Składnik zmienny'!$C$39:$C$54,0),MATCH($C$6,'Składnik zmienny'!$C$39:$H$39,0)))
A27: =IF(C13="G13","Koszt energii czynnej G13 poza szczytem","") | B27: =IF($C$8="G13","G13 poza szczytem","") | C27: =IF($B23="","",INDEX('Składnik zmienny'!$C$5:$H$20,MATCH($B27,'Składnik zmienny'!$C$5:$C$20,0),MATCH($C$6,'Składnik zmienny'!$C$5:$H$5,0))) | D27: =IF($B23="","",INDEX('Składnik zmienny'!$C$22:$H$37,MATCH($B27,'Składnik zmienny'!$C$22:$C$37,0),MATCH($C$6,'Składnik zmienny'!$C$22:$H$22,0))) | E27: =IF($B23="","",INDEX('Składnik zmienny'!$C$39:$H$54,MATCH($B27,'Składnik zmienny'!$C$39:$C$54,0),MATCH($C$6,'Składnik zmienny'!$C$39:$H$39,0)))
B28: normalizer | C28: =IF($C$20,(C25*$C$10)+(C26*$C$12),IF($E$20,(C25*$C$10)+(C26*$C$11)+(C27*$C$12),C25)) -> 0.1745 | D28: =IF($C$20,(D25*$C$10)+(D26*$C$12),IF($E$20,(D25*$C$10)+(D26*$C$11)+(D27*$C$12),D25)) -> 0.2691 | E28: =IF($C$20,(E25*$C$10)+(E26*$C$12),IF($E$20,(E25*$C$10)+(E26*$C$11)+(E27*$C$12),E25)) -> 0.2486
A29: Opłata jakościowa | B29: Roczna produkcja z 1 kWp | C29: 0.0095 | D29: 0.0242 | E29: 0.0314 | F29: zł/kWh
A30: Opłata OZE | B30: Roczna produkcja z 1 kWp | C30: 0 | E30: 0 | F30: zł/kWh
A31: Opłata kogeneracyjna | B31: Roczna produkcja z 1 kWp | C31: 0.00618 | F31: zł/kWh
A32: Akcyza | B32: Roczna produkcja z 1 kWp | C32: 0.005 | F32: zł/kWh
A33: Podatek VAT | C33: 0.23 | E33: 0.23 | F33: %
A34: =IF($C$20,"Cena za 1 kWh brutto w droższej strefie",IF($E$20,"Cena za 1 kWh brutto w droższej strefie przedpołudniowej","Cena za 1 kWh brutto")) -> Cena za 1 kWh brutto | C34: =(C21+C25+C$29+$C$30+$C$31+$C$32)*(1+$C$46) -> 0.7468314 | D34: =(D21+D25+D$29+$C$30+$C$31+$C$32)*(1+$C$46) -> 1.2269004 | E34: =(E21+E25+E$29+$C$30+$C$31+$C$32)*(1+$C$46) -> 0.9731514 | F34: zł/kWh
A35: =IF(OR($C$20,$E$20),"Cena za 1 kWh brutto w tańszej strefie","") | C35: =IFERROR((C22+C26+C$29+$C$30+$C$31+$C$32)*(1+$C$46),0) -> 0 | D35: =IFERROR((D22+D26+D$29+$C$30+$C$31+$C$32)*(1+$C$46),0) -> 0 | E35: =IFERROR((E22+E26+E$29+$C$30+$C$31+$C$32)*(1+$C$46),0) -> 0 | F35: zł/kWh
A36: =IF($E$20,"Cena za 1 kWh brutto w droższej strefie popołudniowej","") | C36: =IFERROR((C23+C27+C$29+$C$30+$C$31+$C$32)*(1+$C$46),0) -> 0 | D36: =IFERROR((D23+D27+D$29+$C$30+$C$31+$C$32)*(1+$C$46),0) -> 0 | E36: =IFERROR((E23+E27+E$29+$C$30+$C$31+$C$32)*(1+$C$46),0) -> 0 | F36: zł/kWh
A38: Opłaty stałe – bez fotowoltaiki | H38: 2. odczytuj wynik z pól na niebiesko
C39: Do 30 czerwca 2024 | E39: Od 1 lipca 2024 | F39: Do 30 czerwca 2024 stosuje się limit cen na zablokowanym poziomie z 2022 r. Powyżej limitu ceny zablokowane na poziomie z 2023. Od 1 lipca 2024 ceny są uwolnione i rynkowe.
C40: Do limitu | D40: Powyżej limitu
A41: Opłata handlowa | B41: Cena sprzedaży energii | C41: 0 | F41: zł na miesiąc | G41: Opłata handlowa nie jest zatwierdzana przez Urząd Regulacji Energetyki, ani przez Rząd. Dla dokładności powinieneś sam wpisać sumę, którą masz na fakturze.
A42: ="Składnik stały stawki sieciowej (wybrany dystrybutor: "&C6&")" -> Składnik stały stawki sieciowej (wybrany dystrybutor: Enea) | C42: =INDEX('Składnik stały'!C5:J23,MATCH(C$8&" "&$C$13,'Składnik stały'!C5:C23,0),MATCH(C$6,'Składnik stały'!C5:J5,0)) -> 6.51 | D42: =INDEX('Składnik stały'!C25:J43,MATCH(C$8&" "&$C$13,'Składnik stały'!C25:C43,0),MATCH(C$6,'Składnik stały'!C25:J25,0)) -> 10.14 | E42: =INDEX('Składnik stały'!C45:J63,MATCH(C$8&" "&$C$13,'Składnik stały'!C45:C63,0),MATCH(C$6,'Składnik stały'!C45:J45,0)) -> 10.14 | F42: zł na miesiąc
A43: Opłata abonamentowa | B43: Roczna produkcja z 1 kWp | C43: =INDEX('Opłata abonamentowa'!D7:I15,MATCH(C$14,'Opłata abonamentowa'!D7:D15,0),MATCH($C$6,'Opłata abonamentowa'!D7:I7,0)) -> 1.92 | E43: =INDEX(#REF!,MATCH($C$14,#REF!),MATCH($C$6,#REF!)) -> #REF! | F43: zł na miesiąc
A44: Opłata przejściowa | B44: Cena sprzedaży energii | C44: =IF(C4<500,0.02,IF(C4<1200,0.1,0.33)) -> 0.33 | E44: 0.33 | F44: zł na miesiąc
A45: Opłata mocowa | B45: Roczna produkcja z 1 kWp | C45: =IF(C4<500,2.66,IF(C4<1200,6.39,IF(C4<2800,10.64,14.9))) -> 14.9 | E45: 13.25 | F45: zł na miesiąc
A46: Podatek VAT | C46: 0.23 | E46: 0.23 | F46: %
A47: Opłaty stałe brutto | C47: =SUM(C41:C46)*(1+C46) -> 29.3847 | D47: =(C41+D42+C43+C44+C45)*(1+C46) -> 33.5667 | E47: =(C41+E42+C43+C44+C45)*(1+C46) -> 33.5667 | F47: zł na miesiąc
A49: Dane fotowoltaiki | F49: ← Ta sekcja jest opcjonalna. Nie musisz jej wypełniać.
A50: Średnia cena sprzedaży energii | B50: Cena sprzedaży energii | C50: 0.4 | D50: zł/kWh (na podst. pse.pl) | F50: ← Do połowy 2024 prosumenci sprzedają energię po miesięcznej rynkowej cenie energii, od połowy po godzinowej rynkowej cenie energii. To narzędzie, z jedną zaledwie jedną średnią ceną, daje niedoskonały, ogólny obraz sytuacji. Obecnie tworzę nowe, bardziej precyzyjne narzędzie.
A51: Roczna produkcja z 1 kWp | B51: Roczna produkcja z 1 kWp | C51: 1000 | D51: kWh (na podst. PVGIS)
A53: ="Rachunek roczny za prąd "&C7&", taryfa "&C8 -> Rachunek roczny za prąd Enea, taryfa G11 | H53: 2. odczytuj wynik z pól na niebiesko
D54: Bez fotowoltaiki | E54: Z PV | F54: Więcej PV | G54: Z PV i magazynem energii | H54: Z PV i inteligentnym magazynem energii
A55: Wielkość instalacji PV [kWp] | E55: =INT(IF(C4/1000<2,2,C4/1000)) -> 8 | F55: =E55*1.25 -> 10 | G55: =F55 -> 10 | H55: =G55 -> 10
A56: Roczna produkcja z fotowoltaiki [kWh] | B56: Roczna produkcja z 1 kWp | E56: =E55*'Wyliczenia szczegółowe'!$C$51 -> 8000 | F56: =F55*'Wyliczenia szczegółowe'!$C$51 -> 10000 | G56: =G55*'Wyliczenia szczegółowe'!$C$51 -> 10000 | H56: =H55*'Wyliczenia szczegółowe'!$C$51 -> 10000
A57: Autokonsumpcja | B57: Roczna produkcja z 1 kWp | E57: 0.25 | F57: 0.24 | G57: 0.6 | H57: 0.6
A58: Roczny pobór energii [kWh] | B58: Roczna produkcja z 1 kWp | C58: Roczna produkcja z 1 kWp | D58: =$C$4-(D56*D57) -> 8000 | E58: =$C$4-(E56*E57) -> 6000 | F58: =$C$4-(F56*F57) -> 5600 | G58: =$C$4-(G56*G57) -> 2000 | H58: =$C$4-(H56*H57) -> 2000
A59: Czy półroczne zużycie wyższe od limitu? | B59: Roczna produkcja z 1 kWp | C59: Roczna produkcja z 1 kWp | D59: =IF($C$5<(D58/2),TRUE()) -> TRUE | E59: =IF($C$5<(E58/2),TRUE()) -> TRUE | F59: =IF($C$5<(F58/2),TRUE()) -> TRUE | G59: =IF($C$5<(G58/2),TRUE()) -> FALSE | H59: =IF($C$5<(H58/2),TRUE()) -> FALSE
A60: Dla sprzedawcy prądu | B60: Koszt energii czynnej netto | C60: Roczna produkcja z 1 kWp | D60: =IF(D59,($C$5*$C$24)+(((D58/2)-$C$5)*$D$24)+((D58/2)*$E$24),((D58/2)*$C$24)+((D58/2)*$E$24)) -> 4350.5 | E60: =IF(E59,($C$5*$C$24)+(((E58/2)-$C$5)*$D$24)+((E58/2)*$E$24),((E58/2)*$C$24)+((E58/2)*$E$24)) -> 3157.5 | F60: =IF(F59,($C$5*$C$24)+(((F58/2)-$C$5)*$D$24)+((F58/2)*$E$24),((F58/2)*$C$24)+((F58/2)*$E$24)) -> 2918.9 | G60: =IF(G59,($C$5*$C$24)+(((G58/2)-$C$5)*$D$24)+((G58/2)*$E$24),((G58/2)*$C$24)+((G58/2)*$E$24)) -> 912 | H60: =IF(H59,($C$5*$C$24)+(((H58/2)-$C$5)*$D$24)+((H58/2)*$E$24),((H58/2)*$C$24)+((H58/2)*$E$24)) -> 912
B61: Wartość podatku VAT dla sprzedawcy | D61: =D60*$C$33 -> 1000.615 | E61: =E60*$C$33 -> 726.225 | F61: =F60*$C$33 -> 671.347 | G61: =G60*$C$33 -> 209.76 | H61: =H60*$C$33 -> 209.76
B62: Koszt energii czynnej brutto | C62: Roczna produkcja z 1 kWp | D62: =D60+D61 -> 5351.115 | E62: =E60+E61 -> 3883.725 | F62: =F60+F61 -> 3590.247 | G62: =G60+G61 -> 1121.76 | H62: =H60+H61 -> 1121.76
B63: Zyski ze sprzedaży energii z PV | C63: Roczna produkcja z 1 kWp | D63: =D56*(1-D57)*'Wyliczenia szczegółowe'!$C$50 -> 0 | E63: =E56*(1-E57)*'Wyliczenia szczegółowe'!$C$50 -> 2400 | F63: =F56*(1-F57)*'Wyliczenia szczegółowe'!$C$50 -> 3040 | G63: =G56*(1-G57)*'Wyliczenia szczegółowe'!$C$50 -> 1600 | H63: =H56*(1-H57)*('Wyliczenia szczegółowe'!$C$50*1.75) -> 2800
B64: Ostateczna kwota dla sprzedawcy prądu | D64: =MAX(D62-D63,D63*-0.2) -> 5351.115 | E64: =MAX(E62-E63,E63*-0.2) -> 1483.725 | F64: =MAX(F62-F63,F63*-0.2) -> 550.247 | G64: =MAX(G62-G63,G63*-0.2) -> -320 | H64: =MAX(H62-H63,H63*-0.2) -> -560
A65: Dla dystrybutora, dodatkowe opłaty zmienne | B65: Opłata sieciowa zmienna (dystrybucja) | C65: Roczna produkcja z 1 kWp | D65: =IF(D59,($C$5*$C$28)+(((D58/2)-$C$5)*$D$28)+((D58/2)*$E$28),((D58/2)*$C$28)+((D58/2)*$E$28)) -> 1928.9 | E65: =IF(E59,($C$5*$C$28)+(((E58/2)-$C$5)*$D$28)+((E58/2)*$E$28),((E58/2)*$C$28)+((E58/2)*$E$28)) -> 1411.2 | F65: =IF(F59,($C$5*$C$28)+(((F58/2)-$C$5)*$D$28)+((F58/2)*$E$28),((F58/2)*$C$28)+((F58/2)*$E$28)) -> 1307.66 | G65: =IF(G59,($C$5*$C$28)+(((G58/2)-$C$5)*$D$28)+((G58/2)*$E$28),((G58/2)*$C$28)+((G58/2)*$E$28)) -> 423.1 | H65: =IF(H59,($C$5*$C$28)+(((H58/2)-$C$5)*$D$28)+((H58/2)*$E$28),((H58/2)*$C$28)+((H58/2)*$E$28)) -> 423.1
B66: Opłata jakościowa | C66: Roczna produkcja z 1 kWp | D66: =IF(D59,($C$5*$C$29)+(((D58/2)-$C$5)*$D$29)+((D58/2)*$E$29),((D58/2)*$C$29)+((D58/2)*$E$29)) -> 200.35 | E66: =IF(E59,($C$5*$C$29)+(((E58/2)-$C$5)*$D$29)+((E58/2)*$E$29),((E58/2)*$C$29)+((E58/2)*$E$29)) -> 144.75 | F66: =IF(F59,($C$5*$C$29)+(((F58/2)-$C$5)*$D$29)+((F58/2)*$E$29),((F58/2)*$C$29)+((F58/2)*$E$29)) -> 133.63 | G66: =IF(G59,($C$5*$C$29)+(((G58/2)-$C$5)*$D$29)+((G58/2)*$E$29),((G58/2)*$C$29)+((G58/2)*$E$29)) -> 40.9 | H66: =IF(H59,($C$5*$C$29)+(((H58/2)-$C$5)*$D$29)+((H58/2)*$E$29),((H58/2)*$C$29)+((H58/2)*$E$29)) -> 40.9
B67: Opłata OZE | C67: Roczna produkcja z 1 kWp | D67: =(D58*$E$30) -> 0 | E67: =(E58*$E$30) -> 0 | F67: =(F58*$E$30) -> 0 | G67: =(G58*$E$30) -> 0 | H67: =(H58*$E$30) -> 0
B68: Opłata kogeneracyjna | C68: Roczna produkcja z 1 kWp | D68: =(D58*$C$31) -> 49.44 | E68: =(E58*$E$31) -> 0 | F68: =(F58*$E$31) -> 0 | G68: =(G58*$E$31) -> 0 | H68: =(H58*$E$31) -> 0
B69: Akcyza | C69: Roczna produkcja z 1 kWp | D69: =(D58*$C$32) -> 40 | E69: =(E58*$E$32) -> 0 | F69: =(F58*$E$32) -> 0 | G69: =(G58*$E$32) -> 0 | H69: =(H58*$E$32) -> 0
B70: Średnie zużycie miesięczne | D70: =D58/12 -> 666.66667 | E70: =E58/12 -> 500 | F70: =F58/12 -> 466.66667 | G70: =G58/12 -> 166.66667 | H70: =H58/12 -> 166.66667
B71: Po ilu miesiącach przekracza się limit | D71: =IF(D59,ROUND($C$5/D70,0),6) -> 2 | E71: =IF(E59,ROUND($C$5/E70,0),6) -> 3 | F71: =IF(F59,ROUND($C$5/F70,0),6) -> 3 | G71: =IF(G59,ROUND($C$5/G70,0),6) -> 6 | H71: =IF(H59,ROUND($C$5/H70,0),6) -> 6
A72: Dla dystrybutora, opłaty stałe | B72: Opłata handlowa | C72: Cena sprzedaży energii | D72: =$C$41*12 -> 0 | E72: =$C$41*12 -> 0 | F72: =$C$41*12 -> 0 | G72: =$C$41*12 -> 0 | H72: =$C$41*12 -> 0
B73: Opłata sieciowa stała | C73: Roczna produkcja z 1 kWp | D73: =IF(D59,($C$42*D71)+((6-D71)*$D$42)+(6*$E$42),($C$42*D$71)+(6*$E$42)) -> 114.42 | E73: =IF(E59,($C$42*E71)+((6-E71)*$D$42)+(6*$E$42),($C$42*E$71)+(6*$E$42)) -> 110.79 | F73: =IF(F59,($C$42*F71)+((6-F71)*$D$42)+(6*$E$42),($C$42*F$71)+(6*$E$42)) -> 110.79 | G73: =IF(G59,($C$42*G71)+((6-G71)*$D$42)+(6*$E$42),($C$42*G$71)+(6*$E$42)) -> 99.9 | H73: =IF(H59,($C$42*H71)+((6-H71)*$D$42)+(6*$E$42),($C$42*H$71)+(6*$E$42)) -> 99.9
B74: Opłata abonamentowa | C74: Roczna produkcja z 1 kWp | D74: =$C$43*12 -> 23.04 | E74: =$C$43*12 -> 23.04 | F74: =$C$43*12 -> 23.04 | G74: =$C$43*12 -> 23.04 | H74: =$C$43*12 -> 23.04
B75: Opłata przejściowa | C75: Cena sprzedaży energii | D75: =$C$44*12 -> 3.96 | E75: =$C$44*12 -> 3.96 | F75: =$C$44*12 -> 3.96 | G75: =$C$44*12 -> 3.96 | H75: =$C$44*12 -> 3.96
B76: Opłata mocowa | C76: Roczna produkcja z 1 kWp | D76: =$C$45*12 -> 178.8 | E76: =$C$45*12 -> 178.8 | F76: =$C$45*12 -> 178.8 | G76: =$C$45*12 -> 178.8 | H76: =$C$45*12 -> 178.8
A77: Koszt dla dystrybutora netto | D77: =SUM(D65:D76)-D70-D71 -> 2538.91 | E77: =SUM(E65:E76)-E70-E71 -> 1872.54 | F77: =SUM(F65:F76)-F70-F71 -> 1757.88 | G77: =SUM(G65:G76)-G70-G71 -> 769.7 | H77: =SUM(H65:H76)-H70-H71 -> 769.7
A78: Wartość podatku VAT dla dystrybutora | D78: =D77*$C$46 -> 583.9493 | E78: =E77*$C$46 -> 430.6842 | F78: =F77*$C$46 -> 404.3124 | G78: =G77*$C$46 -> 177.031 | H78: =H77*$C$46 -> 177.031
A79: Ostateczna kwota dla dystrybutora brutto | B79: Opłata mocowa | C79: Roczna produkcja z 1 kWp | D79: =D77+D78 -> 3122.8593 | E79: =E77+E78 -> 2303.2242 | F79: =F77+F78 -> 2162.1924 | G79: =G77+G78 -> 946.731 | H79: =H77+H78 -> 946.731
A80: Roczne rachunki za prąd | B80: Roczna produkcja z 1 kWp | C80: Roczna produkcja z 1 kWp | D80: =D64+D79 -> 8473.9743 | E80: =E64+E79 -> 3786.9492 | F80: =F64+F79 -> 2712.4394 | G80: =G64+G79 -> 626.731 | H80: =H64+H79 -> 386.731
A81: Dzięki instalacji OZE oszczędzasz | B81: Roczna produkcja z 1 kWp | C81: Roczna produkcja z 1 kWp | D81: =D80-$D$80 -> 0 | E81: =E80-$D$80 -> -4687.0251 | F81: =F80-$D$80 -> -5761.5349 | G81: =G80-$D$80 -> -7847.2433 | H81: =H80-$D$80 -> -8087.2433
D83: =IF(C43="zły okres rozliczeniowy","BŁĄD! Proszę wybrać inny okres rozliczeniowy!",IF(D6="BŁĄD! Proszę wybrać inną taryfę lub dystrybutora","BŁĄD! Proszę wybrać inną taryfę lub dystrybutora",""))

Sheet PotatOS
C20: Lista dostępnych opcji sprzedawca prądu | D20: Lista dostępnych opcji dystrybutor prądu | E20: Lista dostępnych opcji Taryfa | F20: Lista dostępnych opcji okres rozliczeniowy | H20: Okres rozliczeniowy
C21: Enea | D21: Enea | E21: G11 | H21: 1-miesięczny
C22: Energa | D22: Energa | E22: G12 | G22: 1 | H22: 2-miesięczny
C23: PGE | D23: PGE | E23: G12w | H23: 6-miesięczny
C24: Tauron | D24: Stoen | E24: =VLOOKUP('Wyliczenia szczegółowe'!C7,PotatOS!D36:E39,2,0) -> G12p | H24: 12-miesięczny
D25: Tauron | E25: G13 | H25: zdalny odczyt 1-miesięczny
H26: zdalny odczyt 2-miesięczny
H27: G11p
H28: G12p
D34: Kto | E34: Taryfy: | F34: Dostępne okresy rozliczeniowe
D36: Enea | E36: G12p | F36: 1-miesięczny;2-miesięczny;6-miesięczny;12-miesięczny;G11p;G12p
D37: Energa | E37: G12r | F37: 1-miesięczny;2-miesięczny;zdalny odczyt 1-miesięczny; zdalny odczyt 2-miesięczny
D38: PGE | E38: G12n | F38: 1-miesięczny;2-miesięczny;6-miesięczny
D39: Tauron | E39: G13 | F39: 1-miesięczny;2-miesięczny;6-miesięczny;12-miesięczny

Sheet Struktura rachunku
B1: Rachunki za prąd dla nowych prosumentów (zasady 2024)
E2: 1. wpisuj dane w polach na żółto
A3: ="Skład rachunku za prąd przy poborze "&'Wyliczenia szczegółowe'!C4&" kWh rocznie" -> Skład rachunku za prąd przy poborze 8000 kWh rocznie | B3: Bez PV | C3: ="PV "&'Wyliczenia szczegółowe'!$E$55&" kWp" -> PV 8 kWp | D3: Wpływ fotowoltaiki:
A4: Energia czynna | B4: ='Wyliczenia szczegółowe'!D64 -> 5351.115 | C4: ='Wyliczenia szczegółowe'!E64 -> 1483.725 | D4: - Fotowoltaika USUWA tę opłatę, a czasami nawet zapewnia nadwyżkę
A5: Dodatkowe opłaty zmienne | B5: =SUM('Wyliczenia szczegółowe'!D65:D69) -> 2218.69 | C5: =SUM('Wyliczenia szczegółowe'!E65:E69) -> 1555.95 | D5: - Fotowoltaika ma WYRAŹNY BEZPOŚREDNI wpływ na tę opłatę
A6: Opłaty stałe | B6: =SUM('Wyliczenia szczegółowe'!D72:D76) -> 320.22 | C6: =SUM('Wyliczenia szczegółowe'!E72:E76) -> 316.59 | D6: - Fotowoltaika NIE MA BEZPOŚREDNIEGO WPŁYWU na tę opłatę
A7: Podatek VAT | B7: ='Wyliczenia szczegółowe'!D61+'Wyliczenia szczegółowe'!D78 -> 1584.5643 | C7: ='Wyliczenia szczegółowe'!E61+'Wyliczenia szczegółowe'!E78 -> 1156.9092 | D7: - Fotowoltaika ma WYRAŹNY BEZPOŚREDNI wpływ na tę opłatę

Sheet Dane kontaktowe i źródła
B4: Opis: Narzędzie do szacowania rachunków za prąd za rok 2024. Wyniki można zmodyfikować o fotowoltaikę.
B6: Autor: Dawid Kaczmarczyk
B7: Pomysłodawca: Krystian Stec, prezes firmy InteEnergia
B8: Wsparcie merytoryczne: Krystian Stec
B9: Główne źródło: Zatwierdzone taryfy przez Urząd Regulacji Energetyki
B11: W kolejnych wersjach: Profil produkcji z fotowoltaiki, profil poboru energii
B13: Masz sugestie, pomysły lub propozycje? Chcesz zostać sponsorem? Potrzebujesz pomocy?
B14: Napisz do mnie!
B16: dawkaczradiatus@gmail.com
B17: https://www.linkedin.com/in/dawid-kaczmarczyk-945246276/
B18: https://poradniaoze.com/
B20: Jak wesprzeć autora?
... B30: https://www.paypal.com/donate/?hosted_button_id=QRHRFCXLET73E

Sheet Koszt energii czynnej
C4: Koszt energii czynnej taryf G
C5: Cena do 30 czerwca 2024 do limitu
E6: Enea | F6: Energa | G6: PGE | H6: Stoen | I6: Tauron
C7: Cena do limitu do lipca 2024 | D7: CENA MAX decyzją rządu | E7: 0.412 | F7: 0.412 | G7: 0.412 | H7: ZŁY SPRZEDAWCA | I7: 0.412
D8: G11 | E8: 0.4142 | F8: 0.4131 | G8: 0.414 | H8: ZŁY SPRZEDAWCA | I8: 0.414
D9: G12 szczyt | E9: 0.5177 | F9: 0.4814 | G9: 0.4718 | H9: ZŁY SPRZEDAWCA | I9: 0.4929
D10: G12 poza szczytem | E10: 0.24 | F10: 0.3122 | G10: 0.2985 | H10: ZŁY SPRZEDAWCA | I10: 0.2763
D11: G12w szczyt | E11: 0.595 | F11: 0.5038 | G11: 0.4877 | H11: ZŁY SPRZEDAWCA | I11: 0.5024
D12: G12w poza szczytem | E12: 0.2504 | F12: 0.3278 | G12: 0.3429 | H12: ZŁY SPRZEDAWCA | I12: 0.3254
D13: G13 szczyt przed poł | E13: ZŁA TARYFA | F13: ZŁA TARYFA | G13: ZŁA TARYFA | H13: ZŁY SPRZEDAWCA | I13: 0.4556
D14: G13 szczyt po poł | E14: ZŁA TARYFA | F14: ZŁA TARYFA | G14: ZŁA TARYFA | H14: ZŁY SPRZEDAWCA | I14: 0.708
D15: G13 poza szczytem | E15: ZŁA TARYFA | F15: ZŁA TARYFA | G15: ZŁA TARYFA | H15: ZŁY SPRZEDAWCA | I15: 0.308
D16: G12r szczyt | E16: ZŁA TARYFA | F16: 0.5545 | G16: ZŁA TARYFA | H16: ZŁY SPRZEDAWCA | I16: ZŁA TARYFA
D17: G12r poza szczytem | E17: ZŁA TARYFA | F17: 0.2509 | G17: ZŁA TARYFA | H17: ZŁY SPRZEDAWCA | I17: ZŁA TARYFA
D18: G12n szczyt | E18: ZŁA TARYFA | F18: ZŁA TARYFA | G18: 0.4601 | H18: ZŁY SPRZEDAWCA | I18: ZŁA TARYFA
D19: G12n poza szczytem | E19: ZŁA TARYFA | F19: ZŁA TARYFA | G19: 0.3195 | H19: ZŁY SPRZEDAWCA | I19: ZŁA TARYFA
D20: G11p | E20: 0.4142 | F20: ZŁA TARYFA | G20: ZŁA TARYFA | H20: ZŁY SPRZEDAWCA | I20: ZŁA TARYFA
D21: G12p szczyt | E21: 0.5177 | F21: ZŁA TARYFA | G21: ZŁA TARYFA | H21: ZŁY SPRZEDAWCA | I21: ZŁA TARYFA
D22: G12p poza szczytem | E22: 0.24 | F22: ZŁA TARYFA | G22: ZŁA TARYFA | H22: ZŁY SPRZEDAWCA | I22: ZŁA TARYFA
C23: Cena do 30 czerwca 2024 powyżej limitu
E24: Enea | F24: Energa | G24: PGE | H24: Stoen | I24: Tauron
C25: Cena powyżej limitu do lipca 2024 | D25: CENA MAX decyzją rządu | E25: 0.693 | F25: 0.693 | G25: 0.693 | H25: ZŁY SPRZEDAWCA | I25: 0.693
D26: G11 | E26: 1.0567 | F26: 1.1318 | G26: 1.0584 | H26: ZŁY SPRZEDAWCA | I26: 1.119
D27: G12 szczyt | E27: 1.3236 | F27: 1.3189 | G27: 1.2003 | H27: ZŁY SPRZEDAWCA | I27: 1.3
D28: G12 poza szczytem | E28: 0.6068 | F28: 0.8549 | G28: 0.7581 | H28: ZŁY SPRZEDAWCA | I28: 0.775
D29: G12w szczyt | E29: 1.5232 | F29: 1.3798 | G29: 1.2413 | H29: ZŁY SPRZEDAWCA | I29: 1.354
D30: G12w poza szczytem | E30: 0.6337 | F30: 0.8977 | G30: 0.8735 | H30: ZŁY SPRZEDAWCA | I30: 0.758
D31: G13 szczyt przed poł | E31: ZŁA TARYFA | F31: ZŁA TARYFA | G31: ZŁA TARYFA | H31: ZŁY SPRZEDAWCA | I31: 1.15
D32: G13 szczyt po poł | E32: ZŁA TARYFA | F32: ZŁA TARYFA | G32: ZŁA TARYFA | H32: ZŁY SPRZEDAWCA | I32: 1.601
D33: G13 poza szczytem | E33: ZŁA TARYFA | F33: ZŁA TARYFA | G33: ZŁA TARYFA | H33: ZŁY SPRZEDAWCA | I33: 0.803
D34: G12r szczyt | E34: ZŁA TARYFA | F34: 1.5191 | G34: ZŁA TARYFA | H34: ZŁY SPRZEDAWCA | I34: ZŁA TARYFA
D35: G12r poza szczytem | E35: ZŁA TARYFA | F35: 0.6874 | G35: ZŁA TARYFA | H35: ZŁY SPRZEDAWCA | I35: ZŁA TARYFA
D36: G12n szczyt | E36: ZŁA TARYFA | F36: ZŁA TARYFA | G36: 1.1828 | H36: ZŁY SPRZEDAWCA | I36: ZŁA TARYFA
D37: G12n poza szczytem | E37: ZŁA TARYFA | F37: ZŁA TARYFA | G37: 0.8127 | H37: ZŁY SPRZEDAWCA | I37: ZŁA TARYFA
D38: G11p | E38: 1.0567 | F38: ZŁA TARYFA | G38: ZŁA TARYFA | H38: ZŁY SPRZEDAWCA | I38: ZŁA TARYFA
D39: G12p szczyt | E39: 1.3236 | F39: ZŁA TARYFA | G39: ZŁA TARYFA | H39: ZŁY SPRZEDAWCA | I39: ZŁA TARYFA
D40: G12p poza szczytem | E40: 0.6068 | F40: ZŁA TARYFA | G40: ZŁA TARYFA | H40: ZŁY SPRZEDAWCA | I40: ZŁA TARYFA
C41: Cena od 1 lipca 2024
E42: Enea | F42: Energa | G42: PGE | H42: Stoen | I42: Tauron
C43: Cena od lipca 2024 | D43: G11 | E43: 0.7438 | F43: 0.7414 | G43: 0.7441 | H43: ZŁY SPRZEDAWCA | I43: 0.7425
D44: G12 szczyt | E44: 0.909 | F44: 0.864 | G44: 0.8462 | H44: ZŁY SPRZEDAWCA | I44: 0.927
D45: G12 poza szczytem | E45: 0.4571 | F45: 0.56 | G45: 0.5356 | H45: ZŁY SPRZEDAWCA | I45: 0.476
D46: G12w szczyt | E46: 1.0256 | F46: 0.9039 | G46: 0.8751 | H46: ZŁY SPRZEDAWCA | I46: 1.138
D47: G12w poza szczytem | E47: 0.4761 | F47: 0.588 | G47: 0.6158 | H47: ZŁY SPRZEDAWCA | I47: 0.476
D48: G13 szczyt przed poł | E48: ZŁA TARYFA | F48: ZŁA TARYFA | G48: ZŁA TARYFA | H48: ZŁY SPRZEDAWCA | I48: 0.846
D49: G13 szczyt po poł | E49: ZŁA TARYFA | F49: ZŁA TARYFA | G49: ZŁA TARYFA | H49: ZŁY SPRZEDAWCA | I49: 1.309
D50: G13 poza szczytem | E50: ZŁA TARYFA | F50: ZŁA TARYFA | G50: ZŁA TARYFA | H50: ZŁY SPRZEDAWCA | I50: 0.56
D51: G12r szczyt | E51: ZŁA TARYFA | F51: 0.9951 | G51: ZŁA TARYFA | H51: ZŁY SPRZEDAWCA | I51: ZŁA TARYFA
D52: G12r poza szczytem | E52: ZŁA TARYFA | F52: 0.4503 | G52: ZŁA TARYFA | H52: ZŁY SPRZEDAWCA | I52: ZŁA TARYFA
D53: G12n szczyt | E53: ZŁA TARYFA | F53: ZŁA TARYFA | G53: 0.8386 | H53: ZŁY SPRZEDAWCA | I53: ZŁA TARYFA
D54: G12n poza szczytem | E54: ZŁA TARYFA | F54: ZŁA TARYFA | G54: 0.577 | H54: ZŁY SPRZEDAWCA | I54: ZŁA TARYFA
D55: G11p | E55: 0.7438 | F55: ZŁA TARYFA | G55: ZŁA TARYFA | H55: ZŁY SPRZEDAWCA | I55: ZŁA TARYFA
D56: G12p szczyt | E56: 0.909 | F56: ZŁA TARYFA | G56: ZŁA TARYFA | H56: ZŁY SPRZEDAWCA | I56: ZŁA TARYFA
D57: G12p poza szczytem | E57: 0.4571 | F57: ZŁA TARYFA | G57: ZŁA TARYFA | H57: ZŁY SPRZEDAWCA | I57: ZŁA TARYFA
D58: Max cena decyzją rządu | E58: 0.5 | F58: 0.5 | G58: 0.5 | H58: 0.5 | I58: 0.5

Sheet Składnik zmienny
C3: Składnik zmienny stawki sieciowej dla taryf G
C4: Do 30 czerwca 2024 do limitu
D5: Enea | E5: Energa | F5: PGE | G5: Stoen | H5: Tauron
C6: G11 | D6: 0.1745 | E6: 0.244 | F6: 0.2223 | G6: 0.1459 | H6: 0.1824
C7: G12 szczyt | D7: 0.1978 | E7: 0.2691 | F7: 0.257 | G7: 0.1586 | H7: 0.1969
C8: G12 poza szczytem | D8: 0.0651 | E8: 0.0582 | F8: 0.0496 | G8: 0.0345 | H8: 0.0516
C9: G12w szczyt | D9: 0.1921 | E9: 0.2823 | F9: 0.2722 | G9: 0.1602 | H9: 0.2272
C10: G12w poza szczytem | D10: 0.0579 | E10: 0.0595 | F10: 0.0541 | G10: 0.0673 | H10: 0.0373
C11: G12as szczyt | D11: 0.1745 | E11: 0.244 | F11: 0.2223 | G11: 0.1459 | H11: 0.1824
C12: G12as poza szczytem | D12: 0.1745 | E12: 0.244 | F12: 0.2223 | G12: 0.1459 | H12: 0.1824
C13: G13 szczyt przed poł | D13: ZŁA TARYFA | E13: ZŁA TARYFA | F13: ZŁA TARYFA | G13: ZŁA TARYFA | H13: 0.1361
C14: G13 szczyt po poł | D14: ZŁA TARYFA | E14: ZŁA TARYFA | F14: ZŁA TARYFA | G14: ZŁA TARYFA | H14: 0.2408
C15: G13 poza szczytem | D15: ZŁA TARYFA | E15: ZŁA TARYFA | F15: ZŁA TARYFA | G15: ZŁA TARYFA | H15: 0.0253
C16: G12n szczyt | D16: ZŁA TARYFA | E16: ZŁA TARYFA | F16: 0.2224 | G16: ZŁA TARYFA | H16: ZŁA TARYFA
C17: G12n poza szczytem | D17: ZŁA TARYFA | E17: ZŁA TARYFA | F17: 0.0399 | G17: ZŁA TARYFA | H17: ZŁA TARYFA
C18: G11p | D18: 0.1745 | E18: ZŁA TARYFA | F18: ZŁA TARYFA | G18: ZŁA TARYFA | H18: ZŁA TARYFA
C19: G12p szczyt | D19: 0.1978 | E19: ZŁA TARYFA | F19: ZŁA TARYFA | G19: ZŁA TARYFA | H19: ZŁA TARYFA
C20: G12p poza szczytem | D20: 0.0651 | E20: ZŁA TARYFA | F20: ZŁA TARYFA | G20: ZŁA TARYFA | H20: ZŁA TARYFA
C21: Do 30 czerwca 2024 powyżej limitu
D22: Enea | E22: Energa | F22: PGE | G22: Stoen | H22: Tauron
C23: G11 | D23: 0.2691 | E23: 0.353 | F23: 0.3488 | G23: 0.2244 | H23: 0.272
C24: G12 szczyt | D24: 0.305 | E24: 0.3894 | F24: 0.4032 | G24: 0.2439 | H24: 0.3117
C25: G12 poza szczytem | D25: 0.1004 | E25: 0.0842 | F25: 0.0777 | G25: 0.0531 | H25: 0.0774
C26: G12w szczyt | D26: 0.2962 | E26: 0.4082 | F26: 0.4273 | G26: 0.2464 | H26: 0.3521
C27: G12w poza szczytem | D27: 0.0893 | E27: 0.086 | F27: 0.085 | G27: 0.1035 | H27: 0.058
C28: G12as szczyt | D28: 0.2691 | E28: 0.353 | F28: 0.0344 | G28: 0.2244 | H28: 0.272
C29: G12as poza szczytem | D29: 0.2691 | E29: 0.353 | F29: 0.3488 | G29: 0.2244 | H29: 0.272
C30: G13 szczyt przed poł | D30: ZŁA TARYFA | E30: ZŁA TARYFA | F30: ZŁA TARYFA | G30: ZŁA TARYFA | H30: 0.2042
C31: G13 szczyt po poł | D31: ZŁA TARYFA | E31: ZŁA TARYFA | F31: ZŁA TARYFA | G31: ZŁA TARYFA | H31: 0.3613
C32: G13 poza szczytem | D32: ZŁA TARYFA | E32: ZŁA TARYFA | F32: ZŁA TARYFA | G32: ZŁA TARYFA | H32: 0.0378
C33: G12n szczyt | D33: ZŁA TARYFA | E33: ZŁA TARYFA | F33: 0.349 | G33: ZŁA TARYFA | H33: ZŁA TARYFA
C34: G12n poza szczytem | D34: ZŁA TARYFA | E34: ZŁA TARYFA | F34: 0.0613 | G34: ZŁA TARYFA | H34: ZŁA TARYFA
C35: G11p | D35: 0.2691 | E35: ZŁA TARYFA | F35: ZŁA TARYFA | G35: ZŁA TARYFA | H35: ZŁA TARYFA
C36: G12p szczyt | D36: 0.305 | E36: ZŁA TARYFA | F36: ZŁA TARYFA | G36: ZŁA TARYFA | H36: ZŁA TARYFA
C37: G12p poza szczytem | D37: 0.1004 | E37: ZŁA TARYFA | F37: ZŁA TARYFA | G37: ZŁA TARYFA | H37: ZŁA TARYFA
C38: Do 30 czerwca 2024 powyżej limitu
D39: Enea | E39: Energa | F39: PGE | G39: Stoen | H39: Tauron
C40: G11 | D40: 0.2486 | E40: 0.3469 | F40: 0.35 | G40: 0.2244 | H40: 0.2573
C41: G12 szczyt | D41: 0.2817 | E41: 0.3827 | F41: 0.405 | G41: 0.2439 | H41: 0.2934
C42: G12 poza szczytem | D42: 0.0927 | E42: 0.0827 | F42: 0.078 | G42: 0.0531 | H42: 0.0618
C43: G12w szczyt | D43: 0.2736 | E43: 0.4011 | F43: 0.431 | G43: 0.2464 | H43: 0.3314
C44: G12w poza szczytem | D44: 0.0825 | E44: 0.0845 | F44: 0.086 | G44: 0.1035 | H44: 0.0527
C45: G12as szczyt | D45: 0.2486 | E45: 0.3469 | F45: 0.35 | G45: 0.2244 | H45: 0.2573
C46: G12as poza szczytem | D46: 0.2486 | E46: 0.3469 | F46: 0.35 | G46: 0.2244 | H46: 0.2573
C47: G13 szczyt przed poł | D47: ZŁA TARYFA | E47: ZŁA TARYFA | F47: ZŁA TARYFA | G47: ZŁA TARYFA | H47: 0.1361
C48: G13 szczyt po poł | D48: ZŁA TARYFA | E48: ZŁA TARYFA | F48: ZŁA TARYFA | G48: ZŁA TARYFA | H48: 0.2408
C49: G13 poza szczytem | D49: ZŁA TARYFA | E49: ZŁA TARYFA | F49: ZŁA TARYFA | G49: ZŁA TARYFA | H49: 0.0253
C50: G12n szczyt | D50: ZŁA TARYFA | E50: ZŁA TARYFA | F50: 0.351 | G50: ZŁA TARYFA | H50: ZŁA TARYFA
C51: G12n poza szczytem | D51: ZŁA TARYFA | E51: ZŁA TARYFA | F51: 0.0615 | G51: ZŁA TARYFA | H51: ZŁA TARYFA
C52: G11p | D52: 0.2486 | E52: ZŁA TARYFA | F52: ZŁA TARYFA | G52: ZŁA TARYFA | H52: ZŁA TARYFA
C53: G12p szczyt | D53: 0.2817 | E53: ZŁA TARYFA | F53: ZŁA TARYFA | G53: ZŁA TARYFA | H53: ZŁA TARYFA
C54: G12p poza szczytem | D54: 0.0927 | E54: ZŁA TARYFA | F54: ZŁA TARYFA | G54: ZŁA TARYFA | H54: ZŁA TARYFA

Sheet Składnik stały
C3: Składnik stały stawki sieciowej taryf G
C4: Do 30 czerwca 2024 do limitu
D5: Enea | E5: Energa | F5: PGE | G5: Stoen | H5: Tauron
C6: G11 jednofazowy | D6: 4.66 | E6: 5.26 | F6: 3.39 | G6: 7 | H6: 3.62
C7: G11 trójfazowy | D7: 6.51 | E7: 7.91 | F7: 6.56 | G7: 11.32 | H7: 6.43
C8: G12 jednofazowy | D8: 6 | E8: 9.64 | F8: 5.16 | G8: 7 | H8: 5.28
C9: G12 trójfazowy | D9: 9.11 | E9: 13.55 | F9: 9.25 | G9: 11.32 | H9: 7.95
C10: G12w jednofazowy | D10: 10.54 | E10: 9.64 | F10: 5.5 | G10: 7 | H10: 5.28
C11: G12w trójfazowy | D11: 15.76 | E11: 13.55 | F11: 9.83 | G11: 11.32 | H11: 7.95
C12: G12as jednofazowy | D12: 9.32 | E12: 10.52 | F12: 6.78 | G12: 14 | H12: 7.64
C13: G12as trójfazowy | D13: 13.02 | E13: 15.82 | F13: 13.12 | G13: 22.64 | H13: 12.88
C14: G11p jednofazowy | D14: 4.66 | E14: ZŁA TARYFA | F14: ZŁA TARYFA | G14: ZŁA TARYFA | H14: ZŁA TARYFA
C15: G11p trójfazowy | D15: 6.51 | E15: ZŁA TARYFA | F15: ZŁA TARYFA | G15: ZŁA TARYFA | H15: ZŁA TARYFA
C16: G12p jednofazowy | D16: 6 | E16: ZŁA TARYFA | F16: ZŁA TARYFA | G16: ZŁA TARYFA | H16: ZŁA TARYFA
C17: G12p trójfazowy | D17: 9.11 | E17: ZŁA TARYFA | F17: ZŁA TARYFA | G17: ZŁA TARYFA | H17: ZŁA TARYFA
C18: G12r jednofazowy | D18: ZŁA TARYFA | E18: 9.64 | F18: ZŁA TARYFA | G18: ZŁA TARYFA | H18: ZŁA TARYFA
C19: G12r trójfazowy | D19: ZŁA TARYFA | E19: 13.55 | F19: ZŁA TARYFA | G19: ZŁA TARYFA | H19: ZŁA TARYFA
C20: G12n jednofazowy | D20: ZŁA TARYFA | E20: ZŁA TARYFA | F20: 5.16 | G20: ZŁA TARYFA | H20: ZŁA TARYFA
C21: G12n trójfazowy | D21: ZŁA TARYFA | E21: ZŁA TARYFA | F21: 9.25 | G21: ZŁA TARYFA | H21: ZŁA TARYFA
C22: G13 jednofazowy | D22: ZŁA TARYFA | E22: ZŁA TARYFA | F22: ZŁA TARYFA | G22: ZŁA TARYFA | H22: 5.28
C23: G13 trójfazowy | D23: ZŁA TARYFA | E23: ZŁA TARYFA | F23: ZŁA TARYFA | G23: ZŁA TARYFA | H23: 7.95
C24: Do 30 czerwca 2024 powyżej limitu
D25: Enea | E25: Energa | F25: PGE | G25: Stoen | H25: Tauron
C26: G11 jednofazowy | D26: 7.25 | E26: 7.68 | F26: 5.5 | G26: 10.84 | H26: 6.12
C27: G11 trójfazowy | D27: 10.14 | E27: 11.54 | F27: 9.99 | G27: 17.53 | H27: 10.3
C28: G12 jednofazowy | D28: 9.34 | E28: 14.07 | F28: 8.5 | G28: 10.84 | H28: 7.9
C29: G12 trójfazowy | D29: 14.18 | E29: 19.77 | F29: 14.4 | G29: 17.53 | H29: 11.92
C30: G12w jednofazowy | D30: 16.41 | E30: 14.07 | F30: 9.15 | G30: 10.84 | H30: 7.9
C31: G12w trójfazowy | D31: 24.54 | E31: 19.77 | F31: 14.98 | G31: 17.53 | H31: 11.92
C32: G12as jednofazowy | D32: 14.5 | E32: 15.36 | F32: 11 | G32: 21.68 | H32: 12.24
C33: G12as trójfazowy | D33: 20.28 | E33: 23.08 | F33: 19.98 | G33: 35.06 | H33: 20.6
C34: G11p jednofazowy | D34: 7.25 | E34: ZŁA TARYFA | F34: ZŁA TARYFA | G34: ZŁA TARYFA | H34: ZŁA TARYFA
C35: G11p trójfazowy | D35: 10.14 | E35: ZŁA TARYFA | F35: ZŁA TARYFA | G35: ZŁA TARYFA | H35: ZŁA TARYFA
C36: G12p jednofazowy | D36: 9.34 | E36: ZŁA TARYFA | F36: ZŁA TARYFA | G36: ZŁA TARYFA | H36: ZŁA TARYFA
C37: G12p trójfazowy | D37: 14.18 | E37: ZŁA TARYFA | F37: ZŁA TARYFA | G37: ZŁA TARYFA | H37: ZŁA TARYFA
C38: G12r jednofazowy | D38: ZŁA TARYFA | E38: 14.07 | F38: ZŁA TARYFA | G38: ZŁA TARYFA | H38: ZŁA TARYFA
C39: G12r trójfazowy | D39: ZŁA TARYFA | E39: 19.77 | F39: ZŁA TARYFA | G39: ZŁA TARYFA | H39: ZŁA TARYFA
C40: G12n jednofazowy | D40: ZŁA TARYFA | E40: ZŁA TARYFA | F40: 8.5 | G40: ZŁA TARYFA | H40: ZŁA TARYFA
C41: G12n trójfazowy | D41: ZŁA TARYFA | E41: ZŁA TARYFA | F41: 14.4 | G41: ZŁA TARYFA | H41: ZŁA TARYFA
C42: G13 jednofazowy | D42: ZŁA TARYFA | E42: ZŁA TARYFA | F42: ZŁA TARYFA | G42: ZŁA TARYFA | H42: 7.9
C43: G13 trójfazowy | D43: ZŁA TARYFA | E43: ZŁA TARYFA | F43: ZŁA TARYFA | G43: ZŁA TARYFA | H43: 11.92
C44: Od 1 lipca 2024
D45: Enea | E45: Energa | F45: PGE | G45: Stoen | H45: Tauron
C46: G11 jednofazowy | D46: 7.25 | E46: 7.68 | F46: 5.5 | G46: 10.95 | H46: 7.02
C47: G11 trójfazowy | D47: 10.14 | E47: 11.54 | F47: 9.99 | G47: 17.71 | H47: 10.34
C48: G12 jednofazowy | D48: 9.34 | E48: 14.07 | F48: 8.5 | G48: 10.95 | H48: 7.02
C49: G12 trójfazowy | D49: 14.18 | E49: 19.77 | F49: 14.4 | G49: 17.71 | H49: 10.34
C50: G12w jednofazowy | D50: 16.41 | E50: 14.07 | F50: 9.15 | G50: 10.95 | H50: 7.02
C51: G12w trójfazowy | D51: 24.54 | E51: 19.77 | F51: 14.98 | G51: 17.71 | H51: 10.34
C52: G12as jednofazowy | D52: 14.5 | E52: 15.36 | F52: 11 | G52: 21.9 | H52: 14.04
C53: G12as trójfazowy | D53: 20.28 | E53: 23.08 | F53: 19.98 | G53: 35.42 | H53: 20.68
C54: G11p jednofazowy | D54: 7.25 | E54: ZŁA TARYFA | F54: ZŁA TARYFA | G54: ZŁA TARYFA | H54: ZŁA TARYFA
C55: G11p trójfazowy | D55: 10.14 | E55: ZŁA TARYFA | F55: ZŁA TARYFA | G55: ZŁA TARYFA | H55: ZŁA TARYFA
C56: G12p jednofazowy | D56: 9.34 | E56: ZŁA TARYFA | F56: ZŁA TARYFA | G56: ZŁA TARYFA | H56: ZŁA TARYFA
C57: G12p trójfazowy | D57: 14.18 | E57: ZŁA TARYFA | F57: ZŁA TARYFA | G57: ZŁA TARYFA | H57: ZŁA TARYFA
C58: G12r jednofazowy | D58: ZŁA TARYFA | E58: 14.07 | F58: ZŁA TARYFA | G58: ZŁA TARYFA | H58: ZŁA TARYFA
C59: G12r trójfazowy | D59: ZŁA TARYFA | E59: 19.77 | F59: ZŁA TARYFA | G59: ZŁA TARYFA | H59: ZŁA TARYFA
C60: G12n jednofazowy | D60: ZŁA TARYFA | E60: ZŁA TARYFA | F60: 8.5 | G60: ZŁA TARYFA | H60: ZŁA TARYFA
C61: G12n trójfazowy | D61: ZŁA TARYFA | E61: ZŁA TARYFA | F61: 14.4 | G61: ZŁA TARYFA | H61: ZŁA TARYFA
C62: G13 jednofazowy | D62: ZŁA TARYFA | E62: ZŁA TARYFA | F62: ZŁA TARYFA | G62: ZŁA TARYFA | H62: 7.02
C63: G13 trójfazowy | D63: ZŁA TARYFA | E63: ZŁA TARYFA | F63: ZŁA TARYFA | G63: ZŁA TARYFA | H63: 10.34

Sheet Opłata abonamentowa
C5: Opłata abonamentowa dla taryf G
D7: Okres rozliczeniowy | E7: Enea | F7: Energa | G7: PGE | H7: Stoen | I7: Tauron
D8: 1-miesięczny | E8: 3.84 | F8: 4.56 | G8: 4.5 | H8: 2.88 | I8: 4.56
D9: 2-miesięczny | E9: 1.92 | F9: 2.28 | G9: 2.25 | H9: zły okres rozliczeniowy | I9: 2.28
D10: 6-miesięczny | E10: 0.64 | F10: zły okres rozliczeniowy | G10: 0.75 | H10: 0.48 | I10: 0.76
D11: 12-miesięczny | E11: 0.32 | F11: zły okres rozliczeniowy | G11: zły okres rozliczeniowy | H11: 0.24 | I11: 0.38
D12: zdalny odczyt 1-miesięczny | E12: zły okres rozliczeniowy | F12: 0.74 | G12: zły okres rozliczeniowy | H12: zły okres rozliczeniowy | I12: zły okres rozliczeniowy
D13: zdalny odczyt 2-miesięczny | E13: zły okres rozliczeniowy | F13: 0.7 | G13: zły okres rozliczeniowy | H13: zły okres rozliczeniowy | I13: zły okres rozliczeniowy
D14: G11p | E14: 0.16 | F14: zły okres rozliczeniowy | G14: zły okres rozliczeniowy | H14: zły okres rozliczeniowy | I14: zły okres rozliczeniowy
D15: G12p | E15: 0.16 | F15: zły okres rozliczeniowy | G15: zły okres rozliczeniowy | H15: zły okres rozliczeniowy | I15: zły okres rozliczeniowy

Sheet Opłaty handlowe
D2: Gdzie znaleźć wysokość opłaty handlowej?
E4: Opłata handlowa | F4: Link
D5: Enea | E5: 0 | F5: https://www.enea.pl/dladomu/obsluga_klienta_i_kontakt/2023/taryfa-g-tpa_od-01.01.2023-wraz-z-inf-dodatkowa-o-cenach-ustawowych.pdf
D6: Energa | E6: 25 | F6: https://www.google.com/url?sa=t&rct=j&q=&esrc=s&source=web&cd=&cad=rja&uact=8&ved=2ahUKEwjKnt2Sx7z8AhXWUXcKHR8YDq0QFnoECAkQAQ&url=https%3A%2F%2Fwww.energa.pl%2Fdam%2Fjcr%3Abd64664d-e899-4dd6-9b3c-e16d762fcc7d%2FRegulamin%2520Oferty%2520Podstawowej%25202023%2520obowi%25C4%2585zuj%25C4%2585cy%2520od%25201%2520lipca%25202022.pdf&usg=AOvVaw3F5aKLStMQFwR31mN9ePze
D7: Tauron | E7: 20-59 zł | F7: https://www.google.com/url?sa=t&rct=j&q=&esrc=s&source=web&cd=&ved=2ahUKEwjjpbr-xbz8AhXN87sIHYbKBF0QFnoECBcQAQ&url=https%3A%2F%2Fwww.tauron.pl%2F-%2Fmedia%2Fformularze-i-wnioski%2Fpdf%2Fwoz-pzo%2Fts%2Fts-gd-woz-wniosek-o-zawarcie-umowy-e.ashx&usg=AOvVaw1cV458LIQxByaQtR_5XU-A
D8: PGE | E8: 8.7 | F8: https://www.google.com/url?sa=t&rct=j&q=&esrc=s&source=web&cd=&cad=rja&uact=8&ved=2ahUKEwiGk-_9xLz8AhUf8LsIHSLkCAoQFnoECCIQAQ&url=https%3A%2F%2Fwww.gkpge.pl%2Fcontent%2Fdownload%2F43ed98a0b92ebb379c4cd43bb38ee1fe%2Ffile%2FCennik%2520taryfowy%2520energii%2520elektrycznej%2520dla%2520Odbiorc%25C3%25B3w%2520z%2520grup%2520taryfowych%2520G%2C%2520spoza%2520obszaru%2520PGE%2520Dystrybucja%2520S.A.%2C%2520obowi%25C4%2585zuj%25C4%2585cy%2520od%25201.01.2023%2520r..pdf%3FinLanguage%3Dpol-PL%26version%3D3%26contentId%3D107982&usg=AOvVaw1pmpT6R6QQic9YLNaVopkD
