Workbook

Sheet Dane
A1: Godzinowe Rynkowe Ceny Energii z 2023
A4: Uwaga, arkusz jest otwarty do edycji w celu ułatwienia dalszej obróbki danych. Jednak ten arkusz pobrany z nieoficjalnego źródła może zawierać błędy.
A5: Oficjalne miejsce pobrania tego narzędzia to strona: https://poradniaoze.com/2024/01/01/godzinowe-rynkowe-ceny-energii-2023/
A6: Data | B6: Godzina | C6: Rynkowa Cena Energii [zł]
A7: 44927 | B7: 0 | C7: 100.88
A8: 44927.042 | B8: 0.041666667 | C8: 75.01
A9: 44927.083 | B9: 0.083333333 | C9: 29.43
A10: 44927.125 | B10: 0.125 | C10: 29.05
A11: 44927.167 | B11: 0.16666667 | C11: 29.26
A12: 44927.208 | B12: 0.20833333 | C12: 28.94
A13: 44927.25 | B13: 0.25 | C13: 29.74
A14: 44927.292 | B14: 0.29166667 | C14: 29.22
A15: 44927.333 | B15: 0.33333333 | C15: 32.97
A16: 44927.375 | B16: 0.375 | C16: 43.36
A17: 44927.417 | B17: 0.41666667 | C17: 43.4
A18: 44927.458 | B18: 0.45833333 | C18: 29.27
... A543: 44949.333 | B543: 0.33333333 | C543: 970.94
A544: 44949.375 | B544: 0.375 | C544: 1 044,11
A545: 44949.417 | B545: 0.41666667 | C545: 1 052,72
A546: 44949.458 | B546: 0.45833333 | C546: 1 038,15
A547: 44949.5 | B547: 0.5 | C547: 996.06
A548: 44949.542 | B548: 0.54166667 | C548: 971.97
A549: 44949.583 | B549: 0.58333333 | C549: 964.62
A550: 44949.625 | B550: 0.625 | C550: 958.06
A551: 44949.667 | B551: 0.66666667 | C551: 956.65
A552: 44949.708 | B552: 0.70833333 | C552: 999.27
A553: 44949.75 | B553: 0.75 | C553: 1 029,62
A554: 44949.792 | B554: 0.79166667 | C554: 984.25
A555: 44949.833 | B555: 0.83333333 | C555: 956.63
A556: 44949.875 | B556: 0.875 | C556: 941.22
A557: 44949.917 | B557: 0.91666667 | C557: 875.07
A558: 44949.958 | B558: 0.95833333 | C558: 813.21
A559: 44950 | B559: 0 | C559: 718.95
A560: 44950.042 | B560: 0.041666667 | C560: 784
A561: 44950.083 | B561: 0.083333333 | C561: 742.14
A562: 44950.125 | B562: 0.125 | C562: 740.35
A563: 44950.167 | B563: 0.16666667 | C563: 719.84
A564: 44950.208 | B564: 0.20833333 | C564: 741.4
A565: 44950.25 | B565: 0.25 | C565: 777.04
... A567: 44950.333 | B567: 0.33333333 | C567: 949.73
...

Sheet Analiza danych
A1: Analiza danych
A4: Miesiąc | B4: Średnia miesięczna RCE | C4: Dzień | D4: Średnie ceny w danej godzinie | AB4: Dzień
D5: 0 | E5: =D5+1 -> 1 | F5: =E5+1 -> 2 | G5: =F5+1 -> 3 | H5: =G5+1 -> 4 | I5: =H5+1 -> 5 | J5: =I5+1 -> 6 | K5: =J5+1 -> 7 | L5: =K5+1 -> 8 | ... AA5: =Z5+1 -> 23
A6: 1 | B6: 622.78 | C6: Roboczy | D6: 532.305 | E6: 519.56909 | F6: 499.00136 | G6: 489.5 | H6: 484.09773 | I6: 491.72455 | J6: 531.25955 | K6: 622.16227 | L6: 679.12545 | M6: 617.16227 | N6: 629.37455 | O6: 657.87955 | P6: 706.92545 | Q6: 699.56864 | R6: 715.44727 | S6: 716.73727 | T6: 726.20682 | U6: 746.34455 | V6: 703.23818 | W6: 736.32182 | X6: 732.51227 | Y6: 699.56773 | Z6: 640.72364 | AA6: 607.07909 | AB6: Roboczy
A7: 1 | C7: Sobota | D7: 615.98 | E7: 587.61 | F7: 578.3175 | G7: 545.9825 | H7: 549.9125 | I7: 545.1275 | J7: 592.895 | K7: 634.66 | L7: 717.895 | M7: 736.94 | N7: 750.0975 | O7: 737.5625 | P7: 740.1025 | Q7: 735.805 | R7: 744.31 | S7: 734.51 | T7: 751.615 | U7: 753.2225 | V7: 768.14 | W7: 743.3175 | X7: 745.055 | Y7: 688.745 | Z7: 623.5375 | AA7: 614.4025 | AB7: Sobota
A8: 1 | C8: Ndz./Św | D8: 612.634 | E8: 460.85 | F8: 435.24833 | G8: 413.52333 | H8: 418.58333 | I8: 411.235 | J8: 425.29667 | K8: 431.20833 | L8: 463.23 | M8: 474.94333 | N8: 500.995 | O8: 494.09 | P8: 513.355 | Q8: 497.69833 | R8: 524.16167 | S8: 533.87 | T8: 580.01667 | U8: 606.45667 | V8: 624.88 | W8: 591.72333 | X8: 582.44 | Y8: 547.395 | Z8: 526.45167 | AA8: 503.385 | AB8: Ndz./Św
A9: 2 | B9: 653.91 | C9: Roboczy | D9: 597.5165 | E9: 586.534 | F9: 565.6375 | G9: 563.4775 | H9: 563.339 | I9: 572.5975 | J9: 610.923 | K9: 676.347 | L9: 730.2765 | M9: 755.5975 | N9: 722.721 | O9: 676.9675 | P9: 654.1835 | Q9: 645.7395 | R9: 646.4245 | S9: 658.564 | T9: 694.1795 | U9: 747.936 | V9: 789.0405 | W9: 801.9045 | X9: 805.3945 | Y9: 763.6155 | Z9: 705.465 | AA9: 648.541 | AB9: Roboczy
A10: 2 | C10: Sobota | D10: 598.0525 | E10: 595.265 | F10: 575.58 | G10: 578.43 | H10: 579.1225 | I10: 585.8075 | J10: 627.2275 | K10: 716.0475 | L10: 741.43 | M10: 749.3625 | N10: 741.395 | O10: 695.87 | P10: 676.755 | Q10: 653.7775 | R10: 651.525 | S10: 647.175 | T10: 664.47 | U10: 680.1875 | V10: 702.125 | W10: 687.19 | X10: 670.2175 | Y10: 628.0325 | Z10: 578.695 | AA10: 564.2625 | AB10: Sobota
A11: 2 | C11: Ndz./Św | D11: 509.5225 | E11: 497.39 | F11: 476.175 | G11: 469.895 | H11: 468.685 | I11: 466.9825 | J11: 476.0025 | K11: 486.2725 | L11: 514.7525 | M11: 547.8 | N11: 566.97 | O11: 563.5575 | P11: 557.2125 | Q11: 553.87 | R11: 561.3525 | S11: 565.685 | T11: 575.395 | U11: 591.6675 | V11: 631.515 | W11: 638.38 | X11: 640.325 | Y11: 620.385 | Z11: 595.7275 | AA11: 591.3975 | AB11: Ndz./Św
A12: 3 | B12: 566.95 | C12: Roboczy | D12: 537.84636 | E12: 520.76091 | F12: 502.8881 | G12: 498.86091 | H12: 498.12273 | I12: 504.21091 | J12: 532.90636 | K12: 596.43136 | L12: 627.21227 | M12: 626.76909 | N12: 577.45909 | O12: 534.61455 | P12: 511.34591 | Q12: 502.84364 | R12: 505.61227 | S12: 515.27091 | T12: 553.52909 | U12: 607.36091 | V12: 677.40364 | W12: 719.53182 | X12: 727.88591 | Y12: 701.34864 | Z12: 628.17227 | AA12: 595.74364 | AB12: Roboczy
A13: 3 | C13: Sobota | D13: 562.99 | E13: 551.05 | F13: 539.078 | G13: 534.816 | H13: 531.59 | I13: 542.328 | J13: 567.76 | K13: 615.866 | L13: 646.242 | M13: 638.168 | N13: 598.552 | O13: 541.786 | P13: 515.692 | Q13: 506.078 | R13: 507.85 | S13: 522.238 | T13: 562.02 | U13: 619.324 | V13: 659.54 | W13: 683.658 | X13: 686.666 | Y13: 648.114 | Z13: 574.276 | AA13: 444.024 | AB13: Sobota
A14: 3 | C14: Ndz./Św | D14: 521.4275 | E14: 495.79 | F14: 477.5475 | G14: 469.1325 | H14: 462.8525 | I14: 471.28 | J14: 464.1175 | K14: 473.12 | L14: 485.535 | M14: 484.63 | N14: 484.29 | O14: 468.795 | P14: 448.35 | Q14: 449.465 | R14: 451.465 | S14: 458.46 | T14: 487.0625 | U14: 526.7425 | V14: 583.165 | W14: 619.8475 | X14: 625.015 | Y14: 598.835 | Z14: 562.0425 | AA14: 539.4825 | AB14: Ndz./Św
A15: 4 | B15: 571.69 | C15: Roboczy | D15: 575.36053 | E15: 554.10842 | F15: 538.37684 | G15: 529.21053 | H15: 527.08632 | I15: 535.05316 | J15: 549.88789 | K15: 607.74632 | L15: 643.79421 | M15: 630.99421 | N15: 572.79421 | O15: 535.56684 | P15: 516.69632 | Q15: 505.86895 | R15: 503.18684 | S15: 501.14632 | T15: 509.67789 | U15: 531.20947 | V15: 581.85842 | W15: 632.66632 | X15: 692.14526 | Y15: 701.04579 | Z15: 644.04105 | AA15: 588.56105 | AB15: Roboczy
A16: 4 | C16: Sobota | D16: 586.04 | E16: 583.155 | F16: 579.1975 | G16: 578.2025 | H16: 576.205 | I16: 584.7225 | J16: 597.3575 | K16: 642.0075 | L16: 665.18 | M16: 663.45 | N16: 619.9875 | O16: 568.3775 | P16: 554.4625 | Q16: 555.4975 | R16: 555.61 | S16: 557.7075 | T16: 577.68 | U16: 594.175 | V16: 610.19 | W16: 626.8925 | X16: 675.6425 | Y16: 700.06 | Z16: 625.485 | AA16: 608.09 | AB16: Sobota
A17: 4 | C17: Ndz./Św | D17: 581.50857 | E17: 572.87714 | F17: 557.79571 | G17: 556.63 | H17: 553.51714 | I17: 552.91 | J17: 545.16857 | K17: 550.61429 | L17: 556.27714 | M17: 553.56429 | N17: 533.60429 | O17: 511.09 | P17: 500.16 | Q17: 491.60143 | R17: 496.11714 | S17: 502.47 | T17: 514.38143 | U17: 535.30286 | V17: 567.78571 | W17: 584.15714 | X17: 613.39143 | Y17: 626.33143 | Z17: 599.42571 | AA17: 583.31143 | AB17: Ndz./Św
A18: 5 | B18: 479.46 | C18: Roboczy | D18: 483.642 | E18: 483.3525 | F18: 465.64 | G18: 462.339 | H18: 464.8195 | I18: 464.8295 | J18: 473.8015 | K18: 525.4935 | L18: 549.9825 | M18: 531.8845 | N18: 477.018 | O18: 416.3595 | P18: 396.2955 | Q18: 389.6595 | R18: 395.023 | S18: 406.6155 | T18: 431.841 | U18: 465.7495 | V18: 528.026 | W18: 586.314 | X18: 631.392 | Y18: 659.771 | Z18: 620.0715 | AA18: 519.861 | AB18: Roboczy
A19: 5 | C19: Sobota | D19: 501.2525 | E19: 496.6625 | F19: 495.3975 | G19: 496.77 | H19: 496.055 | I19: 498.3525 | J19: 496.25 | K19: 551.6425 | L19: 580.77 | M19: 558.435 | N19: 514.215 | O19: 434.8375 | P19: 419.8175 | Q19: 404.8975 | R19: 399.9725 | S19: 394.265 | T19: 404.135 | U19: 449.6525 | V19: 492.4925 | W19: 566.91 | X19: 628.3525 | Y19: 651.9975 | Z19: 615.7275 | AA19: 528.09 | AB19: Sobota
A20: 5 | C20: Ndz./Św | D20: 494.39571 | E20: 480.32429 | F20: 456.46714 | G20: 448.39 | H20: 446.34714 | I20: 444.22857 | J20: 435.00429 | K20: 457.50857 | L20: 458.49429 | M20: 424.32857 | N20: 357.16571 | O20: 310.63571 | P20: 282.02286 | Q20: 266.52143 | R20: 264.73857 | S20: 267.60571 | T20: 300.50857 | U20: 378.29143 | V20: 471.09714 | W20: 527.42 | X20: 558.2 | Y20: 579.29143 | Z20: 550.16714 | AA20: 506.35429 | AB20: Ndz./Św
A21: 6 | B21: 528.73 | C21: Roboczy | D21: 543.8505 | E21: 502.8905 | F21: 486.334 | G21: 486.165 | H21: 492.1005 | I21: 483.33 | J21: 490.839 | K21: 579.2695 | L21: 608.3695 | M21: 581.578 | N21: 511.8325 | O21: 450.889 | P21: 439.9875 | Q21: 440.483 | R21: 443.7795 | S21: 452.844 | T21: 493.237 | U21: 529.375 | V21: 590.573 | W21: 664.52 | X21: 704.685 | Y21: 723.0045 | Z21: 694.0235 | AA21: 646.3885 | AB21: Roboczy
A22: 6 | C22: Sobota | D22: 548.162 | E22: 498.126 | F22: 491.246 | G22: 487.486 | H22: 483.898 | I22: 484.784 | J22: 488.59 | K22: 594.968 | L22: 608.73 | M22: 602.068 | N22: 549.974 | O22: 514.03 | P22: 505.252 | Q22: 500.344 | R22: 493.958 | S22: 496.586 | T22: 516.2 | U22: 542.748 | V22: 570.226 | W22: 613.09 | X22: 637.656 | Y22: 650.818 | Z22: 634.478 | AA22: 469.06 | AB22: Sobota
A23: 6 | C23: Ndz./Św | D23: 509.928 | E23: 477.144 | F23: 459.98 | G23: 468.15 | H23: 466.126 | I23: 464.422 | J23: 466.732 | K23: 461.708 | L23: 460.914 | M23: 457.8 | N23: 426.17 | O23: 384.48 | P23: 365.114 | Q23: 354.88 | R23: 345.896 | S23: 325.418 | T23: 359.412 | U23: 413.364 | V23: 482.756 | W23: 529.108 | X23: 541.406 | Y23: 555.884 | Z23: 547.164 | AA23: 531.708 | AB23: Ndz./Św
A24: 7 | B24: 519.03 | C24: Roboczy | D24: 543.44045 | E24: 494.48955 | F24: 460.15773 | G24: 450.88682 | H24: 451.27227 | I24: 439.49591 | J24: 438.47545 | K24: 515.02955 | L24: 544.65955 | M24: 543.12273 | N24: 476.47 | O24: 411.61227 | P24: 402.08636 | Q24: 398.15136 | R24: 399.60636 | S24: 414.20182 | T24: 447.32364 | U24: 503.16182 | V24: 613.77591 | W24: 662.64182 | X24: 697.94136 | Y24: 715.82227 | Z24: 702.89773 | AA24: 633.28636 | AB24: Roboczy
A25: 7 | C25: Sobota | D25: 588.5575 | E25: 504.22 | F25: 466.3975 | G25: 461.44 | H25: 458.4375 | I25: 461.645 | J25: 461.9025 | K25: 632.835 | L25: 671.59 | M25: 691.75 | N25: 646.1525 | O25: 535.4875 | P25: 541.8775 | Q25: 537.715 | R25: 534.65 | S25: 520.215 | T25: 562.1 | U25: 611.9675 | V25: 693.7125 | W25: 703.8875 | X25: 739.8625 | Y25: 757.615 | Z25: 720.6 | AA25: 685.4725 | AB25: Sobota
A26: 7 | C26: Ndz./Św | D26: 581.22 | E26: 507.308 | F26: 483.208 | G26: 461.796 | H26: 460.904 | I26: 451.658 | J26: 454.742 | K26: 472.558 | L26: 485.654 | M26: 492.96 | N26: 462.178 | O26: 400.314 | P26: 370.014 | Q26: 353.848 | R26: 341.104 | S26: 344.672 | T26: 373.356 | U26: 447.988 | V26: 523.402 | W26: 565.202 | X26: 605.358 | Y26: 608.882 | Z26: 591.558 | AA26: 540.598 | AB26: Ndz./Św
A27: 8 | B27: 482.01 | C27: Roboczy | D27: 463.87682 | E27: 439.25955 | F27: 415.33273 | G27: 405.05864 | H27: 401.81045 | I27: 403.3 | J27: 408.15682 | K27: 480.85727 | L27: 508.33409 | M27: 501.05091 | N27: 455.97455 | O27: 413.79227 | P27: 402.19636 | Q27: 402.96909 | R27: 406.80727 | S27: 413.68409 | T27: 441.06864 | U27: 493.82545 | V27: 552.30091 | W27: 616.19955 | X27: 666.58273 | Y27: 677.63227 | Z27: 617.49636 | AA27: 518.21136 | AB27: Roboczy
A28: 8 | C28: Sobota | D28: 499.69 | E28: 470.2075 | F28: 451.95 | G28: 445.2025 | H28: 448.68 | I28: 450.52 | J28: 451.7775 | K28: 529.505 | L28: 574.8875 | M28: 551.4575 | N28: 509.6225 | O28: 479.54 | P28: 478.795 | Q28: 475.7975 | R28: 477.485 | S28: 480.145 | T28: 486.5325 | U28: 517.2675 | V28: 567.6775 | W28: 677.1075 | X28: 746.115 | Y28: 754.84 | Z28: 688.605 | AA28: 614.18 | AB28: Sobota
A29: 8 | C29: Ndz./Św | D29: 515.562 | E29: 485.732 | F29: 456.292 | G29: 447.39 | H29: 447.412 | I29: 443.844 | J29: 435.662 | K29: 436.22 | L29: 444.198 | M29: 442.544 | N29: 412.63 | O29: 346.776 | P29: 327.102 | Q29: 324.382 | R29: 322.352 | S29: 326.088 | T29: 379.59 | U29: 453.458 | V29: 510.816 | W29: 559.908 | X29: 566.436 | Y29: 587.448 | Z29: 549.594 | AA29: 508.28 | AB29: Ndz./Św
A30: 9 | B30: 508.3 | C30: Roboczy | D30: 468.308 | E30: 461.917 | F30: 446.932 | G30: 441.0545 | H30: 441.3455 | I30: 444.2345 | J30: 468.0055 | K30: 567.003 | L30: 626.4185 | M30: 572.8835 | N30: 485.4155 | O30: 417.9725 | P30: 376.2085 | Q30: 363.066 | R30: 366.9675 | S30: 384.018 | T30: 437.494 | U30: 502.9615 | V30: 627.133 | W30: 738.6425 | X30: 805.2965 | Y30: 762.2045 | Z30: 628.9215 | AA30: 530.5785 | AB30: Roboczy
A31: 9 | C31: Sobota | D31: 465.108 | E31: 449.116 | F31: 430.02 | G31: 417.316 | H31: 412.926 | I31: 425.74 | J31: 459.616 | K31: 563.746 | L31: 616.066 | M31: 563.532 | N31: 487.064 | O31: 431.062 | P31: 405.432 | Q31: 391.558 | R31: 388.456 | S31: 404.298 | T31: 449.456 | U31: 500.872 | V31: 652.43 | W31: 732.428 | X31: 818.166 | Y31: 761.03 | Z31: 619.462 | AA31: 527.55 | AB31: Sobota
A32: 9 | C32: Ndz./Św | D32: 473.63 | E32: 495.992 | F32: 477.83 | G32: 471.222 | H32: 466.17 | I32: 466.514 | J32: 471.858 | K32: 480.496 | L32: 489.756 | M32: 490.038 | N32: 468.116 | O32: 407.424 | P32: 353.454 | Q32: 323.09 | R32: 310.464 | S32: 322.556 | T32: 403.832 | U32: 481.526 | V32: 531.122 | W32: 610.098 | X32: 669.758 | Y32: 636.058 | Z32: 562.78 | AA32: 399.978 | AB32: Ndz./Św
A33: 10 | B33: 427.72 | C33: Roboczy | D33: 368.23958 | E33: 366.00696 | F33: 346.08348 | G33: 330.58652 | H33: 331.22652 | I33: 339.55261 | J33: 379.55217 | K33: 483.00783 | L33: 534.93217 | M33: 534.38261 | N33: 483.64913 | O33: 399.83391 | P33: 364.01174 | Q33: 347.69522 | R33: 349.39087 | S33: 368.33435 | T33: 418.3813 | U33: 496.87087 | V33: 582.89913 | W33: 632.96174 | X33: 649.4987 | Y33: 603.71783 | Z33: 502.26739 | AA33: 446.46783 | AB33: Roboczy
A34: 10 | C34: Sobota | D34: 440.955 | E34: 441.915 | F34: 418.4425 | G34: 405.6175 | H34: 400.27 | I34: 411.0175 | J34: 448.0725 | K34: 545.8775 | L34: 589.375 | M34: 581.5875 | N34: 538.335 | O34: 510.89 | P34: 497.2175 | Q34: 470.9425 | R34: 431.4675 | S34: 454.665 | T34: 480.865 | U34: 499.155 | V34: 512.6175 | W34: 520.3825 | X34: 525.73 | Y34: 477.1525 | Z34: 362.15 | AA34: 318.9925 | AB34: Sobota
A35: 10 | C35: Ndz./Św | D35: 232.3225 | E35: 160.2625 | F35: 157.255 | G35: 150.76 | H35: 153.3225 | I35: 157.525 | J35: 161.3925 | K35: 182.8325 | L35: 258.1425 | M35: 306.43 | N35: 315.585 | O35: 288.4575 | P35: 249.115 | Q35: 225.7275 | R35: 222.1325 | S35: 235.665 | T35: 274.18 | U35: 379.6275 | V35: 459.625 | W35: 530.4375 | X35: 525.985 | Y35: 484.81 | Z35: 418.085 | AA35: 356.0125 | AB35: Ndz./Św
A36: 11 | B36: 430.07 | C36: Roboczy | D36: 347.14714 | E36: 335.36762 | F36: 317.7519 | G36: 308.77476 | H36: 308.31143 | I36: 316.4819 | J36: 343.8381 | K36: 437.07857 | L36: 491.86952 | M36: 511.06762 | N36: 490.17333 | O36: 461.51143 | P36: 455.16905 | Q36: 456.89714 | R36: 472.95714 | S36: 505.43048 | T36: 539.27905 | U36: 568.43667 | V36: 571.98619 | W36: 561.7 | X36: 544.13095 | Y36: 501.50333 | Z36: 433.45905 | AA36: 383.63143 | AB36: Roboczy
A37: 11 | C37: Sobota | D37: 295.12 | E37: 258.73 | F37: 253.35 | G37: 235.8275 | H37: 235.105 | I37: 248.135 | J37: 273.65 | K37: 418.595 | L37: 454.2575 | M37: 481.45 | N37: 465.5975 | O37: 443.215 | P37: 442.525 | Q37: 440.8925 | R37: 458.57 | S37: 476.585 | T37: 516.8425 | U37: 546.0525 | V37: 559.125 | W37: 552.28 | X37: 543.3075 | Y37: 497.1125 | Z37: 438.525 | AA37: 431.8775 | AB37: Sobota
A38: 11 | C38: Ndz./Św | D38: 391.436 | E38: 330.716 | F38: 308.802 | G38: 293.954 | H38: 292.124 | I38: 291.298 | J38: 299.556 | K38: 325.93 | L38: 368.018 | M38: 385.442 | N38: 376.07 | O38: 348.342 | P38: 337.41 | Q38: 342.552 | R38: 355.398 | S38: 415.166 | T38: 454.636 | U38: 489.092 | V38: 505.582 | W38: 495.656 | X38: 488.45 | Y38: 443.866 | Z38: 390.654 | AA38: 324.412 | AB38: Ndz./Św
A39: 12 | B39: 347.37 | C39: Roboczy | D39: 285.88368 | E39: 271.43263 | F39: 257.73789 | G39: 249.46842 | H39: 250.59474 | I39: 257.36158 | J39: 283.66789 | K39: 354.51895 | L39: 404.16579 | M39: 444.38211 | N39: 448.23737 | O39: 447.01263 | P39: 446.32421 | Q39: 445.58263 | R39: 458.45105 | S39: 465.81842 | T39: 471.63421 | U39: 482.41684 | V39: 471.55737 | W39: 455.62316 | X39: 445.23316 | Y39: 409.65105 | Z39: 354.12947 | AA39: 323.40737 | AB39: Roboczy
A40: 12 | C40: Sobota | D40: 312.578 | E40: 277.794 | F40: 272.152 | G40: 269.918 | H40: 267.496 | I40: 266.236 | J40: 278.248 | K40: 372.754 | L40: 427.48 | M40: 458.522 | N40: 451.042 | O40: 421.126 | P40: 424.6 | Q40: 419.854 | R40: 427.202 | S40: 438.108 | T40: 451.384 | U40: 465.446 | V40: 455.162 | W40: 443.198 | X40: 430.354 | Y40: 389.582 | Z40: 326.554 | AA40: 318.278 | AB40: Sobota
A41: 12 | C41: Ndz./Św | D41: 200.1 | E41: 171.13714 | F41: 155.41857 | G41: 148.47286 | H41: 143.14 | I41: 141.34714 | J41: 147.95857 | K41: 161.43857 | L41: 189.36429 | M41: 219.63 | N41: 246.71429 | O41: 246.91286 | P41: 245.76 | Q41: 243.12429 | R41: 248.38143 | S41: 259.80143 | T41: 278.36571 | U41: 307.94714 | V41: 331.48 | W41: 326.55429 | X41: 312.87286 | Y41: 294.66 | Z41: 253.15714 | AA41: 215.12429 | AB41: Ndz./Św

Sheet Wykres dobowy
A1: Wykres dobowy
A4: Wpisz dzień z roku 2023: | B4: 45214
A5: Pokazać średnią roczną RCE? | B5: TAK | M5: Godzina | N5: Godzinowa Rynkowa Cena Energii | O5: =IF(B5="TAK","Średnia roczna RCE","") -> Średnia roczna RCE | P5: =IF(B$6="TAK","Średnia miesięczna RCE","") -> Średnia miesięczna RCE
A6: Pokazać średnią miesięczną RCE? | B6: TAK | L6: 0 | M6: =B$4+L6 -> 45214 | N6: =VLOOKUP(M6,Dane!A$6:C$10006,3) -> 119.58 | O6: =IF(B$5="TAK",510.258784555633,"") -> 510.25878 | P6: =IF(B$6="TAK",VLOOKUP(MONTH($B$4),'Analiza danych'!A$4:B$41,2,0),"") -> 427.72
L7: 0.041666667 | M7: =B$4+L7 -> 45214.042 | N7: =VLOOKUP(M7,Dane!A$6:C$10006,3) -> 29.49 | O7: =IF(B$5="TAK",510.258784555633,"") -> 510.25878 | P7: =IF(B$6="TAK",VLOOKUP(MONTH($B$4),'Analiza danych'!A$4:B$41,2,0),"") -> 427.72
L8: 0.083333333 | M8: =B$4+L8 -> 45214.083 | N8: =VLOOKUP(M8,Dane!A$6:C$10006,3) -> 0.37 | O8: =IF(B$5="TAK",510.258784555633,"") -> 510.25878 | P8: =IF(B$6="TAK",VLOOKUP(MONTH($B$4),'Analiza danych'!A$4:B$41,2,0),"") -> 427.72
L9: 0.125 | M9: =B$4+L9 -> 45214.125 | N9: =VLOOKUP(M9,Dane!A$6:C$10006,3) -> -3.84 | O9: =IF(B$5="TAK",510.258784555633,"") -> 510.25878 | P9: =IF(B$6="TAK",VLOOKUP(MONTH($B$4),'Analiza danych'!A$4:B$41,2,0),"") -> 427.72
L10: 0.16666667 | M10: =B$4+L10 -> 45214.167 | N10: =VLOOKUP(M10,Dane!A$6:C$10006,3) -> 1.22 | O10: =IF(B$5="TAK",510.258784555633,"") -> 510.25878 | P10: =IF(B$6="TAK",VLOOKUP(MONTH($B$4),'Analiza danych'!A$4:B$41,2,0),"") -> 427.72
L11: 0.20833333 | M11: =B$4+L11 -> 45214.208 | N11: =VLOOKUP(M11,Dane!A$6:C$10006,3) -> -4.23 | O11: =IF(B$5="TAK",510.258784555633,"") -> 510.25878 | P11: =IF(B$6="TAK",VLOOKUP(MONTH($B$4),'Analiza danych'!A$4:B$41,2,0),"") -> 427.72
L12: 0.25 | M12: =B$4+L12 -> 45214.25 | N12: =VLOOKUP(M12,Dane!A$6:C$10006,3) -> 6.06 | O12: =IF(B$5="TAK",510.258784555633,"") -> 510.25878 | P12: =IF(B$6="TAK",VLOOKUP(MONTH($B$4),'Analiza danych'!A$4:B$41,2,0),"") -> 427.72
L13: 0.29166667 | M13: =B$4+L13 -> 45214.292 | N13: =VLOOKUP(M13,Dane!A$6:C$10006,3) -> 4.75 | O13: =IF(B$5="TAK",510.258784555633,"") -> 510.25878 | P13: =IF(B$6="TAK",VLOOKUP(MONTH($B$4),'Analiza danych'!A$4:B$41,2,0),"") -> 427.72
L14: 0.33333333 | M14: =B$4+L14 -> 45214.333 | N14: =VLOOKUP(M14,Dane!A$6:C$10006,3) -> 0.34 | O14: =IF(B$5="TAK",510.258784555633,"") -> 510.25878 | P14: =IF(B$6="TAK",VLOOKUP(MONTH($B$4),'Analiza danych'!A$4:B$41,2,0),"") -> 427.72
L15: 0.375 | M15: =B$4+L15 -> 45214.375 | N15: =VLOOKUP(M15,Dane!A$6:C$10006,3) -> 1.33 | O15: =IF(B$5="TAK",510.258784555633,"") -> 510.25878 | P15: =IF(B$6="TAK",VLOOKUP(MONTH($B$4),'Analiza danych'!A$4:B$41,2,0),"") -> 427.72
L16: 0.41666667 | M16: =B$4+L16 -> 45214.417 | N16: =VLOOKUP(M16,Dane!A$6:C$10006,3) -> -6.76 | O16: =IF(B$5="TAK",510.258784555633,"") -> 510.25878 | P16: =IF(B$6="TAK",VLOOKUP(MONTH($B$4),'Analiza danych'!A$4:B$41,2,0),"") -> 427.72
L17: 0.45833333 | M17: =B$4+L17 -> 45214.458 | N17: =VLOOKUP(M17,Dane!A$6:C$10006,3) -> -16.51 | O17: =IF(B$5="TAK",510.258784555633,"") -> 510.25878 | P17: =IF(B$6="TAK",VLOOKUP(MONTH($B$4),'Analiza danych'!A$4:B$41,2,0),"") -> 427.72
L18: 0.5 | M18: =B$4+L18 -> 45214.5 | N18: =VLOOKUP(M18,Dane!A$6:C$10006,3) -> -25.14 | O18: =IF(B$5="TAK",510.258784555633,"") -> 510.25878 | P18: =IF(B$6="TAK",VLOOKUP(MONTH($B$4),'Analiza danych'!A$4:B$41,2,0),"") -> 427.72
... L29: 0.95833333 | M29: =B$4+L29 -> 45214.958 | N29: =VLOOKUP(M29,Dane!A$6:C$10006,3) -> 306.87 | O29: =IF(B$5="TAK",510.258784555633,"") -> 510.25878 | P29: =IF(B$6="TAK",VLOOKUP(MONTH($B$4),'Analiza danych'!A$4:B$41,2,0),"") -> 427.72

Sheet Dane kontaktowe i źródła
B4: Opis: Baza danych RCE – Rynkowych Cen Energii z każdej godziny roku 2022. Pomocne informacje dla inwestujących w PV i magazyny energii.
B6: Autor: Dawid Kaczmarczyk
B7: Główne źródło: Raporty dot. Rynkowej Ceny Energii z https://www.pse.pl/home
B9: Masz sugestie, pomysły lub propozycje? Potrzebujesz pomocy ze swoim projektem?
B10: Napisz do mnie!
B12: dawkaczradiatus@gmail.com
B13: https://www.linkedin.com/in/dawid-kaczmarczyk-945246276/
B15: Jak wesprzeć autora?
B17: Jeśli te informacje są dla Ciebie wartościowe, rozważ przekazanie darowizny w formie przelewu lub przez poniższy link Paypal. Ewentualnie umów się ze mną na kawę, zapraszam do Lublina, bywam też często w Poznaniu :)
B19: Przelew
B20: 27 1090 2688 0000 0001 5326 5948
B21: Sandander
... B25: https://www.paypal.com/donate/?hosted_button_id=QRHRFCXLET73E
