Workbook

Sheet Dane źródłowe
B1: Dane źródłowe pobrane z PVEL 2023 PV Module Reliability Scorecard (https://scorecard.pvel.com)
B3: // x – moduł przeszedł daną próbę i otrzymał status TOP PERFORMER
B5: Dane źródłowe z PVEL
D6: Próby niezawodności | I6: Test dodatkowy
B7: Producent | C7: Nazwa modułu | D7: TC | E7: DH | F7: MSS | G7: PID | H7: LID+LeTID | I7: PAN | J7: Rodzaj modułu | K7: Typ ogniwa | L7: Zakres mocy | M7: Ilość ogniw | N7: Szerokość wafla [mm] | O7: Lokacja fabryki | P7: Zbiorczy
D8: Zmiany temp | E8: Wilgoć | F8: Mikropęknięcia | G8: PID | H8: LID+LeTID
B9: ZNShine Solar | C9: ZXM7-SHLDD144-xxx/M | D9: x | E9: x | G9: x | H9: x | I9: x | J9: dwustronne - szkło/szkło | K9: p-type PERC | L9: 530-575W | M9: 144 | N9: 182 | O9: Kambodża | P9: ="-"&B9&"-"&C9&"-"&J9&"-"&K9&"-"&L9&"-"&M9&"-"&N9&"-"&O9&"-" -> -ZNShine Solar-ZXM7-SHLDD144-xxx/M-dwustronne - szkło/szkło-p-type PERC-530-575W-144-182-Kambodża-
B10: ZNShine Solar | C10: ZXM7-SHLDD132-xxx/M | D10: x | E10: x | G10: x | H10: x | J10: dwustronne - szkło/szkło | K10: p-type PERC | L10: 480-525W | M10: 132 | N10: 182 | O10: Kambodża | P10: ="-"&B10&"-"&C10&"-"&J10&"-"&K10&"-"&L10&"-"&M10&"-"&N10&"-"&O10&"-" -> -ZNShine Solar-ZXM7-SHLDD132-xxx/M-dwustronne - szkło/szkło-p-type PERC-480-525W-132-182-Kambodża-
B11: ZNShine Solar | C11: ZXM7-SHLDD120-xxx/M | D11: x | E11: x | G11: x | H11: x | J11: dwustronne - szkło/szkło | K11: p-type PERC | L11: 430-475W | M11: 120 | N11: 182 | O11: Kambodża | P11: ="-"&B11&"-"&C11&"-"&J11&"-"&K11&"-"&L11&"-"&M11&"-"&N11&"-"&O11&"-" -> -ZNShine Solar-ZXM7-SHLDD120-xxx/M-dwustronne - szkło/szkło-p-type PERC-430-475W-120-182-Kambodża-
B12: ZNShine Solar | C12: ZXM7-SHLDD108-xxx/M | D12: x | E12: x | G12: x | H12: x | J12: dwustronne - szkło/szkło | K12: p-type PERC | L12: 380-425W | M12: 108 | N12: 182 | O12: Kambodża | P12: ="-"&B12&"-"&C12&"-"&J12&"-"&K12&"-"&L12&"-"&M12&"-"&N12&"-"&O12&"-" -> -ZNShine Solar-ZXM7-SHLDD108-xxx/M-dwustronne - szkło/szkło-p-type PERC-380-425W-108-182-Kambodża-
B13: Yingli Solar | C13: YLxxxDF72 e/2 | D13: x | E13: x | F13: x | G13: x | H13: x | I13: x | J13: dwustronne - szkło/szkło | K13: p-type PERC | L13: 530-575W | M13: 144 | N13: 182 | O13: Chiny | P13: ="-"&B13&"-"&C13&"-"&J13&"-"&K13&"-"&L13&"-"&M13&"-"&N13&"-"&O13&"-" -> -Yingli Solar-YLxxxDF72 e/2-dwustronne - szkło/szkło-p-type PERC-530-575W-144-182-Chiny-
B14: Yingli Solar | C14: YLxxxDF54 e/2 | D14: x | E14: x | F14: x | G14: x | H14: x | J14: dwustronne - szkło/szkło | K14: p-type PERC | L14: 380-425W | M14: 108 | N14: 182 | O14: Chiny | P14: ="-"&B14&"-"&C14&"-"&J14&"-"&K14&"-"&L14&"-"&M14&"-"&N14&"-"&O14&"-" -> -Yingli Solar-YLxxxDF54 e/2-dwustronne - szkło/szkło-p-type PERC-380-425W-108-182-Chiny-
B15: Yingli Solar | C15: YLxxxD-49e 1/2 | H15: x | J15: jednostronne - szkło/folia | K15: p-type PERC | L15: 530-575W | M15: 144 | N15: 182 | O15: Chiny | P15: ="-"&B15&"-"&C15&"-"&J15&"-"&K15&"-"&L15&"-"&M15&"-"&N15&"-"&O15&"-" -> -Yingli Solar-YLxxxD-49e 1/2-jednostronne - szkło/folia-p-type PERC-530-575W-144-182-Chiny-
B16: Yingli Solar | C16: YLxxxD-37e 1/2 | H16: x | J16: jednostronne - szkło/folia | K16: p-type PERC | L16: 380-425W | M16: 108 | N16: 182 | O16: Chiny | P16: ="-"&B16&"-"&C16&"-"&J16&"-"&K16&"-"&L16&"-"&M16&"-"&N16&"-"&O16&"-" -> -Yingli Solar-YLxxxD-37e 1/2-jednostronne - szkło/folia-p-type PERC-380-425W-108-182-Chiny-
B17: Waaree | C17: WSMDP-AAA | H17: x | J17: jednostronne - szkło/folia | K17: p-type PERC | L17: 380-425W | M17: 108 | N17: 182 | O17: Indie | P17: ="-"&B17&"-"&C17&"-"&J17&"-"&K17&"-"&L17&"-"&M17&"-"&N17&"-"&O17&"-" -> -Waaree-WSMDP-AAA-jednostronne - szkło/folia-p-type PERC-380-425W-108-182-Indie-
B18: Waaree | C18: WSMDi-AAA | H18: x | J18: jednostronne - szkło/folia | K18: p-type PERC | L18: 430-475W | M18: 120 | N18: 182 | O18: Indie | P18: ="-"&B18&"-"&C18&"-"&J18&"-"&K18&"-"&L18&"-"&M18&"-"&N18&"-"&O18&"-" -> -Waaree-WSMDi-AAA-jednostronne - szkło/folia-p-type PERC-430-475W-120-182-Indie-
B19: Waaree | C19: WSMDB-AAA (144) | H19: x | J19: jednostronne - szkło/folia | K19: p-type PERC | L19: 530-575W | M19: 144 | N19: 182 | O19: Indie | P19: ="-"&B19&"-"&C19&"-"&J19&"-"&K19&"-"&L19&"-"&M19&"-"&N19&"-"&O19&"-" -> -Waaree-WSMDB-AAA (144)-jednostronne - szkło/folia-p-type PERC-530-575W-144-182-Indie-
B20: Waaree | C20: WSMDB-AAA (132) | H20: x | J20: jednostronne - szkło/folia | K20: p-type PERC | L20: 480-525W | M20: 132 | N20: 182 | O20: Indie | P20: ="-"&B20&"-"&C20&"-"&J20&"-"&K20&"-"&L20&"-"&M20&"-"&N20&"-"&O20&"-" -> -Waaree-WSMDB-AAA (132)-jednostronne - szkło/folia-p-type PERC-480-525W-132-182-Indie-
B21: Waaree | C21: WSMDB-AAA (120) | H21: x | J21: jednostronne - szkło/folia | K21: p-type PERC | L21: 430-475W | M21: 120 | N21: 182 | O21: Indie | P21: ="-"&B21&"-"&C21&"-"&J21&"-"&K21&"-"&L21&"-"&M21&"-"&N21&"-"&O21&"-" -> -Waaree-WSMDB-AAA (120)-jednostronne - szkło/folia-p-type PERC-430-475W-120-182-Indie-
B22: Waaree | C22: WSMDB-AAA (108) | H22: x | J22: jednostronne - szkło/folia | K22: p-type PERC | L22: 380-425W | M22: 108 | N22: 182 | O22: Indie | P22: ="-"&B22&"-"&C22&"-"&J22&"-"&K22&"-"&L22&"-"&M22&"-"&N22&"-"&O22&"-" -> -Waaree-WSMDB-AAA (108)-jednostronne - szkło/folia-p-type PERC-380-425W-108-182-Indie-
B23: Waaree | C23: WSMD-AAA (144) | H23: x | J23: jednostronne - szkło/folia | K23: p-type PERC | L23: 530-575W | M23: 144 | N23: 182 | O23: Indie | P23: ="-"&B23&"-"&C23&"-"&J23&"-"&K23&"-"&L23&"-"&M23&"-"&N23&"-"&O23&"-" -> -Waaree-WSMD-AAA (144)-jednostronne - szkło/folia-p-type PERC-530-575W-144-182-Indie-
B24: Waaree | C24: WSMD-AAA (132) | H24: x | J24: jednostronne - szkło/folia | K24: p-type PERC | L24: 480-525W | M24: 132 | N24: 182 | O24: Indie | P24: ="-"&B24&"-"&C24&"-"&J24&"-"&K24&"-"&L24&"-"&M24&"-"&N24&"-"&O24&"-" -> -Waaree-WSMD-AAA (132)-jednostronne - szkło/folia-p-type PERC-480-525W-132-182-Indie-
B25: VSUN | C25: VSUNxxx-144BMH-DG (M6) | D25: x | E25: x | F25: x | G25: x | H25: x | J25: dwustronne - szkło/szkło | K25: p-type PERC | L25: 430-475W | M25: 144 | N25: 166 | O25: Wietnam | P25: ="-"&B25&"-"&C25&"-"&J25&"-"&K25&"-"&L25&"-"&M25&"-"&N25&"-"&O25&"-" -> -VSUN-VSUNxxx-144BMH-DG (M6)-dwustronne - szkło/szkło-p-type PERC-430-475W-144-166-Wietnam-
B26: VSUN | C26: VSUNxxx-144BMH-DG | D26: x | E26: x | F26: x | G26: x | H26: x | J26: dwustronne - szkło/szkło | K26: p-type PERC | L26: 530-575W | M26: 144 | N26: 182 | O26: Wietnam | P26: ="-"&B26&"-"&C26&"-"&J26&"-"&K26&"-"&L26&"-"&M26&"-"&N26&"-"&O26&"-" -> -VSUN-VSUNxxx-144BMH-DG-dwustronne - szkło/szkło-p-type PERC-530-575W-144-182-Wietnam-
B27: VSUN | C27: VSUNxxx-144BMH | D27: x | E27: x | F27: x | G27: x | H27: x | J27: dwustronne - szkło/folia | K27: p-type PERC | L27: 530-575W | M27: 144 | N27: 182 | O27: Wietnam | P27: ="-"&B27&"-"&C27&"-"&J27&"-"&K27&"-"&L27&"-"&M27&"-"&N27&"-"&O27&"-" -> -VSUN-VSUNxxx-144BMH-dwustronne - szkło/folia-p-type PERC-530-575W-144-182-Wietnam-
B28: VSUN | C28: VSUNxxx-132BMH-DG | D28: x | E28: x | F28: x | G28: x | H28: x | J28: dwustronne - szkło/szkło | K28: p-type PERC | L28: 480-525W | M28: 132 | N28: 182 | O28: Wietnam | P28: ="-"&B28&"-"&C28&"-"&J28&"-"&K28&"-"&L28&"-"&M28&"-"&N28&"-"&O28&"-" -> -VSUN-VSUNxxx-132BMH-DG-dwustronne - szkło/szkło-p-type PERC-480-525W-132-182-Wietnam-
B29: VSUN | C29: VSUNxxx-132BMH | D29: x | E29: x | F29: x | G29: x | H29: x | J29: dwustronne - szkło/folia | K29: p-type PERC | L29: 480-525W | M29: 132 | N29: 182 | O29: Wietnam | P29: ="-"&B29&"-"&C29&"-"&J29&"-"&K29&"-"&L29&"-"&M29&"-"&N29&"-"&O29&"-" -> -VSUN-VSUNxxx-132BMH-dwustronne - szkło/folia-p-type PERC-480-525W-132-182-Wietnam-
B30: VSUN | C30: VSUNxxx-120BMH-DG | D30: x | E30: x | G30: x | H30: x | J30: dwustronne - szkło/szkło | K30: p-type PERC | L30: 430-475W | M30: 120 | N30: 182 | O30: Wietnam | P30: ="-"&B30&"-"&C30&"-"&J30&"-"&K30&"-"&L30&"-"&M30&"-"&N30&"-"&O30&"-" -> -VSUN-VSUNxxx-120BMH-DG-dwustronne - szkło/szkło-p-type PERC-430-475W-120-182-Wietnam-
B31: VSUN | C31: VSUNxxx-120BMH | D31: x | E31: x | G31: x | H31: x | J31: dwustronne - szkło/folia | K31: p-type PERC | L31: 430-475W | M31: 120 | N31: 182 | O31: Wietnam | P31: ="-"&B31&"-"&C31&"-"&J31&"-"&K31&"-"&L31&"-"&M31&"-"&N31&"-"&O31&"-" -> -VSUN-VSUNxxx-120BMH-dwustronne - szkło/folia-p-type PERC-430-475W-120-182-Wietnam-
B32: VSUN | C32: VSUNxxx-108BMH-DG | D32: x | E32: x | G32: x | H32: x | J32: dwustronne - szkło/szkło | K32: p-type PERC | L32: 380-425W | M32: 108 | N32: 182 | O32: Wietnam | P32: ="-"&B32&"-"&C32&"-"&J32&"-"&K32&"-"&L32&"-"&M32&"-"&N32&"-"&O32&"-" -> -VSUN-VSUNxxx-108BMH-DG-dwustronne - szkło/szkło-p-type PERC-380-425W-108-182-Wietnam-
B33: VSUN | C33: VSUNxxx-108BMH | D33: x | E33: x | G33: x | H33: x | J33: dwustronne - szkło/folia | K33: p-type PERC | L33: 380-425W | M33: 108 | N33: 182 | O33: Wietnam | P33: ="-"&B33&"-"&C33&"-"&J33&"-"&K33&"-"&L33&"-"&M33&"-"&N33&"-"&O33&"-" -> -VSUN-VSUNxxx-108BMH-dwustronne - szkło/folia-p-type PERC-380-425W-108-182-Wietnam-
B34: Vikram Solar | C34: VSMHBB.60.AAA.05 | H34: x | J34: jednostronne - szkło/folia | K34: p-type PERC | L34: 430-475W | M34: 120 | N34: 182 | O34: Indie | P34: ="-"&B34&"-"&C34&"-"&J34&"-"&K34&"-"&L34&"-"&M34&"-"&N34&"-"&O34&"-" -> -Vikram Solar-VSMHBB.60.AAA.05-jednostronne - szkło/folia-p-type PERC-430-475W-120-182-Indie-
B35: Vikram Solar | C35: VSMHBB.54.AAA.05 | H35: x | J35: jednostronne - szkło/folia | K35: p-type PERC | L35: 380-425W | M35: 108 | N35: 182 | O35: Indie | P35: ="-"&B35&"-"&C35&"-"&J35&"-"&K35&"-"&L35&"-"&M35&"-"&N35&"-"&O35&"-" -> -Vikram Solar-VSMHBB.54.AAA.05-jednostronne - szkło/folia-p-type PERC-380-425W-108-182-Indie-
B36: Vikram Solar | C36: VSMH.72.AAA.05 | H36: x | J36: jednostronne - szkło/folia | K36: p-type PERC | L36: 530-575W | M36: 144 | N36: 182 | O36: Indie | P36: ="-"&B36&"-"&C36&"-"&J36&"-"&K36&"-"&L36&"-"&M36&"-"&N36&"-"&O36&"-" -> -Vikram Solar-VSMH.72.AAA.05-jednostronne - szkło/folia-p-type PERC-530-575W-144-182-Indie-
B37: Vikram Solar | C37: VSMH.60.AAA.05 | H37: x | J37: jednostronne - szkło/folia | K37: p-type PERC | L37: 430-475W | M37: 120 | N37: 182 | O37: Indie | P37: ="-"&B37&"-"&C37&"-"&J37&"-"&K37&"-"&L37&"-"&M37&"-"&N37&"-"&O37&"-" -> -Vikram Solar-VSMH.60.AAA.05-jednostronne - szkło/folia-p-type PERC-430-475W-120-182-Indie-
B38: Vikram Solar | C38: VSMH.54.AAA.05 | H38: x | J38: jednostronne - szkło/folia | K38: p-type PERC | L38: 380-425W | M38: 108 | N38: 182 | O38: Indie | P38: ="-"&B38&"-"&C38&"-"&J38&"-"&K38&"-"&L38&"-"&M38&"-"&N38&"-"&O38&"-" -> -Vikram Solar-VSMH.54.AAA.05-jednostronne - szkło/folia-p-type PERC-380-425W-108-182-Indie-
B39: Vikram Solar | C39: VSMDHT.72.AAA.05 | H39: x | J39: dwustronne - szkło/folia | K39: p-type PERC | L39: 530-575W | M39: 144 | N39: 182 | O39: Indie | P39: ="-"&B39&"-"&C39&"-"&J39&"-"&K39&"-"&L39&"-"&M39&"-"&N39&"-"&O39&"-" -> -Vikram Solar-VSMDHT.72.AAA.05-dwustronne - szkło/folia-p-type PERC-530-575W-144-182-Indie-
B40: Vikram Solar | C40: VSMDHT.54.AAA.05 | H40: x | J40: dwustronne - szkło/folia | K40: p-type PERC | L40: 430-475W | M40: 120 | N40: 182 | O40: Indie | P40: ="-"&B40&"-"&C40&"-"&J40&"-"&K40&"-"&L40&"-"&M40&"-"&N40&"-"&O40&"-" -> -Vikram Solar-VSMDHT.54.AAA.05-dwustronne - szkło/folia-p-type PERC-430-475W-120-182-Indie-
B41: Vikram Solar | C41: VSMDH.72.AAA.05 | E41: x | F41: x | G41: x | H41: x | I41: x | J41: dwustronne - szkło/szkło | K41: p-type PERC | L41: 530-575W | M41: 144 | N41: 182 | O41: Indie | P41: ="-"&B41&"-"&C41&"-"&J41&"-"&K41&"-"&L41&"-"&M41&"-"&N41&"-"&O41&"-" -> -Vikram Solar-VSMDH.72.AAA.05-dwustronne - szkło/szkło-p-type PERC-530-575W-144-182-Indie-
B42: Vikram Solar | C42: VSMDH.60.AAA.05 | E42: x | F42: x | G42: x | H42: x | J42: dwustronne - szkło/szkło | K42: p-type PERC | L42: 430-475W | M42: 120 | N42: 182 | O42: Indie | P42: ="-"&B42&"-"&C42&"-"&J42&"-"&K42&"-"&L42&"-"&M42&"-"&N42&"-"&O42&"-" -> -Vikram Solar-VSMDH.60.AAA.05-dwustronne - szkło/szkło-p-type PERC-430-475W-120-182-Indie-
...

Sheet Opis procedury testowania
B3: Opis procedury testów | C3: Opis procedury testów
B4: SKRÓT | C4: TC | D4: DH | E4: MSS | F4: PID | G4: LID+LETID | H4: PAN
B5: Nazwa | C5: Próba cykli termicznych | D5: Próba wilgoci i ciepła | E5: Próba obciążeń | F5: Próba PID | G5: Próba LID i LETID | H5: Dodatkowy test PAN
B6: Opisuje | C6: Odporność na zmiany temperatury | D6: Odporność na wilgoć | E6: Odporność na śnieg i wiatr | F6: Odporność na zjawisko PID | G6: Odporność na zjawiska LID i LeTID | H6: Symuluje wydajność modułów
B7: Procedura | C7: 600 cykli. W każdym cyklu moduły ochładzane do -40°C, potem ogrzewane do +85°C i traktowane maksymalnym dopuszczalnym prądem. | D7: 2 cykle po 1000 godzin w warunkach 85°C i w wilgotności 85%. | E7: 3 cykle obciążeń statycznych (1 h 2400 Pa) + 1000 cykli naprzemiennych obciążeń dynamicznych 1000 Pa + 50 cykli termicznych + 10 cykli zamrażania i zawilgacania (od +85°C przy wilgotności 85% do -40°C) | F7: 192 godziny w warunkach 85°C przy wilgotności 85% i przy traktowaniu maksymalnym dopuszczalnym napięciem | G7: LID – 17 modułów jest testownych zgodnie z procedurą z IEC 61215 LETID – 2 moduły, które przeszły LID, są wkładane do komory z 75°C na 486 h, gdzie są traktowane niskim prądem. | H7: Wydajność jest wyznaczana dla dwóch lokacji przez program PVsyst na podstawie plików PAN.
B8: Wymagania TOP PERFORMER | C8: Moduły nie mogą stracić więcej niż 2% mocy. | D8: Moduły nie mogą stracić więcej niż 2% mocy. | E8: Moduły nie mogą stracić więcej niż 2% mocy. | F8: Moduły nie mogą stracić więcej niż 2% mocy. | G8: Moduły nie mogą stracić więcej niż 2% mocy. | H8: Moduł muszą znaleźć się w 10% modułów o najlepszej wydajności
B9: Porównanie z certyfikatem IEC61215 | C9: Certyfikat IEC61215 wymaga 200 takich cyklów i utratę mocy nie większą niż 5% | D9: Certyfikat IEC61215 wymaga 1 taki cykl i utratę mocy nie większą niż 5% | E9: ? | F9: Certyfikat IEC61215 wymaga 96 godzin w takich warunkach przy utracie mocy nie większej niż 5% | G9: ?
B10: Link | C10: https://scorecard.pvel.com/thermal-cycling/ | D10: https://scorecard.pvel.com/damp-heat/ | E10: https://scorecard.pvel.com/mechanical-stress-sequence/ | F10: https://scorecard.pvel.com/pid/ | G10: https://scorecard.pvel.com/lidletid/ | H10: https://scorecard.pvel.com/pan-performance/

Sheet Analiza danych
E3: Analiza trudności prób niezawodności
F4: TC | G4: DH | H4: MSS | I4: PID | J4: LID+LETID
E5: Ile modułów zdało? | F5: =COUNTIF('Dane źródłowe'!D$9:D$255,"x") -> 75 | G5: =COUNTIF('Dane źródłowe'!E$9:E$255,"x") -> 91 | H5: =COUNTIF('Dane źródłowe'!F$9:F$255,"x") -> 94 | I5: =COUNTIF('Dane źródłowe'!G$9:G$255,"x") -> 125 | J5: =COUNTIF('Dane źródłowe'!H$9:H$255,"x") -> 219
E6: Ile to procent ogółu? | F6: =F5*100%/247 -> 0.30364372 | G6: =G5*100%/247 -> 0.36842105 | H6: =H5*100%/247 -> 0.3805668 | I6: =I5*100%/247 -> 0.50607287 | J6: =J5*100%/247 -> 0.88663968
E7: Ile procent nie zdało? | F7: =100%-F6 -> 0.69635628 | G7: =100%-G6 -> 0.63157895 | H7: =100%-H6 -> 0.6194332 | I7: =100%-I6 -> 0.49392713 | J7: =100%-J6 -> 0.11336032
E8: Analiza wagi testów na potrzeby rankingu
E9: Ustalanie wagi testów automatyczne czy ręczne? | F9: Automatyczne, na podstawie trudności testu | Q9: // Oceny cząstkowe na potrzeby rankingu są wyliczane tak, by zdanie wszystkich testów dało 50 punktów. Próby o większej wadze dają propocjonalnie więcej punktów. Wyniki w zakładce „Ranking”
E10: =IF(F9="Automatyczne, na podstawie trudności testu","","Wprowadź ręcznie wagę testu") | K10: =SUM(F10:J10) -> 0
E11: Ocena cząstkowa za test | F11: =IF($F$9="Automatyczne, na podstawie trudności testu",(100%-F6)*(50/SUM($F$7:$J$7)),F10/$K$10*50) -> 13.62916 | G11: =IF($F$9="Automatyczne, na podstawie trudności testu",(100%-G6)*(50/SUM($F$7:$J$7)),G10/$K$10*50) -> 12.361331 | H11: =IF($F$9="Automatyczne, na podstawie trudności testu",(100%-H6)*(50/SUM($F$7:$J$7)),H10/$K$10*50) -> 12.123613 | I11: =IF($F$9="Automatyczne, na podstawie trudności testu",(100%-I6)*(50/SUM($F$7:$J$7)),I10/$K$10*50) -> 9.6671949 | J11: =IF($F$9="Automatyczne, na podstawie trudności testu",(100%-J6)*(50/SUM($F$7:$J$7)),J10/$K$10*50) -> 2.2187005 | K11: =SUM(F11:J11) -> 50
E16: Analiza technicznego wykonania paneli PV
B17: Wpisz warunek 1 | C17: Wpisz warunek 2 | D17: Wpisz warunek 3 | E17: Ile modułów danego typu? | F17: Ile % modułów danego typu przeszło próbę:
B18: Wpisz warunek 1 | C18: Wpisz warunek 2 | D18: Wpisz warunek 3 | E18: Ile modułów danego typu? | F18: TC | G18: DH | H18: MSS | I18: PID | J18: LID+LETID
B19: Chiny | E19: =COUNTIFS('Dane źródłowe'!P$9:P$262,"*"&$B19&"*",'Dane źródłowe'!P$9:P$262,"*"&$C19&"*",'Dane źródłowe'!P$9:P$262,"*"&$D19&"*") -> 144 | F19: =COUNTIFS('Dane źródłowe'!$P$7:$P$262,"*"&$D19&"*",'Dane źródłowe'!$P$7:$P$262,"*"&$B19&"*",'Dane źródłowe'!$P$7:$P$262,"*"&$C19&"*",'Dane źródłowe'!D$7:D$262,"x")*100%/$E19 -> 0.34027778 | G19: =COUNTIFS('Dane źródłowe'!$P$7:$P$262,"*"&$D19&"*",'Dane źródłowe'!$P$7:$P$262,"*"&$B19&"*",'Dane źródłowe'!$P$7:$P$262,"*"&$C19&"*",'Dane źródłowe'!E$7:E$262,"x")*100%/$E19 -> 0.45138889 | H19: =COUNTIFS('Dane źródłowe'!$P$7:$P$262,"*"&$D19&"*",'Dane źródłowe'!$P$7:$P$262,"*"&$B19&"*",'Dane źródłowe'!$P$7:$P$262,"*"&$C19&"*",'Dane źródłowe'!F$7:F$262,"x")*100%/$E19 -> 0.41666667 | I19: =COUNTIFS('Dane źródłowe'!$P$7:$P$262,"*"&$D19&"*",'Dane źródłowe'!$P$7:$P$262,"*"&$B19&"*",'Dane źródłowe'!$P$7:$P$262,"*"&$C19&"*",'Dane źródłowe'!G$7:G$262,"x")*100%/$E19 -> 0.46527778 | J19: =COUNTIFS('Dane źródłowe'!$P$7:$P$262,"*"&$D19&"*",'Dane źródłowe'!$P$7:$P$262,"*"&$B19&"*",'Dane źródłowe'!$P$7:$P$262,"*"&$C19&"*",'Dane źródłowe'!H$7:H$262,"x")*100%/$E19 -> 0.90972222
B20: Indie | E20: =COUNTIFS('Dane źródłowe'!P$9:P$262,"*"&$B20&"*",'Dane źródłowe'!P$9:P$262,"*"&$C20&"*",'Dane źródłowe'!P$9:P$262,"*"&$D20&"*") -> 39 | F20: =COUNTIFS('Dane źródłowe'!$P$7:$P$262,"*"&$D20&"*",'Dane źródłowe'!$P$7:$P$262,"*"&$B20&"*",'Dane źródłowe'!$P$7:$P$262,"*"&$C20&"*",'Dane źródłowe'!D$7:D$262,"x")*100%/$E20 -> 0.1025641 | G20: =COUNTIFS('Dane źródłowe'!$P$7:$P$262,"*"&$D20&"*",'Dane źródłowe'!$P$7:$P$262,"*"&$B20&"*",'Dane źródłowe'!$P$7:$P$262,"*"&$C20&"*",'Dane źródłowe'!E$7:E$262,"x")*100%/$E20 -> 0.12820513 | H20: =COUNTIFS('Dane źródłowe'!$P$7:$P$262,"*"&$D20&"*",'Dane źródłowe'!$P$7:$P$262,"*"&$B20&"*",'Dane źródłowe'!$P$7:$P$262,"*"&$C20&"*",'Dane źródłowe'!F$7:F$262,"x")*100%/$E20 -> 0.15384615 | I20: =COUNTIFS('Dane źródłowe'!$P$7:$P$262,"*"&$D20&"*",'Dane źródłowe'!$P$7:$P$262,"*"&$B20&"*",'Dane źródłowe'!$P$7:$P$262,"*"&$C20&"*",'Dane źródłowe'!G$7:G$262,"x")*100%/$E20 -> 0.38461538 | J20: =COUNTIFS('Dane źródłowe'!$P$7:$P$262,"*"&$D20&"*",'Dane źródłowe'!$P$7:$P$262,"*"&$B20&"*",'Dane źródłowe'!$P$7:$P$262,"*"&$C20&"*",'Dane źródłowe'!H$7:H$262,"x")*100%/$E20 -> 0.8974359
B21: szkło/szkło | C21: Chin | D21: N-type | E21: =COUNTIFS('Dane źródłowe'!P$9:P$262,"*"&$B21&"*",'Dane źródłowe'!P$9:P$262,"*"&$C21&"*",'Dane źródłowe'!P$9:P$262,"*"&$D21&"*") -> 28 | F21: =COUNTIFS('Dane źródłowe'!$P$7:$P$262,"*"&$D21&"*",'Dane źródłowe'!$P$7:$P$262,"*"&$B21&"*",'Dane źródłowe'!$P$7:$P$262,"*"&$C21&"*",'Dane źródłowe'!D$7:D$262,"x")*100%/$E21 -> 0.35714286 | G21: =COUNTIFS('Dane źródłowe'!$P$7:$P$262,"*"&$D21&"*",'Dane źródłowe'!$P$7:$P$262,"*"&$B21&"*",'Dane źródłowe'!$P$7:$P$262,"*"&$C21&"*",'Dane źródłowe'!E$7:E$262,"x")*100%/$E21 -> 0.89285714 | H21: =COUNTIFS('Dane źródłowe'!$P$7:$P$262,"*"&$D21&"*",'Dane źródłowe'!$P$7:$P$262,"*"&$B21&"*",'Dane źródłowe'!$P$7:$P$262,"*"&$C21&"*",'Dane źródłowe'!F$7:F$262,"x")*100%/$E21 -> 0.53571429 | I21: =COUNTIFS('Dane źródłowe'!$P$7:$P$262,"*"&$D21&"*",'Dane źródłowe'!$P$7:$P$262,"*"&$B21&"*",'Dane źródłowe'!$P$7:$P$262,"*"&$C21&"*",'Dane źródłowe'!G$7:G$262,"x")*100%/$E21 -> 0.67857143 | J21: =COUNTIFS('Dane źródłowe'!$P$7:$P$262,"*"&$D21&"*",'Dane źródłowe'!$P$7:$P$262,"*"&$B21&"*",'Dane źródłowe'!$P$7:$P$262,"*"&$C21&"*",'Dane źródłowe'!H$7:H$262,"x")*100%/$E21 -> 0.89285714
B22: szkło/szkło | C22: Chin | D22: PERC | E22: =COUNTIFS('Dane źródłowe'!P$9:P$262,"*"&$B22&"*",'Dane źródłowe'!P$9:P$262,"*"&$C22&"*",'Dane źródłowe'!P$9:P$262,"*"&$D22&"*") -> 38 | F22: =COUNTIFS('Dane źródłowe'!$P$7:$P$262,"*"&$D22&"*",'Dane źródłowe'!$P$7:$P$262,"*"&$B22&"*",'Dane źródłowe'!$P$7:$P$262,"*"&$C22&"*",'Dane źródłowe'!D$7:D$262,"x")*100%/$E22 -> 0.55263158 | G22: =COUNTIFS('Dane źródłowe'!$P$7:$P$262,"*"&$D22&"*",'Dane źródłowe'!$P$7:$P$262,"*"&$B22&"*",'Dane źródłowe'!$P$7:$P$262,"*"&$C22&"*",'Dane źródłowe'!E$7:E$262,"x")*100%/$E22 -> 0.81578947 | H22: =COUNTIFS('Dane źródłowe'!$P$7:$P$262,"*"&$D22&"*",'Dane źródłowe'!$P$7:$P$262,"*"&$B22&"*",'Dane źródłowe'!$P$7:$P$262,"*"&$C22&"*",'Dane źródłowe'!F$7:F$262,"x")*100%/$E22 -> 0.60526316 | I22: =COUNTIFS('Dane źródłowe'!$P$7:$P$262,"*"&$D22&"*",'Dane źródłowe'!$P$7:$P$262,"*"&$B22&"*",'Dane źródłowe'!$P$7:$P$262,"*"&$C22&"*",'Dane źródłowe'!G$7:G$262,"x")*100%/$E22 -> 0.78947368 | J22: =COUNTIFS('Dane źródłowe'!$P$7:$P$262,"*"&$D22&"*",'Dane źródłowe'!$P$7:$P$262,"*"&$B22&"*",'Dane źródłowe'!$P$7:$P$262,"*"&$C22&"*",'Dane źródłowe'!H$7:H$262,"x")*100%/$E22 -> 0.97368421
E23: =COUNTIFS('Dane źródłowe'!P$9:P$262,"*"&$B23&"*",'Dane źródłowe'!P$9:P$262,"*"&$C23&"*",'Dane źródłowe'!P$9:P$262,"*"&$D23&"*") -> 247 | F23: =COUNTIFS('Dane źródłowe'!$P$7:$P$262,"*"&$D23&"*",'Dane źródłowe'!$P$7:$P$262,"*"&$B23&"*",'Dane źródłowe'!$P$7:$P$262,"*"&$C23&"*",'Dane źródłowe'!D$7:D$262,"x")*100%/$E23 -> 0.30364372 | G23: =COUNTIFS('Dane źródłowe'!$P$7:$P$262,"*"&$D23&"*",'Dane źródłowe'!$P$7:$P$262,"*"&$B23&"*",'Dane źródłowe'!$P$7:$P$262,"*"&$C23&"*",'Dane źródłowe'!E$7:E$262,"x")*100%/$E23 -> 0.36842105 | H23: =COUNTIFS('Dane źródłowe'!$P$7:$P$262,"*"&$D23&"*",'Dane źródłowe'!$P$7:$P$262,"*"&$B23&"*",'Dane źródłowe'!$P$7:$P$262,"*"&$C23&"*",'Dane źródłowe'!F$7:F$262,"x")*100%/$E23 -> 0.3805668 | I23: =COUNTIFS('Dane źródłowe'!$P$7:$P$262,"*"&$D23&"*",'Dane źródłowe'!$P$7:$P$262,"*"&$B23&"*",'Dane źródłowe'!$P$7:$P$262,"*"&$C23&"*",'Dane źródłowe'!G$7:G$262,"x")*100%/$E23 -> 0.50607287 | J23: =COUNTIFS('Dane źródłowe'!$P$7:$P$262,"*"&$D23&"*",'Dane źródłowe'!$P$7:$P$262,"*"&$B23&"*",'Dane źródłowe'!$P$7:$P$262,"*"&$C23&"*",'Dane źródłowe'!H$7:H$262,"x")*100%/$E23 -> 0.88663968
E24: =COUNTIFS('Dane źródłowe'!P$9:P$262,"*"&$B24&"*",'Dane źródłowe'!P$9:P$262,"*"&$C24&"*",'Dane źródłowe'!P$9:P$262,"*"&$D24&"*") -> 247 | F24: =COUNTIFS('Dane źródłowe'!$P$7:$P$262,"*"&$D24&"*",'Dane źródłowe'!$P$7:$P$262,"*"&$B24&"*",'Dane źródłowe'!$P$7:$P$262,"*"&$C24&"*",'Dane źródłowe'!D$7:D$262,"x")*100%/$E24 -> 0.30364372 | G24: =COUNTIFS('Dane źródłowe'!$P$7:$P$262,"*"&$D24&"*",'Dane źródłowe'!$P$7:$P$262,"*"&$B24&"*",'Dane źródłowe'!$P$7:$P$262,"*"&$C24&"*",'Dane źródłowe'!E$7:E$262,"x")*100%/$E24 -> 0.36842105 | H24: =COUNTIFS('Dane źródłowe'!$P$7:$P$262,"*"&$D24&"*",'Dane źródłowe'!$P$7:$P$262,"*"&$B24&"*",'Dane źródłowe'!$P$7:$P$262,"*"&$C24&"*",'Dane źródłowe'!F$7:F$262,"x")*100%/$E24 -> 0.3805668 | I24: =COUNTIFS('Dane źródłowe'!$P$7:$P$262,"*"&$D24&"*",'Dane źródłowe'!$P$7:$P$262,"*"&$B24&"*",'Dane źródłowe'!$P$7:$P$262,"*"&$C24&"*",'Dane źródłowe'!G$7:G$262,"x")*100%/$E24 -> 0.50607287 | J24: =COUNTIFS('Dane źródłowe'!$P$7:$P$262,"*"&$D24&"*",'Dane źródłowe'!$P$7:$P$262,"*"&$B24&"*",'Dane źródłowe'!$P$7:$P$262,"*"&$C24&"*",'Dane źródłowe'!H$7:H$262,"x")*100%/$E24 -> 0.88663968
E25: =COUNTIFS('Dane źródłowe'!P$9:P$262,"*"&$B25&"*",'Dane źródłowe'!P$9:P$262,"*"&$C25&"*",'Dane źródłowe'!P$9:P$262,"*"&$D25&"*") -> 247 | F25: =COUNTIFS('Dane źródłowe'!$P$7:$P$262,"*"&$D25&"*",'Dane źródłowe'!$P$7:$P$262,"*"&$B25&"*",'Dane źródłowe'!$P$7:$P$262,"*"&$C25&"*",'Dane źródłowe'!D$7:D$262,"x")*100%/$E25 -> 0.30364372 | G25: =COUNTIFS('Dane źródłowe'!$P$7:$P$262,"*"&$D25&"*",'Dane źródłowe'!$P$7:$P$262,"*"&$B25&"*",'Dane źródłowe'!$P$7:$P$262,"*"&$C25&"*",'Dane źródłowe'!E$7:E$262,"x")*100%/$E25 -> 0.36842105 | H25: =COUNTIFS('Dane źródłowe'!$P$7:$P$262,"*"&$D25&"*",'Dane źródłowe'!$P$7:$P$262,"*"&$B25&"*",'Dane źródłowe'!$P$7:$P$262,"*"&$C25&"*",'Dane źródłowe'!F$7:F$262,"x")*100%/$E25 -> 0.3805668 | I25: =COUNTIFS('Dane źródłowe'!$P$7:$P$262,"*"&$D25&"*",'Dane źródłowe'!$P$7:$P$262,"*"&$B25&"*",'Dane źródłowe'!$P$7:$P$262,"*"&$C25&"*",'Dane źródłowe'!G$7:G$262,"x")*100%/$E25 -> 0.50607287 | J25: =COUNTIFS('Dane źródłowe'!$P$7:$P$262,"*"&$D25&"*",'Dane źródłowe'!$P$7:$P$262,"*"&$B25&"*",'Dane źródłowe'!$P$7:$P$262,"*"&$C25&"*",'Dane źródłowe'!H$7:H$262,"x")*100%/$E25 -> 0.88663968

Sheet Ranking
A1: RANKING PANELI FOTOWOLTAICZNYCH (na podst. PVEL 2023)
B2: Producent | C2: Nazwa modułu | D2: Próby niezawodności | N2: Ocena końcowa | O2: Test dodatkowy PAN
D3: TC | E3: DH | F3: MSS | G3: PID | H3: LID+LETID | I3: Przyznanie ocen – komórki ukryte
B4: Yingli Solar | C4: YLxxxDF72 e/2 | D4: x | E4: x | F4: x | G4: x | H4: x | I4: =IF(D4="x",'Analiza danych'!F$11,"") -> 13.62916 | J4: =IF(E4="x",'Analiza danych'!G$11,"") -> 12.361331 | K4: =IF(F4="x",'Analiza danych'!H$11,"") -> 12.123613 | L4: =IF(G4="x",'Analiza danych'!I$11,"") -> 9.6671949 | M4: =IF(H4="x",'Analiza danych'!J$11,"") -> 2.2187005 | N4: =SUM(I4:M4)+50 -> 100 | O4: TAK
B5: Yingli Solar | C5: YLxxxDF54 e/2 | D5: x | E5: x | F5: x | G5: x | H5: x | I5: =IF(D5="x",'Analiza danych'!F$11,"") -> 13.62916 | J5: =IF(E5="x",'Analiza danych'!G$11,"") -> 12.361331 | K5: =IF(F5="x",'Analiza danych'!H$11,"") -> 12.123613 | L5: =IF(G5="x",'Analiza danych'!I$11,"") -> 9.6671949 | M5: =IF(H5="x",'Analiza danych'!J$11,"") -> 2.2187005 | N5: =SUM(I5:M5)+50 -> 100
B6: VSUN | C6: VSUNxxx-144BMH-DG (M6) | D6: x | E6: x | F6: x | G6: x | H6: x | I6: =IF(D6="x",'Analiza danych'!F$11,"") -> 13.62916 | J6: =IF(E6="x",'Analiza danych'!G$11,"") -> 12.361331 | K6: =IF(F6="x",'Analiza danych'!H$11,"") -> 12.123613 | L6: =IF(G6="x",'Analiza danych'!I$11,"") -> 9.6671949 | M6: =IF(H6="x",'Analiza danych'!J$11,"") -> 2.2187005 | N6: =SUM(I6:M6)+50 -> 100
B7: VSUN | C7: VSUNxxx-144BMH-DG | D7: x | E7: x | F7: x | G7: x | H7: x | I7: =IF(D7="x",'Analiza danych'!F$11,"") -> 13.62916 | J7: =IF(E7="x",'Analiza danych'!G$11,"") -> 12.361331 | K7: =IF(F7="x",'Analiza danych'!H$11,"") -> 12.123613 | L7: =IF(G7="x",'Analiza danych'!I$11,"") -> 9.6671949 | M7: =IF(H7="x",'Analiza danych'!J$11,"") -> 2.2187005 | N7: =SUM(I7:M7)+50 -> 100
B8: VSUN | C8: VSUNxxx-144BMH | D8: x | E8: x | F8: x | G8: x | H8: x | I8: =IF(D8="x",'Analiza danych'!F$11,"") -> 13.62916 | J8: =IF(E8="x",'Analiza danych'!G$11,"") -> 12.361331 | K8: =IF(F8="x",'Analiza danych'!H$11,"") -> 12.123613 | L8: =IF(G8="x",'Analiza danych'!I$11,"") -> 9.6671949 | M8: =IF(H8="x",'Analiza danych'!J$11,"") -> 2.2187005 | N8: =SUM(I8:M8)+50 -> 100
B9: VSUN | C9: VSUNxxx-132BMH-DG | D9: x | E9: x | F9: x | G9: x | H9: x | I9: =IF(D9="x",'Analiza danych'!F$11,"") -> 13.62916 | J9: =IF(E9="x",'Analiza danych'!G$11,"") -> 12.361331 | K9: =IF(F9="x",'Analiza danych'!H$11,"") -> 12.123613 | L9: =IF(G9="x",'Analiza danych'!I$11,"") -> 9.6671949 | M9: =IF(H9="x",'Analiza danych'!J$11,"") -> 2.2187005 | N9: =SUM(I9:M9)+50 -> 100
B10: VSUN | C10: VSUNxxx-132BMH | D10: x | E10: x | F10: x | G10: x | H10: x | I10: =IF(D10="x",'Analiza danych'!F$11,"") -> 13.62916 | J10: =IF(E10="x",'Analiza danych'!G$11,"") -> 12.361331 | K10: =IF(F10="x",'Analiza danych'!H$11,"") -> 12.123613 | L10: =IF(G10="x",'Analiza danych'!I$11,"") -> 9.6671949 | M10: =IF(H10="x",'Analiza danych'!J$11,"") -> 2.2187005 | N10: =SUM(I10:M10)+50 -> 100
B11: Talesun | C11: TD7G72M | D11: x | E11: x | F11: x | G11: x | H11: x | I11: =IF(D11="x",'Analiza danych'!F$11,"") -> 13.62916 | J11: =IF(E11="x",'Analiza danych'!G$11,"") -> 12.361331 | K11: =IF(F11="x",'Analiza danych'!H$11,"") -> 12.123613 | L11: =IF(G11="x",'Analiza danych'!I$11,"") -> 9.6671949 | M11: =IF(H11="x",'Analiza danych'!J$11,"") -> 2.2187005 | N11: =SUM(I11:M11)+50 -> 100 | O11: TAK
B12: Talesun | C12: TD7G66M | D12: x | E12: x | F12: x | G12: x | H12: x | I12: =IF(D12="x",'Analiza danych'!F$11,"") -> 13.62916 | J12: =IF(E12="x",'Analiza danych'!G$11,"") -> 12.361331 | K12: =IF(F12="x",'Analiza danych'!H$11,"") -> 12.123613 | L12: =IF(G12="x",'Analiza danych'!I$11,"") -> 9.6671949 | M12: =IF(H12="x",'Analiza danych'!J$11,"") -> 2.2187005 | N12: =SUM(I12:M12)+50 -> 100
B13: Akcome | C13: SKA611HDGDC | D13: x | E13: x | F13: x | G13: x | H13: x | I13: =IF(D13="x",'Analiza danych'!F$11,"") -> 13.62916 | J13: =IF(E13="x",'Analiza danych'!G$11,"") -> 12.361331 | K13: =IF(F13="x",'Analiza danych'!H$11,"") -> 12.123613 | L13: =IF(G13="x",'Analiza danych'!I$11,"") -> 9.6671949 | M13: =IF(H13="x",'Analiza danych'!J$11,"") -> 2.2187005 | N13: =SUM(I13:M13)+50 -> 100
B14: Akcome | C14: SKA610HDGDC | D14: x | E14: x | F14: x | G14: x | H14: x | I14: =IF(D14="x",'Analiza danych'!F$11,"") -> 13.62916 | J14: =IF(E14="x",'Analiza danych'!G$11,"") -> 12.361331 | K14: =IF(F14="x",'Analiza danych'!H$11,"") -> 12.123613 | L14: =IF(G14="x",'Analiza danych'!I$11,"") -> 9.6671949 | M14: =IF(H14="x",'Analiza danych'!J$11,"") -> 2.2187005 | N14: =SUM(I14:M14)+50 -> 100
B15: Phono Solar | C15: PSxxxM8GFH-18/VH | D15: x | E15: x | F15: x | G15: x | H15: x | I15: =IF(D15="x",'Analiza danych'!F$11,"") -> 13.62916 | J15: =IF(E15="x",'Analiza danych'!G$11,"") -> 12.361331 | K15: =IF(F15="x",'Analiza danych'!H$11,"") -> 12.123613 | L15: =IF(G15="x",'Analiza danych'!I$11,"") -> 9.6671949 | M15: =IF(H15="x",'Analiza danych'!J$11,"") -> 2.2187005 | N15: =SUM(I15:M15)+50 -> 100
B16: Jinko | C16: JKMxxxN-78HL4-BDV | D16: x | E16: x | F16: x | G16: x | H16: x | I16: =IF(D16="x",'Analiza danych'!F$11,"") -> 13.62916 | J16: =IF(E16="x",'Analiza danych'!G$11,"") -> 12.361331 | K16: =IF(F16="x",'Analiza danych'!H$11,"") -> 12.123613 | L16: =IF(G16="x",'Analiza danych'!I$11,"") -> 9.6671949 | M16: =IF(H16="x",'Analiza danych'!J$11,"") -> 2.2187005 | N16: =SUM(I16:M16)+50 -> 100
B17: Jinko | C17: JKMxxxN-78HL4-(V) | D17: x | E17: x | F17: x | G17: x | H17: x | I17: =IF(D17="x",'Analiza danych'!F$11,"") -> 13.62916 | J17: =IF(E17="x",'Analiza danych'!G$11,"") -> 12.361331 | K17: =IF(F17="x",'Analiza danych'!H$11,"") -> 12.123613 | L17: =IF(G17="x",'Analiza danych'!I$11,"") -> 9.6671949 | M17: =IF(H17="x",'Analiza danych'!J$11,"") -> 2.2187005 | N17: =SUM(I17:M17)+50 -> 100
B18: Jinko | C18: JKMxxxN-72HL4-BDV | D18: x | E18: x | F18: x | G18: x | H18: x | I18: =IF(D18="x",'Analiza danych'!F$11,"") -> 13.62916 | J18: =IF(E18="x",'Analiza danych'!G$11,"") -> 12.361331 | K18: =IF(F18="x",'Analiza danych'!H$11,"") -> 12.123613 | L18: =IF(G18="x",'Analiza danych'!I$11,"") -> 9.6671949 | M18: =IF(H18="x",'Analiza danych'!J$11,"") -> 2.2187005 | N18: =SUM(I18:M18)+50 -> 100 | O18: TAK
B19: Jinko | C19: JKMxxxN-72HL4-(V) | D19: x | E19: x | F19: x | G19: x | H19: x | I19: =IF(D19="x",'Analiza danych'!F$11,"") -> 13.62916 | J19: =IF(E19="x",'Analiza danych'!G$11,"") -> 12.361331 | K19: =IF(F19="x",'Analiza danych'!H$11,"") -> 12.123613 | L19: =IF(G19="x",'Analiza danych'!I$11,"") -> 9.6671949 | M19: =IF(H19="x",'Analiza danych'!J$11,"") -> 2.2187005 | N19: =SUM(I19:M19)+50 -> 100
B20: Jinko | C20: JKMxxxN-60HL4-(V) | D20: x | E20: x | F20: x | G20: x | H20: x | I20: =IF(D20="x",'Analiza danych'!F$11,"") -> 13.62916 | J20: =IF(E20="x",'Analiza danych'!G$11,"") -> 12.361331 | K20: =IF(F20="x",'Analiza danych'!H$11,"") -> 12.123613 | L20: =IF(G20="x",'Analiza danych'!I$11,"") -> 9.6671949 | M20: =IF(H20="x",'Analiza danych'!J$11,"") -> 2.2187005 | N20: =SUM(I20:M20)+50 -> 100
B21: Jinko | C21: JKMxxxN-54HL4-B | D21: x | E21: x | F21: x | G21: x | H21: x | I21: =IF(D21="x",'Analiza danych'!F$11,"") -> 13.62916 | J21: =IF(E21="x",'Analiza danych'!G$11,"") -> 12.361331 | K21: =IF(F21="x",'Analiza danych'!H$11,"") -> 12.123613 | L21: =IF(G21="x",'Analiza danych'!I$11,"") -> 9.6671949 | M21: =IF(H21="x",'Analiza danych'!J$11,"") -> 2.2187005 | N21: =SUM(I21:M21)+50 -> 100
B22: Jinko | C22: JKMxxxN-54HL4-(V) | D22: x | E22: x | F22: x | G22: x | H22: x | I22: =IF(D22="x",'Analiza danych'!F$11,"") -> 13.62916 | J22: =IF(E22="x",'Analiza danych'!G$11,"") -> 12.361331 | K22: =IF(F22="x",'Analiza danych'!H$11,"") -> 12.123613 | L22: =IF(G22="x",'Analiza danych'!I$11,"") -> 9.6671949 | M22: =IF(H22="x",'Analiza danych'!J$11,"") -> 2.2187005 | N22: =SUM(I22:M22)+50 -> 100
B23: First Solar | C23: FS-6xxxA-P-I | D23: x | E23: x | F23: x | G23: x | H23: x | I23: =IF(D23="x",'Analiza danych'!F$11,"") -> 13.62916 | J23: =IF(E23="x",'Analiza danych'!G$11,"") -> 12.361331 | K23: =IF(F23="x",'Analiza danych'!H$11,"") -> 12.123613 | L23: =IF(G23="x",'Analiza danych'!I$11,"") -> 9.6671949 | M23: =IF(H23="x",'Analiza danych'!J$11,"") -> 2.2187005 | N23: =SUM(I23:M23)+50 -> 100
B24: First Solar | C24: FS-6xxxA-P | D24: x | E24: x | F24: x | G24: x | H24: x | I24: =IF(D24="x",'Analiza danych'!F$11,"") -> 13.62916 | J24: =IF(E24="x",'Analiza danych'!G$11,"") -> 12.361331 | K24: =IF(F24="x",'Analiza danych'!H$11,"") -> 12.123613 | L24: =IF(G24="x",'Analiza danych'!I$11,"") -> 9.6671949 | M24: =IF(H24="x",'Analiza danych'!J$11,"") -> 2.2187005 | N24: =SUM(I24:M24)+50 -> 100
B25: First Solar | C25: FS-6xxx-P-I | D25: x | E25: x | F25: x | G25: x | H25: x | I25: =IF(D25="x",'Analiza danych'!F$11,"") -> 13.62916 | J25: =IF(E25="x",'Analiza danych'!G$11,"") -> 12.361331 | K25: =IF(F25="x",'Analiza danych'!H$11,"") -> 12.123613 | L25: =IF(G25="x",'Analiza danych'!I$11,"") -> 9.6671949 | M25: =IF(H25="x",'Analiza danych'!J$11,"") -> 2.2187005 | N25: =SUM(I25:M25)+50 -> 100
B26: First Solar | C26: FS-6xxx-P | D26: x | E26: x | F26: x | G26: x | H26: x | I26: =IF(D26="x",'Analiza danych'!F$11,"") -> 13.62916 | J26: =IF(E26="x",'Analiza danych'!G$11,"") -> 12.361331 | K26: =IF(F26="x",'Analiza danych'!H$11,"") -> 12.123613 | L26: =IF(G26="x",'Analiza danych'!I$11,"") -> 9.6671949 | M26: =IF(H26="x",'Analiza danych'!J$11,"") -> 2.2187005 | N26: =SUM(I26:M26)+50 -> 100
B27: EGing PV | C27: EG-xxxM72-HL/BF-DG | D27: x | E27: x | F27: x | G27: x | H27: x | I27: =IF(D27="x",'Analiza danych'!F$11,"") -> 13.62916 | J27: =IF(E27="x",'Analiza danych'!G$11,"") -> 12.361331 | K27: =IF(F27="x",'Analiza danych'!H$11,"") -> 12.123613 | L27: =IF(G27="x",'Analiza danych'!I$11,"") -> 9.6671949 | M27: =IF(H27="x",'Analiza danych'!J$11,"") -> 2.2187005 | N27: =SUM(I27:M27)+50 -> 100 | O27: TAK
B28: EGing PV | C28: EG-xxxM60-HL/BF-DG | D28: x | E28: x | F28: x | G28: x | H28: x | I28: =IF(D28="x",'Analiza danych'!F$11,"") -> 13.62916 | J28: =IF(E28="x",'Analiza danych'!G$11,"") -> 12.361331 | K28: =IF(F28="x",'Analiza danych'!H$11,"") -> 12.123613 | L28: =IF(G28="x",'Analiza danych'!I$11,"") -> 9.6671949 | M28: =IF(H28="x",'Analiza danych'!J$11,"") -> 2.2187005 | N28: =SUM(I28:M28)+50 -> 100
B29: EGing PV | C29: EG-xxxM54-HL/BF-DG | D29: x | E29: x | F29: x | G29: x | H29: x | I29: =IF(D29="x",'Analiza danych'!F$11,"") -> 13.62916 | J29: =IF(E29="x",'Analiza danych'!G$11,"") -> 12.361331 | K29: =IF(F29="x",'Analiza danych'!H$11,"") -> 12.123613 | L29: =IF(G29="x",'Analiza danych'!I$11,"") -> 9.6671949 | M29: =IF(H29="x",'Analiza danych'!J$11,"") -> 2.2187005 | N29: =SUM(I29:M29)+50 -> 100
B30: DMEGC Solar | C30: DMxxxM10-B72HSW/HBW | D30: x | E30: x | F30: x | G30: x | H30: x | I30: =IF(D30="x",'Analiza danych'!F$11,"") -> 13.62916 | J30: =IF(E30="x",'Analiza danych'!G$11,"") -> 12.361331 | K30: =IF(F30="x",'Analiza danych'!H$11,"") -> 12.123613 | L30: =IF(G30="x",'Analiza danych'!I$11,"") -> 9.6671949 | M30: =IF(H30="x",'Analiza danych'!J$11,"") -> 2.2187005 | N30: =SUM(I30:M30)+50 -> 100
B31: DMEGC Solar | C31: DMxxxM10-B66HSW/HBW | D31: x | E31: x | F31: x | G31: x | H31: x | I31: =IF(D31="x",'Analiza danych'!F$11,"") -> 13.62916 | J31: =IF(E31="x",'Analiza danych'!G$11,"") -> 12.361331 | K31: =IF(F31="x",'Analiza danych'!H$11,"") -> 12.123613 | L31: =IF(G31="x",'Analiza danych'!I$11,"") -> 9.6671949 | M31: =IF(H31="x",'Analiza danych'!J$11,"") -> 2.2187005 | N31: =SUM(I31:M31)+50 -> 100
B32: DMEGC Solar | C32: DMxxxM10-B66HST/HBT | D32: x | E32: x | F32: x | G32: x | H32: x | I32: =IF(D32="x",'Analiza danych'!F$11,"") -> 13.62916 | J32: =IF(E32="x",'Analiza danych'!G$11,"") -> 12.361331 | K32: =IF(F32="x",'Analiza danych'!H$11,"") -> 12.123613 | L32: =IF(G32="x",'Analiza danych'!I$11,"") -> 9.6671949 | M32: =IF(H32="x",'Analiza danych'!J$11,"") -> 2.2187005 | N32: =SUM(I32:M32)+50 -> 100
B33: Canadian Solar | C33: CS3N-xxxMS | D33: x | E33: x | F33: x | G33: x | H33: x | I33: =IF(D33="x",'Analiza danych'!F$11,"") -> 13.62916 | J33: =IF(E33="x",'Analiza danych'!G$11,"") -> 12.361331 | K33: =IF(F33="x",'Analiza danych'!H$11,"") -> 12.123613 | L33: =IF(G33="x",'Analiza danych'!I$11,"") -> 9.6671949 | M33: =IF(H33="x",'Analiza danych'!J$11,"") -> 2.2187005 | N33: =SUM(I33:M33)+50 -> 100
B34: Waaree | C34: Bi-62-AAA | D34: x | E34: x | F34: x | G34: x | H34: x | I34: =IF(D34="x",'Analiza danych'!F$11,"") -> 13.62916 | J34: =IF(E34="x",'Analiza danych'!G$11,"") -> 12.361331 | K34: =IF(F34="x",'Analiza danych'!H$11,"") -> 12.123613 | L34: =IF(G34="x",'Analiza danych'!I$11,"") -> 9.6671949 | M34: =IF(H34="x",'Analiza danych'!J$11,"") -> 2.2187005 | N34: =SUM(I34:M34)+50 -> 100
B35: Waaree | C35: Bi-55-AAA | D35: x | E35: x | F35: x | G35: x | H35: x | I35: =IF(D35="x",'Analiza danych'!F$11,"") -> 13.62916 | J35: =IF(E35="x",'Analiza danych'!G$11,"") -> 12.361331 | K35: =IF(F35="x",'Analiza danych'!H$11,"") -> 12.123613 | L35: =IF(G35="x",'Analiza danych'!I$11,"") -> 9.6671949 | M35: =IF(H35="x",'Analiza danych'!J$11,"") -> 2.2187005 | N35: =SUM(I35:M35)+50 -> 100 | O35: TAK
B36: Jinko | C36: JKMxxxM-72HL4-TV | D36: x | E36: x | F36: x | G36: x | I36: =IF(D36="x",'Analiza danych'!F$11,"") -> 13.62916 | J36: =IF(E36="x",'Analiza danych'!G$11,"") -> 12.361331 | K36: =IF(F36="x",'Analiza danych'!H$11,"") -> 12.123613 | L36: =IF(G36="x",'Analiza danych'!I$11,"") -> 9.6671949 | M36: =IF(H36="x",'Analiza danych'!J$11,"") | N36: =SUM(I36:M36)+50 -> 97.7813
B37: Qcells | C37: Q.PEAK DUO XL-G11.3/BFG | D37: x | E37: x | F37: x | H37: x | I37: =IF(D37="x",'Analiza danych'!F$11,"") -> 13.62916 | J37: =IF(E37="x",'Analiza danych'!G$11,"") -> 12.361331 | K37: =IF(F37="x",'Analiza danych'!H$11,"") -> 12.123613 | L37: =IF(G37="x",'Analiza danych'!I$11,"") | M37: =IF(H37="x",'Analiza danych'!J$11,"") -> 2.2187005 | N37: =SUM(I37:M37)+50 -> 90.332805
B38: Qcells | C38: Q.PEAK DUO XL-G10.3/BFG | D38: x | E38: x | F38: x | H38: x | I38: =IF(D38="x",'Analiza danych'!F$11,"") -> 13.62916 | J38: =IF(E38="x",'Analiza danych'!G$11,"") -> 12.361331 | K38: =IF(F38="x",'Analiza danych'!H$11,"") -> 12.123613 | L38: =IF(G38="x",'Analiza danych'!I$11,"") | M38: =IF(H38="x",'Analiza danych'!J$11,"") -> 2.2187005 | N38: =SUM(I38:M38)+50 -> 90.332805
B39: JA Solar | C39: JAM72D30-xxx/GB | D39: x | E39: x | F39: x | H39: x | I39: =IF(D39="x",'Analiza danych'!F$11,"") -> 13.62916 | J39: =IF(E39="x",'Analiza danych'!G$11,"") -> 12.361331 | K39: =IF(F39="x",'Analiza danych'!H$11,"") -> 12.123613 | L39: =IF(G39="x",'Analiza danych'!I$11,"") | M39: =IF(H39="x",'Analiza danych'!J$11,"") -> 2.2187005 | N39: =SUM(I39:M39)+50 -> 90.332805 | O39: TAK
B40: Huasun | C40: HS-210-B132 DSxxx | D40: x | E40: x | F40: x | H40: x | I40: =IF(D40="x",'Analiza danych'!F$11,"") -> 13.62916 | J40: =IF(E40="x",'Analiza danych'!G$11,"") -> 12.361331 | K40: =IF(F40="x",'Analiza danych'!H$11,"") -> 12.123613 | L40: =IF(G40="x",'Analiza danych'!I$11,"") | M40: =IF(H40="x",'Analiza danych'!J$11,"") -> 2.2187005 | N40: =SUM(I40:M40)+50 -> 90.332805 | O40: TAK
...

Sheet Przykładowa analiza danych
C4: Ile modułów danego typu? | D4: Ile % modułów danego typu przeszło próbę:
B5: Marka | C5: Ile modułów danego typu? | D5: TC | E5: DH | F5: MSS | G5: PID | H5: LID+LETID
B6: ET Solar | C6: 30 | D6: 0 | E6: 0.16666667 | F6: 0.26666667 | G6: 0.33333333 | H6: 0.66666667
B7: DMEGC Solar | C7: 22 | D7: 0.40909091 | E7: 0.59090909 | F7: 0.31818182 | G7: 0.63636364 | H7: 1
B8: Astronergy | C8: 16 | D8: 0.125 | E8: 0.4375 | F8: 0.375 | G8: 0.125 | H8: 1
B9: Jinko | C9: 15 | D9: 0.66666667 | E9: 0.8 | F9: 0.8 | G9: 0.73333333 | H9: 0.6
B10: Premier Energies | C10: 12 | D10: 0 | E10: 0 | F10: 0 | G10: 0.33333333 | H10: 1
B11: HD Hyundai | C11: 12 | D11: 0 | E11: 0 | F11: 0.16666667 | G11: 0 | H11: 1
B12: Waaree | C12: 10 | D12: 0.2 | E12: 0.2 | F12: 0.2 | G12: 0.2 | H12: 1
B13: Vikram Solar | C13: 10 | D13: 0 | E13: 0.3 | F13: 0.3 | G13: 0.3 | H13: 1
B14: Boviet Solar | C14: 10 | D14: 0 | E14: 0 | F14: 0.8 | G14: 1 | H14: 0
B15: VSUN | C15: 9 | D15: 1 | E15: 1 | F15: 0.55555556 | G15: 1 | H15: 1
B16: Qcells | C16: 8 | D16: 0.25 | E16: 0.25 | F16: 0.25 | G16: 0.5 | H16: 1
B17: AE Solar | C17: 8 | D17: 1 | E17: 0 | F17: 1 | G17: 0 | H17: 1
... B40: REC Group | C40: 1 | D40: 0 | E40: 0 | F40: 1 | G40: 1 | H40: 0

Sheet Dane kontaktowe i źródła
B4: Opis: Ranking paneli fotowoltaicznych stworzony na podstawie PVEL 2023 PV Module Reliability Scorecard
B6: Autor: Dawid Kaczmarczyk
B7: Główne źródło: PVEL 2023 PV Module Reliability Scorecard (https://scorecard.pvel.com)
B9: // Uwaga, arkusz jest otwarty do edycji dla każdego. Pewność dokładności informacji zyskujesz po pobraniu plików źródłowych.
B11: Masz sugestie, pomysły lub propozycje? Potrzebujesz pomocy ze swoim projektem?
B12: Napisz do mnie!
B14: dawkaczradiatus@gmail.com
B15: https://www.linkedin.com/in/dawid-kaczmarczyk-945246276/
B17: Jak wesprzeć autora?
B19: Jeśli te informacje są dla Ciebie wartościowe, rozważ przekazanie darowizny w formie przelewu lub przez poniższy link Paypal. Zapraszam też na kawę, mieszkam w Lublinie, bywam też często w Poznaniu i w okolicy Jeleniej Góry :)
B21: Przelew
B22: 27 1090 2688 0000 0001 5326 5948
... B27: https://www.paypal.com/donate/?hosted_button_id=QRHRFCXLET73E
