Workbook

Sheet Dane źródłowe
B1: Dane źródłowe pobrane z PVEL 2023 PV Module Reliability Scorecard (https://scorecard.pvel.com)
B3: // x – moduł przeszedł daną próbę i otrzymał status TOP PERFORMER
B5: Dane źródłowe z PVEL
D6: Próby niezawodności | I6: Test dodatkowy
B7: Producent | C7: Nazwa modułu | D7: TC | E7: DH | F7: MSS | G7: PID | H7: LID+LeTID | I7: PAN | J7: Rodzaj modułu | K7: Typ ogniwa | L7: Zakres mocy | M7: Ilość ogniw | N7: Szerokość wafla [mm] | O7: Lokacja fabryki | P7: Zbiorczy
D8: Zmiany temp | E8: Wilgoć | F8: Mikropęknięcia | G8: PID | H8: LID+LeTID
B9: ZNShine Solar | C9: ZXM7-SHLDD144-xxx/M | D9: x | E9: x | G9: x | H9: x | I9: x | J9: dwustronne - szkło/szkło | K9: p-type PERC | L9: 530-575W | M9: 144 | N9: 182 | O9: Kambodża | P9: ="-"&B9&"-"&C9&"-"&J9&"-"&K9&"-"&L9&"-"&M9&"-"&N9&"-"&O9&"-" -> -ZNShine Solar-ZXM7-SHLDD144-xxx/M-dwustronne - szkło/szkło-p-type PERC-530-575W-144-182-Kambodża-
B10: ZNShine Solar | C10: ZXM7-SHLDD132-xxx/M | D10: x | E10: x | G10: x | H10: x | J10: dwustronne - szkło/szkło | K10: p-type PERC | L10: 480-525W | M10: 132 | N10: 182 | O10: Kambodża | P10: ="-"&B10&"-"&C10&"-"&J10&"-"&K10&"-"&L10&"-"&M10&"-"&N10&"-"&O10&"-" -> -ZNShine Solar-ZXM7-SHLDD132-xxx/M-dwustronne - szkło/szkło-p-type PERC-480-525W-132-182-Kambodża-
B11: ZNShine Solar | C11: ZXM7-SHLDD120-xxx/M | D11: x | E11: x | G11: x | H11: x | J11: dwustronne - szkło/szkło | K11: p-type PERC | L11: 430-475W | M11: 120 | N11: 182 | O11: Kambodża | P11: ="-"&B11&"-"&C11&"-"&J11&"-"&K11&"-"&L11&"-"&M11&"-"&N11&"-"&O11&"-" -> -ZNShine Solar-ZXM7-SHLDD120-xxx/M-dwustronne - szkło/szkło-p-type PERC-430-475W-120-182-Kambodża-
B12: ZNShine Solar | C12: ZXM7-SHLDD108-xxx/M | D12: x | E12: x | G12: x | H12: x | J12: dwustronne - szkło/szkło | K12: p-type PERC | L12: 380-425W | M12: 108 | N12: 182 | O12: Kambodża | P12: ="-"&B12&"-"&C12&"-"&J12&"-"&K12&"-"&L12&"-"&M12&"-"&N12&"-"&O12&"-" -> -ZNShine Solar-ZXM7-SHLDD108-xxx/M-dwustronne - szkło/szkło-p-type PERC-380-425W-108-182-Kambodża-
B13: Yingli Solar | C13: YLxxxDF72 e/2 | D13: x | E13: x | F13: x | G13: x | H13: x | I13: x | J13: dwustronne - szkło/szkło | K13: p-type PERC | L13: 530-575W | M13: 144 | N13: 182 | O13: Chiny | P13: ="-"&B13&"-"&C13&"-"&J13&"-"&K13&"-"&L13&"-"&M13&"-"&N13&"-"&O13&"-" -> -Yingli Solar-YLxxxDF72 e/2-dwustronne - szkło/szkło-p-type PERC-530-575W-144-182-Chiny-
B14: Yingli Solar | C14: YLxxxDF54 e/2 | D14: x | E14: x | F14: x | G14: x | H14: x | J14: dwustronne - szkło/szkło | K14: p-type PERC | L14: 380-425W | M14: 108 | N14: 182 | O14: Chiny | P14: ="-"&B14&"-"&C14&"-"&J14&"-"&K14&"-"&L14&"-"&M14&"-"&N14&"-"&O14&"-" -> -Yingli Solar-YLxxxDF54 e/2-dwustronne - szkło/szkło-p-type PERC-380-425W-108-182-Chiny-
B15: Yingli Solar | C15: YLxxxD-49e 1/2 | H15: x | J15: jednostronne - szkło/folia | K15: p-type PERC | L15: 530-575W | M15: 144 | N15: 182 | O15: Chiny | P15: ="-"&B15&"-"&C15&"-"&J15&"-"&K15&"-"&L15&"-"&M15&"-"&N15&"-"&O15&"-" -> -Yingli Solar-YLxxxD-49e 1/2-jednostronne - szkło/folia-p-type PERC-530-575W-144-182-Chiny-
B16: Yingli Solar | C16: YLxxxD-37e 1/2 | H16: x | J16: jednostronne - szkło/folia | K16: p-type PERC | L16: 380-425W | M16: 108 | N16: 182 | O16: Chiny | P16: ="-"&B16&"-"&C16&"-"&J16&"-"&K16&"-"&L16&"-"&M16&"-"&N16&"-"&O16&"-" -> -Yingli Solar-YLxxxD-37e 1/2-jednostronne - szkło/folia-p-type PERC-380-425W-108-182-Chiny-
B17: Waaree | C17: WSMDP-AAA | H17: x | J17: jednostronne - szkło/folia | K17: p-type PERC | L17: 380-425W | M17: 108 | N17: 182 | O17: Indie | P17: ="-"&B17&"-"&C17&"-"&J17&"-"&K17&"-"&L17&"-"&M17&"-"&N17&"-"&O17&"-" -> -Waaree-WSMDP-AAA-jednostronne - szkło/folia-p-type PERC-380-425W-108-182-Indie-
B18: Waaree | C18: WSMDi-AAA | H18: x | J18: jednostronne - szkło/folia | K18: p-type PERC | L18: 430-475W | M18: 120 | N18: 182 | O18: Indie | P18: ="-"&B18&"-"&C18&"-"&J18&"-"&K18&"-"&L18&"-"&M18&"-"&N18&"-"&O18&"-" -> -Waaree-WSMDi-AAA-jednostronne - szkło/folia-p-type PERC-430-475W-120-182-Indie-
B19: Waaree | C19: WSMDB-AAA (144) | H19: x | J19: jednostronne - szkło/folia | K19: p-type PERC | L19: 530-575W | M19: 144 | N19: 182 | O19: Indie | P19: ="-"&B19&"-"&C19&"-"&J19&"-"&K19&"-"&L19&"-"&M19&"-"&N19&"-"&O19&"-" -> -Waaree-WSMDB-AAA (144)-jednostronne - szkło/folia-p-type PERC-530-575W-144-182-Indie-
B20: Waaree | C20: WSMDB-AAA (132) | H20: x | J20: jednostronne - szkło/folia | K20: p-type PERC | L20: 480-525W | M20: 132 | N20: 182 | O20: Indie | P20: ="-"&B20&"-"&C20&"-"&J20&"-"&K20&"-"&L20&"-"&M20&"-"&N20&"-"&O20&"-" -> -Waaree-WSMDB-AAA (132)-jednostronne - szkło/folia-p-type PERC-480-525W-132-182-Indie-
B21: Waaree | C21: WSMDB-AAA (120) | H21: x | J21: jednostronne - szkło/folia | K21: p-type PERC | L21: 430-475W | M21: 120 | N21: 182 | O21: Indie | P21: ="-"&B21&"-"&C21&"-"&J21&"-"&K21&"-"&L21&"-"&M21&"-"&N21&"-"&O21&"-" -> -Waaree-WSMDB-AAA (120)-jednostronne - szkło/folia-p-type PERC-430-475W-120-182-Indie-
B22: Waaree | C22: WSMDB-AAA (108) | H22: x | J22: jednostronne - szkło/folia | K22: p-type PERC | L22: 380-425W | M22: 108 | N22: 182 | O22: Indie | P22: ="-"&B22&"-"&C22&"-"&J22&"-"&K22&"-"&L22&"-"&M22&"-"&N22&"-"&O22&"-" -> -Waaree-WSMDB-AAA (108)-jednostronne - szkło/folia-p-type PERC-380-425W-108-182-Indie-
B23: Waaree | C23: WSMD-AAA (144) | H23: x | J23: jednostronne - szkło/folia | K23: p-type PERC | L23: 530-575W | M23: 144 | N23: 182 | O23: Indie | P23: ="-"&B23&"-"&C23&"-"&J23&"-"&K23&"-"&L23&"-"&M23&"-"&N23&"-"&O23&"-" -> -Waaree-WSMD-AAA (144)-jednostronne - szkło/folia-p-type PERC-530-575W-144-182-Indie-
B24: Waaree | C24: WSMD-AAA (132) | H24: x | J24: jednostronne - szkło/folia | K24: p-type PERC | L24: 480-525W | M24: 132 | N24: 182 | O24: Indie | P24: ="-"&B24&"-"&C24&"-"&J24&"-"&K24&"-"&L24&"-"&M24&"-"&N24&"-"&O24&"-" -> -Waaree-WSMD-AAA (132)-jednostronne - szkło/folia-p-type PERC-480-525W-132-182-Indie-
B25: VSUN | C25: VSUNxxx-144BMH-DG (M6) | D25: x | E25: x | F25: x | G25: x | H25: x | J25: dwustronne - szkło/szkło | K25: p-type PERC | L25: 430-475W | M25: 144 | N25: 166 | O25: Wietnam | P25: ="-"&B25&"-"&C25&"-"&J25&"-"&K25&"-"&L25&"-"&M25&"-"&N25&"-"&O25&"-" -> -VSUN-VSUNxxx-144BMH-DG (M6)-dwustronne - szkło/szkło-p-type PERC-430-475W-144-166-Wietnam-
B26: VSUN | C26: VSUNxxx-144BMH-DG | D26: x | E26: x | F26: x | G26: x | H26: x | J26: dwustronne - szkło/szkło | K26: p-type PERC | L26: 530-575W | M26: 144 | N26: 182 | O26: Wietnam | P26: ="-"&B26&"-"&C26&"-"&J26&"-"&K26&"-"&L26&"-"&M26&"-"&N26&"-"&O26&"-" -> -VSUN-VSUNxxx-144BMH-DG-dwustronne - szkło/szkło-p-type PERC-530-575W-144-182-Wietnam-
B27: VSUN | C27: VSUNxxx-144BMH | D27: x | E27: x | F27: x | G27: x | H27: x | J27: dwustronne - szkło/folia | K27: p-type PERC | L27: 530-575W | M27: 144 | N27: 182 | O27: Wietnam | P27: ="-"&B27&"-"&C27&"-"&J27&"-"&K27&"-"&L27&"-"&M27&"-"&N27&"-"&O27&"-" -> -VSUN-VSUNxxx-144BMH-dwustronne - szkło/folia-p-type PERC-530-575W-144-182-Wietnam-
B28: VSUN | C28: VSUNxxx-132BMH-DG | D28: x | E28: x | F28: x | G28: x | H28: x | J28: dwustronne - szkło/szkło | K28: p-type PERC | L28: 480-525W | M28: 132 | N28: 182 | O28: Wietnam | P28: ="-"&B28&"-"&C28&"-"&J28&"-"&K28&"-"&L28&"-"&M28&"-"&N28&"-"&O28&"-" -> -VSUN-VSUNxxx-132BMH-DG-dwustronne - szkło/szkło-p-type PERC-480-525W-132-182-Wietnam-
B29: VSUN | C29: VSUNxxx-132BMH | D29: x | E29: x | F29: x | G29: x | H29: x | J29: dwustronne - szkło/folia | K29: p-type PERC | L29: 480-525W | M29: 132 | N29: 182 | O29: Wietnam | P29: ="-"&B29&"-"&C29&"-"&J29&"-"&K29&"-"&L29&"-"&M29&"-"&N29&"-"&O29&"-" -> -VSUN-VSUNxxx-132BMH-dwustronne - szkło/folia-p-type PERC-480-525W-132-182-Wietnam-
B30: VSUN | C30: VSUNxxx-120BMH-DG | D30: x | E30: x | G30: x | H30: x | J30: dwustronne - szkło/szkło | K30: p-type PERC | L30: 430-475W | M30: 120 | N30: 182 | O30: Wietnam | P30: ="-"&B30&"-"&C30&"-"&J30&"-"&K30&"-"&L30&"-"&M30&"-"&N30&"-"&O30&"-" -> -VSUN-VSUNxxx-120BMH-DG-dwustronne - szkło/szkło-p-type PERC-430-475W-120-182-Wietnam-
B31: VSUN | C31: VSUNxxx-120BMH | D31: x | E31: x | G31: x | H31: x | J31: dwustronne - szkło/folia | K31: p-type PERC | L31: 430-475W | M31: 120 | N31: 182 | O31: Wietnam | P31: ="-"&B31&"-"&C31&"-"&J31&"-"&K31&"-"&L31&"-"&M31&"-"&N31&"-"&O31&"-" -> -VSUN-VSUNxxx-120BMH-dwustronne - szkło/folia-p-type PERC-430-475W-120-182-Wietnam-
B32: VSUN | C32: VSUNxxx-108BMH-DG | D32: x | E32: x | G32: x | H32: x | J32: dwustronne - szkło/szkło | K32: p-type PERC | L32: 380-425W | M32: 108 | N32: 182 | O32: Wietnam | P32: ="-"&B32&"-"&C32&"-"&J32&"-"&K32&"-"&L32&"-"&M32&"-"&N32&"-"&O32&"-" -> -VSUN-VSUNxxx-108BMH-DG-dwustronne - szkło/szkło-p-type PERC-380-425W-108-182-Wietnam-
B33: VSUN | C33: VSUNxxx-108BMH | D33: x | E33: x | G33: x | H33: x | J33: dwustronne - szkło/folia | K33: p-type PERC | L33: 380-425W | M33: 108 | N33: 182 | O33: Wietnam | P33: ="-"&B33&"-"&C33&"-"&J33&"-"&K33&"-"&L33&"-"&M33&"-"&N33&"-"&O33&"-" -> -VSUN-VSUNxxx-108BMH-dwustronne - szkło/folia-p-type PERC-380-425W-108-182-Wietnam-
B34: Vikram Solar | C34: VSMHBB.60.AAA.05 | H34: x | J34: jednostronne - szkło/folia | K34: p-type PERC | L34: 430-475W | M34: 120 | N34: 182 | O34: Indie | P34: ="-"&B34&"-"&C34&"-"&J34&"-"&K34&"-"&L34&"-"&M34&"-"&N34&"-"&O34&"-" -> -Vikram Solar-VSMHBB.60.AAA.05-jednostronne - szkło/folia-p-type PERC-430-475W-120-182-Indie-
B35: Vikram Solar | C35: VSMHBB.54.AAA.05 | H35: x | J35: jednostronne - szkło/folia | K35: p-type PERC | L35: 380-425W | M35: 108 | N35: 182 | O35: Indie | P35: ="-"&B35&"-"&C35&"-"&J35&"-"&K35&"-"&L35&"-"&M35&"-"&N35&"-"&O35&"-" -> -Vikram Solar-VSMHBB.54.AAA.05-jednostronne - szkło/folia-p-type PERC-380-425W-108-182-Indie-
B36: Vikram Solar | C36: VSMH.72.AAA.05 | H36: x | J36: jednostronne - szkło/folia | K36: p-type PERC | L36: 530-575W | M36: 144 | N36: 182 | O36: Indie | P36: ="-"&B36&"-"&C36&"-"&J36&"-"&K36&"-"&L36&"-"&M36&"-"&N36&"-"&O36&"-" -> -Vikram Solar-VSMH.72.AAA.05-jednostronne - szkło/folia-p-type PERC-530-575W-144-182-Indie-
B37: Vikram Solar | C37: VSMH.60.AAA.05 | H37: x | J37: jednostronne - szkło/folia | K37: p-type PERC | L37: 430-475W | M37: 120 | N37: 182 | O37: Indie | P37: ="-"&B37&"-"&C37&"-"&J37&"-"&K37&"-"&L37&"-"&M37&"-"&N37&"-"&O37&"-" -> -Vikram Solar-VSMH.60.AAA.05-jednostronne - szkło/folia-p-type PERC-430-475W-120-182-Indie-
B38: Vikram Solar | C38: VSMH.54.AAA.05 | H38: x | J38: jednostronne - szkło/folia | K38: p-type PERC | L38: 380-425W | M38: 108 | N38: 182 | O38: Indie | P38: ="-"&B38&"-"&C38&"-"&J38&"-"&K38&"-"&L38&"-"&M38&"-"&N38&"-"&O38&"-" -> -Vikram Solar-VSMH.54.AAA.05-jednostronne - szkło/folia-p-type PERC-380-425W-108-182-Indie-
B39: Vikram Solar | C39: VSMDHT.72.AAA.05 | H39: x | J39: dwustronne - szkło/folia | K39: p-type PERC | L39: 530-575W | M39: 144 | N39: 182 | O39: Indie | P39: ="-"&B39&"-"&C39&"-"&J39&"-"&K39&"-"&L39&"-"&M39&"-"&N39&"-"&O39&"-" -> -Vikram Solar-VSMDHT.72.AAA.05-dwustronne - szkło/folia-p-type PERC-530-575W-144-182-Indie-
B40: Vikram Solar | C40: VSMDHT.54.AAA.05 | H40: x | J40: dwustronne - szkło/folia | K40: p-type PERC | L40: 430-475W | M40: 120 | N40: 182 | O40: Indie | P40: ="-"&B40&"-"&C40&"-"&J40&"-"&K40&"-"&L40&"-"&M40&"-"&N40&"-"&O40&"-" -> -Vikram Solar-VSMDHT.54.AAA.05-dwustronne - szkło/folia-p-type PERC-430-475W-120-182-Indie-
B41: Vikram Solar | C41: VSMDH.72.AAA.05 | E41: x | F41: x | G41: x | H41: x | I41: x | J41: dwustronne - szkło/szkło | K41: p-type PERC | L41: 530-575W | M41: 144 | N41: 182 | O41: Indie | P41: ="-"&B41&"-"&C41&"-"&J41&"-"&K41&"-"&L41&"-"&M41&"-"&N41&"-"&O41&"-" -> -Vikram Solar-VSMDH.72.AAA.05-dwustronne - szkło/szkło-p-type PERC-530-575W-144-182-Indie-
B42: Vikram Solar | C42: VSMDH.60.AAA.05 | E42: x | F42: x | G42: x | H42: x | J42: dwustronne - szkło/szkło | K42: p-type PERC | L42: 430-475W | M42: 120 | N42: 182 | O42: Indie | P42: ="-"&B42&"-"&C42&"-"&J42&"-"&K42&"-"&L42&"-"&M42&"-"&N42&"-"&O42&"-" -> -Vikram Solar-VSMDH.60.AAA.05-dwustronne - szkło/szkło-p-type PERC-430-475W-120-182-Indie-
B43: Vikram Solar | C43: VSMDH.54.AAA.05 | E43: x | F43: x | G43: x | H43: x | J43: dwustronne - szkło/szkło | K43: p-type PERC | L43: 380-425W | M43: 108 | N43: 182 | O43: Indie | P43: ="-"&B43&"-"&C43&"-"&J43&"-"&K43&"-"&L43&"-"&M43&"-"&N43&"-"&O43&"-" -> -Vikram Solar-VSMDH.54.AAA.05-dwustronne - szkło/szkło-p-type PERC-380-425W-108-182-Indie-
B44: Trina Solar | C44: TSM-xxxNEG19RC.20 | E44: x | F44: x | G44: x | H44: x | J44: dwustronne - szkło/szkło | K44: n-type TOPCon | L44: 580-625W | M44: 132 | N44: 182 | O44: Chiny | P44: ="-"&B44&"-"&C44&"-"&J44&"-"&K44&"-"&L44&"-"&M44&"-"&N44&"-"&O44&"-" -> -Trina Solar-TSM-xxxNEG19RC.20-dwustronne - szkło/szkło-n-type TOPCon-580-625W-132-182-Chiny-
B45: Trina Solar | C45: TSM-xxxDEG21C.20 | F45: x | H45: x | J45: dwustronne - szkło/szkło | K45: p-type PERC | L45: 630-675W | M45: 132 | N45: 210 | O45: Chiny | P45: ="-"&B45&"-"&C45&"-"&J45&"-"&K45&"-"&L45&"-"&M45&"-"&N45&"-"&O45&"-" -> -Trina Solar-TSM-xxxDEG21C.20-dwustronne - szkło/szkło-p-type PERC-630-675W-132-210-Chiny-
B46: Trina Solar | C46: TSM-xxxDEG19C.20 | E46: x | F46: x | G46: x | H46: x | J46: dwustronne - szkło/szkło | K46: p-type PERC | L46: 530-575W | M46: 110 | N46: 210 | O46: Chiny | P46: ="-"&B46&"-"&C46&"-"&J46&"-"&K46&"-"&L46&"-"&M46&"-"&N46&"-"&O46&"-" -> -Trina Solar-TSM-xxxDEG19C.20-dwustronne - szkło/szkło-p-type PERC-530-575W-110-210-Chiny-
B47: Trina Solar | C47: TSM-xxxDE21 | D47: x | F47: x | H47: x | J47: jednostronne - szkło/folia | K47: p-type PERC | L47: 630-675W | M47: 132 | N47: 210 | O47: Chiny | P47: ="-"&B47&"-"&C47&"-"&J47&"-"&K47&"-"&L47&"-"&M47&"-"&N47&"-"&O47&"-" -> -Trina Solar-TSM-xxxDE21-jednostronne - szkło/folia-p-type PERC-630-675W-132-210-Chiny-
B48: Trina Solar | C48: TSM-xxxDE19 | D48: x | F48: x | H48: x | J48: jednostronne - szkło/folia | K48: p-type PERC | L48: 530-575W | M48: 110 | N48: 210 | O48: Chiny | P48: ="-"&B48&"-"&C48&"-"&J48&"-"&K48&"-"&L48&"-"&M48&"-"&N48&"-"&O48&"-" -> -Trina Solar-TSM-xxxDE19-jednostronne - szkło/folia-p-type PERC-530-575W-110-210-Chiny-
B49: Talesun | C49: TP7G72M | H49: x | J49: dwustronne - szkło/folia | K49: p-type PERC | L49: 530-575W | M49: 144 | N49: 182 | O49: Chiny | P49: ="-"&B49&"-"&C49&"-"&J49&"-"&K49&"-"&L49&"-"&M49&"-"&N49&"-"&O49&"-" -> -Talesun-TP7G72M-dwustronne - szkło/folia-p-type PERC-530-575W-144-182-Chiny-
B50: Talesun | C50: TP7G54M | H50: x | J50: dwustronne - szkło/folia | K50: p-type PERC | L50: 380-425W | M50: 108 | N50: 182 | O50: Chiny | P50: ="-"&B50&"-"&C50&"-"&J50&"-"&K50&"-"&L50&"-"&M50&"-"&N50&"-"&O50&"-" -> -Talesun-TP7G54M-dwustronne - szkło/folia-p-type PERC-380-425W-108-182-Chiny-
B51: Talesun | C51: TD7G72M | D51: x | E51: x | F51: x | G51: x | H51: x | I51: x | J51: dwustronne - szkło/szkło | K51: p-type PERC | L51: 530-575W | M51: 144 | N51: 182 | O51: Chiny | P51: ="-"&B51&"-"&C51&"-"&J51&"-"&K51&"-"&L51&"-"&M51&"-"&N51&"-"&O51&"-" -> -Talesun-TD7G72M-dwustronne - szkło/szkło-p-type PERC-530-575W-144-182-Chiny-
B52: Talesun | C52: TD7G66M | D52: x | E52: x | F52: x | G52: x | H52: x | J52: dwustronne - szkło/szkło | K52: p-type PERC | L52: 480-525W | M52: 132 | N52: 182 | O52: Chiny | P52: ="-"&B52&"-"&C52&"-"&J52&"-"&K52&"-"&L52&"-"&M52&"-"&N52&"-"&O52&"-" -> -Talesun-TD7G66M-dwustronne - szkło/szkło-p-type PERC-480-525W-132-182-Chiny-
B53: SolarSpace | C53: SS8-72HS-xxxM | H53: x | J53: jednostronne - szkło/folia | K53: p-type PERC | L53: 530-575W | M53: 144 | N53: 182 | O53: Chiny | P53: ="-"&B53&"-"&C53&"-"&J53&"-"&K53&"-"&L53&"-"&M53&"-"&N53&"-"&O53&"-" -> -SolarSpace-SS8-72HS-xxxM-jednostronne - szkło/folia-p-type PERC-530-575W-144-182-Chiny-
B54: SolarSpace | C54: SS8-72HD-xxxM | E54: x | F54: x | G54: x | H54: x | J54: dwustronne - szkło/szkło | K54: p-type PERC | L54: 530-575W | M54: 144 | N54: 182 | O54: Chiny | P54: ="-"&B54&"-"&C54&"-"&J54&"-"&K54&"-"&L54&"-"&M54&"-"&N54&"-"&O54&"-" -> -SolarSpace-SS8-72HD-xxxM-dwustronne - szkło/szkło-p-type PERC-530-575W-144-182-Chiny-
B55: SolarSpace | C55: SS8-60HS-xxxM | H55: x | J55: jednostronne - szkło/folia | K55: p-type PERC | L55: 430-475W | M55: 120 | N55: 182 | O55: Chiny | P55: ="-"&B55&"-"&C55&"-"&J55&"-"&K55&"-"&L55&"-"&M55&"-"&N55&"-"&O55&"-" -> -SolarSpace-SS8-60HS-xxxM-jednostronne - szkło/folia-p-type PERC-430-475W-120-182-Chiny-
B56: SolarSpace | C56: SS8-60HD-xxxM | E56: x | F56: x | G56: x | H56: x | J56: dwustronne - szkło/szkło | K56: p-type PERC | L56: 430-475W | M56: 120 | N56: 182 | O56: Chiny | P56: ="-"&B56&"-"&C56&"-"&J56&"-"&K56&"-"&L56&"-"&M56&"-"&N56&"-"&O56&"-" -> -SolarSpace-SS8-60HD-xxxM-dwustronne - szkło/szkło-p-type PERC-430-475W-120-182-Chiny-
B57: SolarSpace | C57: SS8-54HSB-xxxM | H57: x | J57: jednostronne - szkło/folia | K57: p-type PERC | L57: 380-425W | M57: 108 | N57: 182 | O57: Chiny | P57: ="-"&B57&"-"&C57&"-"&J57&"-"&K57&"-"&L57&"-"&M57&"-"&N57&"-"&O57&"-" -> -SolarSpace-SS8-54HSB-xxxM-jednostronne - szkło/folia-p-type PERC-380-425W-108-182-Chiny-
B58: SolarSpace | C58: SS8-54HS-xxxM | H58: x | J58: jednostronne - szkło/folia | K58: p-type PERC | L58: 380-425W | M58: 108 | N58: 182 | O58: Chiny | P58: ="-"&B58&"-"&C58&"-"&J58&"-"&K58&"-"&L58&"-"&M58&"-"&N58&"-"&O58&"-" -> -SolarSpace-SS8-54HS-xxxM-jednostronne - szkło/folia-p-type PERC-380-425W-108-182-Chiny-
B59: SolarSpace | C59: SS8-54HD-xxxM | E59: x | G59: x | H59: x | J59: dwustronne - szkło/szkło | K59: p-type PERC | L59: 380-425W | M59: 108 | N59: 182 | O59: Chiny | P59: ="-"&B59&"-"&C59&"-"&J59&"-"&K59&"-"&L59&"-"&M59&"-"&N59&"-"&O59&"-" -> -SolarSpace-SS8-54HD-xxxM-dwustronne - szkło/szkło-p-type PERC-380-425W-108-182-Chiny-
B60: Maxeon | C60: SPR-P6-xxx-UPP | H60: x | J60: dwustronne - szkło/szkło | K60: p-type PERC | L60: 530-575W | M60: 345 | N60: 210 | O60: Meksyk | P60: ="-"&B60&"-"&C60&"-"&J60&"-"&K60&"-"&L60&"-"&M60&"-"&N60&"-"&O60&"-" -> -Maxeon-SPR-P6-xxx-UPP-dwustronne - szkło/szkło-p-type PERC-530-575W-345-210-Meksyk-
B61: Maxeon | C61: SPR-P6-xxx-COM-XS | H61: x | J61: jednostronne - szkło/folia | K61: p-type PERC | L61: 380-425W | M61: 260 | N61: 210 | O61: Meksyk | P61: ="-"&B61&"-"&C61&"-"&J61&"-"&K61&"-"&L61&"-"&M61&"-"&N61&"-"&O61&"-" -> -Maxeon-SPR-P6-xxx-COM-XS-jednostronne - szkło/folia-p-type PERC-380-425W-260-210-Meksyk-
B62: Maxeon | C62: SPR-P6-xxx-COM-S-BF | H62: x | J62: dwustronne - szkło/szkło | K62: p-type PERC | L62: 480-525W | M62: 315 | N62: 210 | O62: Meksyk | P62: ="-"&B62&"-"&C62&"-"&J62&"-"&K62&"-"&L62&"-"&M62&"-"&N62&"-"&O62&"-" -> -Maxeon-SPR-P6-xxx-COM-S-BF-dwustronne - szkło/szkło-p-type PERC-480-525W-315-210-Meksyk-
B63: Maxeon | C63: SPR-P6-xxx-COM-M-BF | H63: x | J63: dwustronne - szkło/szkło | K63: p-type PERC | L63: 530-575W | M63: 345 | N63: 210 | O63: Meksyk | P63: ="-"&B63&"-"&C63&"-"&J63&"-"&K63&"-"&L63&"-"&M63&"-"&N63&"-"&O63&"-" -> -Maxeon-SPR-P6-xxx-COM-M-BF-dwustronne - szkło/szkło-p-type PERC-530-575W-345-210-Meksyk-
B64: Maxeon | C64: SPR-P6-XXX-BLK | H64: x | J64: jednostronne - szkło/folia | K64: p-type PERC | L64: 380-425W | M64: 260 | N64: 210 | O64: Meksyk | P64: ="-"&B64&"-"&C64&"-"&J64&"-"&K64&"-"&L64&"-"&M64&"-"&N64&"-"&O64&"-" -> -Maxeon-SPR-P6-XXX-BLK-jednostronne - szkło/folia-p-type PERC-380-425W-260-210-Meksyk-
B65: Akcome | C65: SKA611HDGDC | D65: x | E65: x | F65: x | G65: x | H65: x | J65: dwustronne - szkło/szkło | K65: n-type HJT | L65: 675W+ | M65: 132 | N65: 210 | O65: Chiny | P65: ="-"&B65&"-"&C65&"-"&J65&"-"&K65&"-"&L65&"-"&M65&"-"&N65&"-"&O65&"-" -> -Akcome-SKA611HDGDC-dwustronne - szkło/szkło-n-type HJT-675W+-132-210-Chiny-
B66: Akcome | C66: SKA610HDGDC | D66: x | E66: x | F66: x | G66: x | H66: x | J66: dwustronne - szkło/szkło | K66: n-type HJT | L66: 630-675W | M66: 120 | N66: 210 | O66: Chiny | P66: ="-"&B66&"-"&C66&"-"&J66&"-"&K66&"-"&L66&"-"&M66&"-"&N66&"-"&O66&"-" -> -Akcome-SKA610HDGDC-dwustronne - szkło/szkło-n-type HJT-630-675W-120-210-Chiny-
B67: Akcome | C67: SKA511HDGDC | D67: x | E67: x | G67: x | H67: x | J67: dwustronne - szkło/szkło | K67: n-type HJT | L67: 530-575W | M67: 110 | N67: 210 | O67: Chiny | P67: ="-"&B67&"-"&C67&"-"&J67&"-"&K67&"-"&L67&"-"&M67&"-"&N67&"-"&O67&"-" -> -Akcome-SKA511HDGDC-dwustronne - szkło/szkło-n-type HJT-530-575W-110-210-Chiny-
B68: Akcome | C68: SKA510HDGDC | D68: x | E68: x | G68: x | H68: x | J68: dwustronne - szkło/szkło | K68: n-type HJT | L68: 480-525W | M68: 100 | N68: 210 | O68: Chiny | P68: ="-"&B68&"-"&C68&"-"&J68&"-"&K68&"-"&L68&"-"&M68&"-"&N68&"-"&O68&"-" -> -Akcome-SKA510HDGDC-dwustronne - szkło/szkło-n-type HJT-480-525W-100-210-Chiny-
B69: Akcome | C69: SKA509HDGDC | D69: x | E69: x | G69: x | H69: x | J69: dwustronne - szkło/szkło | K69: n-type HJT | L69: 430-475W | M69: 90 | N69: 210 | O69: Chiny | P69: ="-"&B69&"-"&C69&"-"&J69&"-"&K69&"-"&L69&"-"&M69&"-"&N69&"-"&O69&"-" -> -Akcome-SKA509HDGDC-dwustronne - szkło/szkło-n-type HJT-430-475W-90-210-Chiny-
B70: Akcome | C70: SKA508HDGDC | D70: x | E70: x | G70: x | H70: x | J70: dwustronne - szkło/szkło | K70: n-type HJT | L70: 380-425W | M70: 80 | N70: 210 | O70: Chiny | P70: ="-"&B70&"-"&C70&"-"&J70&"-"&K70&"-"&L70&"-"&M70&"-"&N70&"-"&O70&"-" -> -Akcome-SKA508HDGDC-dwustronne - szkło/szkło-n-type HJT-380-425W-80-210-Chiny-
B71: Silfab Solar | C71: SIL-xxxHN | G71: x | H71: x | J71: jednostronne - szkło/folia | K71: p-type PERC | L71: 480-525W | M71: 156 | N71: 166 | O71: Kanada | P71: ="-"&B71&"-"&C71&"-"&J71&"-"&K71&"-"&L71&"-"&M71&"-"&N71&"-"&O71&"-" -> -Silfab Solar-SIL-xxxHN-jednostronne - szkło/folia-p-type PERC-480-525W-156-166-Kanada-
B72: Silfab Solar | C72: SIL-xxxHC+ | F72: x | G72: x | H72: x | J72: jednostronne - szkło/folia | K72: p-type PERC | L72: 380-425W | M72: 132 | N72: 166 | O72: Kanada | P72: ="-"&B72&"-"&C72&"-"&J72&"-"&K72&"-"&L72&"-"&M72&"-"&N72&"-"&O72&"-" -> -Silfab Solar-SIL-xxxHC+-jednostronne - szkło/folia-p-type PERC-380-425W-132-166-Kanada-
B73: Silfab Solar | C73: SIL-xxxHC | F73: x | G73: x | H73: x | J73: jednostronne - szkło/folia | K73: p-type PERC | L73: 330-375W | M73: 120 | N73: 166 | O73: Kanada | P73: ="-"&B73&"-"&C73&"-"&J73&"-"&K73&"-"&L73&"-"&M73&"-"&N73&"-"&O73&"-" -> -Silfab Solar-SIL-xxxHC-jednostronne - szkło/folia-p-type PERC-330-375W-120-166-Kanada-
B74: SEG Solar | C74: SEG-XXX-BTD-BG | G74: x | J74: dwustronne - szkło/szkło | K74: n-type TOPCon | L74: 380-425W | M74: 108 | N74: 182 | O74: Chiny | P74: ="-"&B74&"-"&C74&"-"&J74&"-"&K74&"-"&L74&"-"&M74&"-"&N74&"-"&O74&"-" -> -SEG Solar-SEG-XXX-BTD-BG-dwustronne - szkło/szkło-n-type TOPCon-380-425W-108-182-Chiny-
B75: SEG Solar | C75: SEG-XXX-BTB-BG | G75: x | J75: dwustronne - szkło/szkło | K75: n-type TOPCon | L75: 430-475W | M75: 120 | N75: 182 | O75: Chiny | P75: ="-"&B75&"-"&C75&"-"&J75&"-"&K75&"-"&L75&"-"&M75&"-"&N75&"-"&O75&"-" -> -SEG Solar-SEG-XXX-BTB-BG-dwustronne - szkło/szkło-n-type TOPCon-430-475W-120-182-Chiny-
B76: SEG Solar | C76: SEG-XXX-BTA-BG | G76: x | I76: x | J76: dwustronne - szkło/szkło | K76: n-type TOPCon | L76: 530-575W | M76: 144 | N76: 182 | O76: Chiny | P76: ="-"&B76&"-"&C76&"-"&J76&"-"&K76&"-"&L76&"-"&M76&"-"&N76&"-"&O76&"-" -> -SEG Solar-SEG-XXX-BTA-BG-dwustronne - szkło/szkło-n-type TOPCon-530-575W-144-182-Chiny-
B77: Risen Energy | C77: RSM132-8-xxxM | H77: x | J77: jednostronne - szkło/folia | K77: p-type PERC | L77: 630-675W | M77: 132 | N77: 210 | O77: Chiny | P77: ="-"&B77&"-"&C77&"-"&J77&"-"&K77&"-"&L77&"-"&M77&"-"&N77&"-"&O77&"-" -> -Risen Energy-RSM132-8-xxxM-jednostronne - szkło/folia-p-type PERC-630-675W-132-210-Chiny-
B78: Risen Energy | C78: RSM132-8-xxxBMDG | G78: x | H78: x | J78: dwustronne - szkło/szkło | K78: p-type PERC | L78: 630-675W | M78: 132 | N78: 210 | O78: Chiny | P78: ="-"&B78&"-"&C78&"-"&J78&"-"&K78&"-"&L78&"-"&M78&"-"&N78&"-"&O78&"-" -> -Risen Energy-RSM132-8-xxxBMDG-dwustronne - szkło/szkło-p-type PERC-630-675W-132-210-Chiny-
B79: Risen Energy | C79: RSM120-8-xxxM | H79: x | J79: jednostronne - szkło/folia | K79: p-type PERC | L79: 580-625W | M79: 120 | N79: 210 | O79: Chiny | P79: ="-"&B79&"-"&C79&"-"&J79&"-"&K79&"-"&L79&"-"&M79&"-"&N79&"-"&O79&"-" -> -Risen Energy-RSM120-8-xxxM-jednostronne - szkło/folia-p-type PERC-580-625W-120-210-Chiny-
B80: Risen Energy | C80: RSM120-8-xxxBMDG | D80: x | F80: x | G80: x | H80: x | I80: x | J80: dwustronne - szkło/szkło | K80: p-type PERC | L80: 580-625W | M80: 120 | N80: 210 | O80: Chiny | P80: ="-"&B80&"-"&C80&"-"&J80&"-"&K80&"-"&L80&"-"&M80&"-"&N80&"-"&O80&"-" -> -Risen Energy-RSM120-8-xxxBMDG-dwustronne - szkło/szkło-p-type PERC-580-625W-120-210-Chiny-
B81: Risen Energy | C81: RSM110-8-xxxM | H81: x | J81: jednostronne - szkło/folia | K81: p-type PERC | L81: 530-575W | M81: 110 | N81: 210 | O81: Chiny | P81: ="-"&B81&"-"&C81&"-"&J81&"-"&K81&"-"&L81&"-"&M81&"-"&N81&"-"&O81&"-" -> -Risen Energy-RSM110-8-xxxM-jednostronne - szkło/folia-p-type PERC-530-575W-110-210-Chiny-
B82: Risen Energy | C82: RSM110-8-xxxBMDG | F82: x | G82: x | H82: x | J82: dwustronne - szkło/szkło | K82: p-type PERC | L82: 530-575W | M82: 110 | N82: 210 | O82: Chiny | P82: ="-"&B82&"-"&C82&"-"&J82&"-"&K82&"-"&L82&"-"&M82&"-"&N82&"-"&O82&"-" -> -Risen Energy-RSM110-8-xxxBMDG-dwustronne - szkło/szkło-p-type PERC-530-575W-110-210-Chiny-
B83: Qcells | C83: Q.PEAK DUO XL-G11.3/BFG | D83: x | E83: x | F83: x | H83: x | J83: dwustronne - szkło/szkło | K83: p-type PERC | L83: 580-625W | M83: 156 | N83: 182 | O83: Korea Płd. | P83: ="-"&B83&"-"&C83&"-"&J83&"-"&K83&"-"&L83&"-"&M83&"-"&N83&"-"&O83&"-" -> -Qcells-Q.PEAK DUO XL-G11.3/BFG-dwustronne - szkło/szkło-p-type PERC-580-625W-156-182-Korea Płd.-
B84: Qcells | C84: Q.PEAK DUO XL-G10.d | G84: x | H84: x | J84: jednostronne - szkło/folia | K84: p-type PERC | L84: 480-525W | M84: 156 | N84: 166 | O84: Korea Płd. | P84: ="-"&B84&"-"&C84&"-"&J84&"-"&K84&"-"&L84&"-"&M84&"-"&N84&"-"&O84&"-" -> -Qcells-Q.PEAK DUO XL-G10.d-jednostronne - szkło/folia-p-type PERC-480-525W-156-166-Korea Płd.-
B85: Qcells | C85: Q.PEAK DUO XL-G10.c | G85: x | H85: x | J85: jednostronne - szkło/folia | K85: p-type PERC | L85: 480-525W | M85: 156 | N85: 166 | O85: Korea Płd. | P85: ="-"&B85&"-"&C85&"-"&J85&"-"&K85&"-"&L85&"-"&M85&"-"&N85&"-"&O85&"-" -> -Qcells-Q.PEAK DUO XL-G10.c-jednostronne - szkło/folia-p-type PERC-480-525W-156-166-Korea Płd.-
B86: Qcells | C86: Q.PEAK DUO XL-G10.3/BFG | D86: x | E86: x | F86: x | H86: x | J86: dwustronne - szkło/szkło | K86: p-type PERC | L86: 480-525W | M86: 156 | N86: 166 | O86: Korea Płd. | P86: ="-"&B86&"-"&C86&"-"&J86&"-"&K86&"-"&L86&"-"&M86&"-"&N86&"-"&O86&"-" -> -Qcells-Q.PEAK DUO XL-G10.3/BFG-dwustronne - szkło/szkło-p-type PERC-480-525W-156-166-Korea Płd.-
B87: Qcells | C87: Q.PEAK DUO XL-G10.3 | H87: x | J87: jednostronne - szkło/folia | K87: p-type PERC | L87: 480-525W | M87: 156 | N87: 166 | O87: Korea Płd. | P87: ="-"&B87&"-"&C87&"-"&J87&"-"&K87&"-"&L87&"-"&M87&"-"&N87&"-"&O87&"-" -> -Qcells-Q.PEAK DUO XL-G10.3-jednostronne - szkło/folia-p-type PERC-480-525W-156-166-Korea Płd.-
B88: Qcells | C88: Q.PEAK DUO XL-G10.2 | H88: x | J88: jednostronne - szkło/folia | K88: p-type PERC | L88: 480-525W | M88: 156 | N88: 166 | O88: Korea Płd. | P88: ="-"&B88&"-"&C88&"-"&J88&"-"&K88&"-"&L88&"-"&M88&"-"&N88&"-"&O88&"-" -> -Qcells-Q.PEAK DUO XL-G10.2-jednostronne - szkło/folia-p-type PERC-480-525W-156-166-Korea Płd.-
B89: Qcells | C89: Q.PEAK DUO BLK-G10+ | G89: x | H89: x | J89: jednostronne - szkło/folia | K89: p-type PERC | L89: 330-375W | M89: 120 | N89: 166 | O89: Korea Płd. | P89: ="-"&B89&"-"&C89&"-"&J89&"-"&K89&"-"&L89&"-"&M89&"-"&N89&"-"&O89&"-" -> -Qcells-Q.PEAK DUO BLK-G10+-jednostronne - szkło/folia-p-type PERC-330-375W-120-166-Korea Płd.-
B90: Qcells | C90: Q.PEAK DUO BLK ML-G10+ | G90: x | H90: x | J90: jednostronne - szkło/folia | K90: p-type PERC | L90: 380-425W | M90: 132 | N90: 166 | O90: Korea Płd. | P90: ="-"&B90&"-"&C90&"-"&J90&"-"&K90&"-"&L90&"-"&M90&"-"&N90&"-"&O90&"-" -> -Qcells-Q.PEAK DUO BLK ML-G10+-jednostronne - szkło/folia-p-type PERC-380-425W-132-166-Korea Płd.-
B91: Phono Solar | C91: PSxxxM8GFH-24/TH | E91: x | G91: x | H91: x | J91: dwustronne - szkło/szkło | K91: p-type PERC | L91: 530-575W | M91: 144 | N91: 182 | O91: Chiny | P91: ="-"&B91&"-"&C91&"-"&J91&"-"&K91&"-"&L91&"-"&M91&"-"&N91&"-"&O91&"-" -> -Phono Solar-PSxxxM8GFH-24/TH-dwustronne - szkło/szkło-p-type PERC-530-575W-144-182-Chiny-
B92: Phono Solar | C92: PSxxxM8GFH-22/WH | E92: x | G92: x | H92: x | J92: dwustronne - szkło/szkło | K92: p-type PERC | L92: 480-525W | M92: 132 | N92: 182 | O92: Chiny | P92: ="-"&B92&"-"&C92&"-"&J92&"-"&K92&"-"&L92&"-"&M92&"-"&N92&"-"&O92&"-" -> -Phono Solar-PSxxxM8GFH-22/WH-dwustronne - szkło/szkło-p-type PERC-480-525W-132-182-Chiny-
B93: Phono Solar | C93: PSxxxM8GFH-20/UH | E93: x | G93: x | H93: x | J93: dwustronne - szkło/szkło | K93: p-type PERC | L93: 430-475W | M93: 120 | N93: 182 | O93: Chiny | P93: ="-"&B93&"-"&C93&"-"&J93&"-"&K93&"-"&L93&"-"&M93&"-"&N93&"-"&O93&"-" -> -Phono Solar-PSxxxM8GFH-20/UH-dwustronne - szkło/szkło-p-type PERC-430-475W-120-182-Chiny-
B94: Phono Solar | C94: PSxxxM8GFH-18/VH | D94: x | E94: x | F94: x | G94: x | H94: x | J94: dwustronne - szkło/szkło | K94: p-type PERC | L94: 380-425W | M94: 108 | N94: 182 | O94: Chiny | P94: ="-"&B94&"-"&C94&"-"&J94&"-"&K94&"-"&L94&"-"&M94&"-"&N94&"-"&O94&"-" -> -Phono Solar-PSxxxM8GFH-18/VH-dwustronne - szkło/szkło-p-type PERC-380-425W-108-182-Chiny-
B95: Premier Energies | C95: PE-AAAHM (144) | H95: x | J95: jednostronne - szkło/folia | K95: p-type PERC | L95: 530-575W | M95: 144 | N95: 182 | O95: Indie | P95: ="-"&B95&"-"&C95&"-"&J95&"-"&K95&"-"&L95&"-"&M95&"-"&N95&"-"&O95&"-" -> -Premier Energies-PE-AAAHM (144)-jednostronne - szkło/folia-p-type PERC-530-575W-144-182-Indie-
B96: Premier Energies | C96: PE-AAAHM (132) | H96: x | J96: jednostronne - szkło/folia | K96: p-type PERC | L96: 480-525W | M96: 132 | N96: 182 | O96: Indie | P96: ="-"&B96&"-"&C96&"-"&J96&"-"&K96&"-"&L96&"-"&M96&"-"&N96&"-"&O96&"-" -> -Premier Energies-PE-AAAHM (132)-jednostronne - szkło/folia-p-type PERC-480-525W-132-182-Indie-
B97: Premier Energies | C97: PE-AAAHM (120) | H97: x | J97: jednostronne - szkło/folia | K97: p-type PERC | L97: 430-475W | M97: 120 | N97: 182 | O97: Indie | P97: ="-"&B97&"-"&C97&"-"&J97&"-"&K97&"-"&L97&"-"&M97&"-"&N97&"-"&O97&"-" -> -Premier Energies-PE-AAAHM (120)-jednostronne - szkło/folia-p-type PERC-430-475W-120-182-Indie-
B98: Premier Energies | C98: PE-AAAHM (108) | H98: x | J98: jednostronne - szkło/folia | K98: p-type PERC | L98: 380-425W | M98: 108 | N98: 182 | O98: Indie | P98: ="-"&B98&"-"&C98&"-"&J98&"-"&K98&"-"&L98&"-"&M98&"-"&N98&"-"&O98&"-" -> -Premier Energies-PE-AAAHM (108)-jednostronne - szkło/folia-p-type PERC-380-425W-108-182-Indie-
B99: Premier Energies | C99: PE-AAAHGB (144) | G99: x | H99: x | J99: dwustronne - szkło/szkło | K99: p-type PERC | L99: 530-575W | M99: 144 | N99: 182 | O99: Indie | P99: ="-"&B99&"-"&C99&"-"&J99&"-"&K99&"-"&L99&"-"&M99&"-"&N99&"-"&O99&"-" -> -Premier Energies-PE-AAAHGB (144)-dwustronne - szkło/szkło-p-type PERC-530-575W-144-182-Indie-
B100: Premier Energies | C100: PE-AAAHGB (132) | G100: x | H100: x | J100: dwustronne - szkło/szkło | K100: p-type PERC | L100: 480-525W | M100: 132 | N100: 182 | O100: Indie | P100: ="-"&B100&"-"&C100&"-"&J100&"-"&K100&"-"&L100&"-"&M100&"-"&N100&"-"&O100&"-" -> -Premier Energies-PE-AAAHGB (132)-dwustronne - szkło/szkło-p-type PERC-480-525W-132-182-Indie-
B101: Premier Energies | C101: PE-AAAHGB (120) | G101: x | H101: x | J101: dwustronne - szkło/szkło | K101: p-type PERC | L101: 430-475W | M101: 120 | N101: 182 | O101: Indie | P101: ="-"&B101&"-"&C101&"-"&J101&"-"&K101&"-"&L101&"-"&M101&"-"&N101&"-"&O101&"-" -> -Premier Energies-PE-AAAHGB (120)-dwustronne - szkło/szkło-p-type PERC-430-475W-120-182-Indie-
B102: Premier Energies | C102: PE-AAAHGB (108) | G102: x | H102: x | J102: dwustronne - szkło/szkło | K102: p-type PERC | L102: 380-425W | M102: 108 | N102: 182 | O102: Indie | P102: ="-"&B102&"-"&C102&"-"&J102&"-"&K102&"-"&L102&"-"&M102&"-"&N102&"-"&O102&"-" -> -Premier Energies-PE-AAAHGB (108)-dwustronne - szkło/szkło-p-type PERC-380-425W-108-182-Indie-
...

Sheet Opis procedury testowania
B3: Opis procedury testów | C3: Opis procedury testów
B4: SKRÓT | C4: TC | D4: DH | E4: MSS | F4: PID | G4: LID+LETID | H4: PAN
B5: Nazwa | C5: Próba cykli termicznych | D5: Próba wilgoci i ciepła | E5: Próba obciążeń | F5: Próba PID | G5: Próba LID i LETID | H5: Dodatkowy test PAN
B6: Opisuje | C6: Odporność na zmiany temperatury | D6: Odporność na wilgoć | E6: Odporność na śnieg i wiatr | F6: Odporność na zjawisko PID | G6: Odporność na zjawiska LID i LeTID | H6: Symuluje wydajność modułów
B7: Procedura | C7: 600 cykli. W każdym cyklu moduły ochładzane do -40°C, potem ogrzewane do +85°C i traktowane maksymalnym dopuszczalnym prądem. | D7: 2 cykle po 1000 godzin w warunkach 85°C i w wilgotności 85%. | E7: 3 cykle obciążeń statycznych (1 h 2400 Pa) + 1000 cykli naprzemiennych obciążeń dynamicznych 1000 Pa + 50 cykli termicznych + 10 cykli zamrażania i zawilgacania (od +85°C przy wilgotności 85% do -40°C) | F7: 192 godziny w warunkach 85°C przy wilgotności 85% i przy traktowaniu maksymalnym dopuszczalnym napięciem | G7: LID – 17 modułów jest testownych zgodnie z procedurą z IEC 61215 LETID – 2 moduły, które przeszły LID, są wkładane do komory z 75°C na 486 h, gdzie są traktowane niskim prądem. | H7: Wydajność jest wyznaczana dla dwóch lokacji przez program PVsyst na podstawie plików PAN.
B8: Wymagania TOP PERFORMER | C8: Moduły nie mogą stracić więcej niż 2% mocy. | D8: Moduły nie mogą stracić więcej niż 2% mocy. | E8: Moduły nie mogą stracić więcej niż 2% mocy. | F8: Moduły nie mogą stracić więcej niż 2% mocy. | G8: Moduły nie mogą stracić więcej niż 2% mocy. | H8: Moduł muszą znaleźć się w 10% modułów o najlepszej wydajności
B9: Porównanie z certyfikatem IEC61215 | C9: Certyfikat IEC61215 wymaga 200 takich cyklów i utratę mocy nie większą niż 5% | D9: Certyfikat IEC61215 wymaga 1 taki cykl i utratę mocy nie większą niż 5% | E9: ? | F9: Certyfikat IEC61215 wymaga 96 godzin w takich warunkach przy utracie mocy nie większej niż 5% | G9: ?
B10: Link | C10: https://scorecard.pvel.com/thermal-cycling/ | D10: https://scorecard.pvel.com/damp-heat/ | E10: https://scorecard.pvel.com/mechanical-stress-sequence/ | F10: https://scorecard.pvel.com/pid/ | G10: https://scorecard.pvel.com/lidletid/ | H10: https://scorecard.pvel.com/pan-performance/

Sheet Analiza danych
E3: Analiza trudności prób niezawodności
F4: TC | G4: DH | H4: MSS | I4: PID | J4: LID+LETID
E5: Ile modułów zdało? | F5: =COUNTIF('Dane źródłowe'!D$9:D$255,"x") -> 75 | G5: =COUNTIF('Dane źródłowe'!E$9:E$255,"x") -> 91 | H5: =COUNTIF('Dane źródłowe'!F$9:F$255,"x") -> 94 | I5: =COUNTIF('Dane źródłowe'!G$9:G$255,"x") -> 125 | J5: =COUNTIF('Dane źródłowe'!H$9:H$255,"x") -> 219
E6: Ile to procent ogółu? | F6: =F5*100%/247 -> 0.30364372 | G6: =G5*100%/247 -> 0.36842105 | H6: =H5*100%/247 -> 0.3805668 | I6: =I5*100%/247 -> 0.50607287 | J6: =J5*100%/247 -> 0.88663968
E7: Ile procent nie zdało? | F7: =100%-F6 -> 0.69635628 | G7: =100%-G6 -> 0.63157895 | H7: =100%-H6 -> 0.6194332 | I7: =100%-I6 -> 0.49392713 | J7: =100%-J6 -> 0.11336032
E8: Analiza wagi testów na potrzeby rankingu
E9: Ustalanie wagi testów automatyczne czy ręczne? | F9: Automatyczne, na podstawie trudności testu | Q9: // Oceny cząstkowe na potrzeby rankingu są wyliczane tak, by zdanie wszystkich testów dało 50 punktów. Próby o większej wadze dają propocjonalnie więcej punktów. Wyniki w zakładce „Ranking”
E10: =IF(F9="Automatyczne, na podstawie trudności testu","","Wprowadź ręcznie wagę testu") | K10: =SUM(F10:J10) -> 0
E11: Ocena cząstkowa za test | F11: =IF($F$9="Automatyczne, na podstawie trudności testu",(100%-F6)*(50/SUM($F$7:$J$7)),F10/$K$10*50) -> 13.62916 | G11: =IF($F$9="Automatyczne, na podstawie trudności testu",(100%-G6)*(50/SUM($F$7:$J$7)),G10/$K$10*50) -> 12.361331 | H11: =IF($F$9="Automatyczne, na podstawie trudności testu",(100%-H6)*(50/SUM($F$7:$J$7)),H10/$K$10*50) -> 12.123613 | I11: =IF($F$9="Automatyczne, na podstawie trudności testu",(100%-I6)*(50/SUM($F$7:$J$7)),I10/$K$10*50) -> 9.6671949 | J11: =IF($F$9="Automatyczne, na podstawie trudności testu",(100%-J6)*(50/SUM($F$7:$J$7)),J10/$K$10*50) -> 2.2187005 | K11: =SUM(F11:J11) -> 50
E16: Analiza technicznego wykonania paneli PV
B17: Wpisz warunek 1 | C17: Wpisz warunek 2 | D17: Wpisz warunek 3 | E17: Ile modułów danego typu? | F17: Ile % modułów danego typu przeszło próbę:
B18: Wpisz warunek 1 | C18: Wpisz warunek 2 | D18: Wpisz warunek 3 | E18: Ile modułów danego typu? | F18: TC | G18: DH | H18: MSS | I18: PID | J18: LID+LETID
B19: Chiny | E19: =COUNTIFS('Dane źródłowe'!P$9:P$262,"*"&$B19&"*",'Dane źródłowe'!P$9:P$262,"*"&$C19&"*",'Dane źródłowe'!P$9:P$262,"*"&$D19&"*") -> 144 | F19: =COUNTIFS('Dane źródłowe'!$P$7:$P$262,"*"&$D19&"*",'Dane źródłowe'!$P$7:$P$262,"*"&$B19&"*",'Dane źródłowe'!$P$7:$P$262,"*"&$C19&"*",'Dane źródłowe'!D$7:D$262,"x")*100%/$E19 -> 0.34027778 | G19: =COUNTIFS('Dane źródłowe'!$P$7:$P$262,"*"&$D19&"*",'Dane źródłowe'!$P$7:$P$262,"*"&$B19&"*",'Dane źródłowe'!$P$7:$P$262,"*"&$C19&"*",'Dane źródłowe'!E$7:E$262,"x")*100%/$E19 -> 0.45138889 | H19: =COUNTIFS('Dane źródłowe'!$P$7:$P$262,"*"&$D19&"*",'Dane źródłowe'!$P$7:$P$262,"*"&$B19&"*",'Dane źródłowe'!$P$7:$P$262,"*"&$C19&"*",'Dane źródłowe'!F$7:F$262,"x")*100%/$E19 -> 0.41666667 | I19: =COUNTIFS('Dane źródłowe'!$P$7:$P$262,"*"&$D19&"*",'Dane źródłowe'!$P$7:$P$262,"*"&$B19&"*",'Dane źródłowe'!$P$7:$P$262,"*"&$C19&"*",'Dane źródłowe'!G$7:G$262,"x")*100%/$E19 -> 0.46527778 | J19: =COUNTIFS('Dane źródłowe'!$P$7:$P$262,"*"&$D19&"*",'Dane źródłowe'!$P$7:$P$262,"*"&$B19&"*",'Dane źródłowe'!$P$7:$P$262,"*"&$C19&"*",'Dane źródłowe'!H$7:H$262,"x")*100%/$E19 -> 0.90972222
B20: Indie | E20: =COUNTIFS('Dane źródłowe'!P$9:P$262,"*"&$B20&"*",'Dane źródłowe'!P$9:P$262,"*"&$C20&"*",'Dane źródłowe'!P$9:P$262,"*"&$D20&"*") -> 39 | F20: =COUNTIFS('Dane źródłowe'!$P$7:$P$262,"*"&$D20&"*",'Dane źródłowe'!$P$7:$P$262,"*"&$B20&"*",'Dane źródłowe'!$P$7:$P$262,"*"&$C20&"*",'Dane źródłowe'!D$7:D$262,"x")*100%/$E20 -> 0.1025641 | G20: =COUNTIFS('Dane źródłowe'!$P$7:$P$262,"*"&$D20&"*",'Dane źródłowe'!$P$7:$P$262,"*"&$B20&"*",'Dane źródłowe'!$P$7:$P$262,"*"&$C20&"*",'Dane źródłowe'!E$7:E$262,"x")*100%/$E20 -> 0.12820513 | H20: =COUNTIFS('Dane źródłowe'!$P$7:$P$262,"*"&$D20&"*",'Dane źródłowe'!$P$7:$P$262,"*"&$B20&"*",'Dane źródłowe'!$P$7:$P$262,"*"&$C20&"*",'Dane źródłowe'!F$7:F$262,"x")*100%/$E20 -> 0.15384615 | I20: =COUNTIFS('Dane źródłowe'!$P$7:$P$262,"*"&$D20&"*",'Dane źródłowe'!$P$7:$P$262,"*"&$B20&"*",'Dane źródłowe'!$P$7:$P$262,"*"&$C20&"*",'Dane źródłowe'!G$7:G$262,"x")*100%/$E20 -> 0.38461538 | J20: =COUNTIFS('Dane źródłowe'!$P$7:$P$262,"*"&$D20&"*",'Dane źródłowe'!$P$7:$P$262,"*"&$B20&"*",'Dane źródłowe'!$P$7:$P$262,"*"&$C20&"*",'Dane źródłowe'!H$7:H$262,"x")*100%/$E20 -> 0.8974359
B21: szkło/szkło | C21: Chin | D21: N-type | E21: =COUNTIFS('Dane źródłowe'!P$9:P$262,"*"&$B21&"*",'Dane źródłowe'!P$9:P$262,"*"&$C21&"*",'Dane źródłowe'!P$9:P$262,"*"&$D21&"*") -> 28 | F21: =COUNTIFS('Dane źródłowe'!$P$7:$P$262,"*"&$D21&"*",'Dane źródłowe'!$P$7:$P$262,"*"&$B21&"*",'Dane źródłowe'!$P$7:$P$262,"*"&$C21&"*",'Dane źródłowe'!D$7:D$262,"x")*100%/$E21 -> 0.35714286 | G21: =COUNTIFS('Dane źródłowe'!$P$7:$P$262,"*"&$D21&"*",'Dane źródłowe'!$P$7:$P$262,"*"&$B21&"*",'Dane źródłowe'!$P$7:$P$262,"*"&$C21&"*",'Dane źródłowe'!E$7:E$262,"x")*100%/$E21 -> 0.89285714 | H21: =COUNTIFS('Dane źródłowe'!$P$7:$P$262,"*"&$D21&"*",'Dane źródłowe'!$P$7:$P$262,"*"&$B21&"*",'Dane źródłowe'!$P$7:$P$262,"*"&$C21&"*",'Dane źródłowe'!F$7:F$262,"x")*100%/$E21 -> 0.53571429 | I21: =COUNTIFS('Dane źródłowe'!$P$7:$P$262,"*"&$D21&"*",'Dane źródłowe'!$P$7:$P$262,"*"&$B21&"*",'Dane źródłowe'!$P$7:$P$262,"*"&$C21&"*",'Dane źródłowe'!G$7:G$262,"x")*100%/$E21 -> 0.67857143 | J21: =COUNTIFS('Dane źródłowe'!$P$7:$P$262,"*"&$D21&"*",'Dane źródłowe'!$P$7:$P$262,"*"&$B21&"*",'Dane źródłowe'!$P$7:$P$262,"*"&$C21&"*",'Dane źródłowe'!H$7:H$262,"x")*100%/$E21 -> 0.89285714
B22: szkło/szkło | C22: Chin | D22: PERC | E22: =COUNTIFS('Dane źródłowe'!P$9:P$262,"*"&$B22&"*",'Dane źródłowe'!P$9:P$262,"*"&$C22&"*",'Dane źródłowe'!P$9:P$262,"*"&$D22&"*") -> 38 | F22: =COUNTIFS('Dane źródłowe'!$P$7:$P$262,"*"&$D22&"*",'Dane źródłowe'!$P$7:$P$262,"*"&$B22&"*",'Dane źródłowe'!$P$7:$P$262,"*"&$C22&"*",'Dane źródłowe'!D$7:D$262,"x")*100%/$E22 -> 0.55263158 | G22: =COUNTIFS('Dane źródłowe'!$P$7:$P$262,"*"&$D22&"*",'Dane źródłowe'!$P$7:$P$262,"*"&$B22&"*",'Dane źródłowe'!$P$7:$P$262,"*"&$C22&"*",'Dane źródłowe'!E$7:E$262,"x")*100%/$E22 -> 0.81578947 | H22: =COUNTIFS('Dane źródłowe'!$P$7:$P$262,"*"&$D22&"*",'Dane źródłowe'!$P$7:$P$262,"*"&$B22&"*",'Dane źródłowe'!$P$7:$P$262,"*"&$C22&"*",'Dane źródłowe'!F$7:F$262,"x")*100%/$E22 -> 0.60526316 | I22: =COUNTIFS('Dane źródłowe'!$P$7:$P$262,"*"&$D22&"*",'Dane źródłowe'!$P$7:$P$262,"*"&$B22&"*",'Dane źródłowe'!$P$7:$P$262,"*"&$C22&"*",'Dane źródłowe'!G$7:G$262,"x")*100%/$E22 -> 0.78947368 | J22: =COUNTIFS('Dane źródłowe'!$P$7:$P$262,"*"&$D22&"*",'Dane źródłowe'!$P$7:$P$262,"*"&$B22&"*",'Dane źródłowe'!$P$7:$P$262,"*"&$C22&"*",'Dane źródłowe'!H$7:H$262,"x")*100%/$E22 -> 0.97368421
E23: =COUNTIFS('Dane źródłowe'!P$9:P$262,"*"&$B23&"*",'Dane źródłowe'!P$9:P$262,"*"&$C23&"*",'Dane źródłowe'!P$9:P$262,"*"&$D23&"*") -> 247 | F23: =COUNTIFS('Dane źródłowe'!$P$7:$P$262,"*"&$D23&"*",'Dane źródłowe'!$P$7:$P$262,"*"&$B23&"*",'Dane źródłowe'!$P$7:$P$262,"*"&$C23&"*",'Dane źródłowe'!D$7:D$262,"x")*100%/$E23 -> 0.30364372 | G23: =COUNTIFS('Dane źródłowe'!$P$7:$P$262,"*"&$D23&"*",'Dane źródłowe'!$P$7:$P$262,"*"&$B23&"*",'Dane źródłowe'!$P$7:$P$262,"*"&$C23&"*",'Dane źródłowe'!E$7:E$262,"x")*100%/$E23 -> 0.36842105 | H23: =COUNTIFS('Dane źródłowe'!$P$7:$P$262,"*"&$D23&"*",'Dane źródłowe'!$P$7:$P$262,"*"&$B23&"*",'Dane źródłowe'!$P$7:$P$262,"*"&$C23&"*",'Dane źródłowe'!F$7:F$262,"x")*100%/$E23 -> 0.3805668 | I23: =COUNTIFS('Dane źródłowe'!$P$7:$P$262,"*"&$D23&"*",'Dane źródłowe'!$P$7:$P$262,"*"&$B23&"*",'Dane źródłowe'!$P$7:$P$262,"*"&$C23&"*",'Dane źródłowe'!G$7:G$262,"x")*100%/$E23 -> 0.50607287 | J23: =COUNTIFS('Dane źródłowe'!$P$7:$P$262,"*"&$D23&"*",'Dane źródłowe'!$P$7:$P$262,"*"&$B23&"*",'Dane źródłowe'!$P$7:$P$262,"*"&$C23&"*",'Dane źródłowe'!H$7:H$262,"x")*100%/$E23 -> 0.88663968
E24: =COUNTIFS('Dane źródłowe'!P$9:P$262,"*"&$B24&"*",'Dane źródłowe'!P$9:P$262,"*"&$C24&"*",'Dane źródłowe'!P$9:P$262,"*"&$D24&"*") -> 247 | F24: =COUNTIFS('Dane źródłowe'!$P$7:$P$262,"*"&$D24&"*",'Dane źródłowe'!$P$7:$P$262,"*"&$B24&"*",'Dane źródłowe'!$P$7:$P$262,"*"&$C24&"*",'Dane źródłowe'!D$7:D$262,"x")*100%/$E24 -> 0.30364372 | G24: =COUNTIFS('Dane źródłowe'!$P$7:$P$262,"*"&$D24&"*",'Dane źródłowe'!$P$7:$P$262,"*"&$B24&"*",'Dane źródłowe'!$P$7:$P$262,"*"&$C24&"*",'Dane źródłowe'!E$7:E$262,"x")*100%/$E24 -> 0.36842105 | H24: =COUNTIFS('Dane źródłowe'!$P$7:$P$262,"*"&$D24&"*",'Dane źródłowe'!$P$7:$P$262,"*"&$B24&"*",'Dane źródłowe'!$P$7:$P$262,"*"&$C24&"*",'Dane źródłowe'!F$7:F$262,"x")*100%/$E24 -> 0.3805668 | I24: =COUNTIFS('Dane źródłowe'!$P$7:$P$262,"*"&$D24&"*",'Dane źródłowe'!$P$7:$P$262,"*"&$B24&"*",'Dane źródłowe'!$P$7:$P$262,"*"&$C24&"*",'Dane źródłowe'!G$7:G$262,"x")*100%/$E24 -> 0.50607287 | J24: =COUNTIFS('Dane źródłowe'!$P$7:$P$262,"*"&$D24&"*",'Dane źródłowe'!$P$7:$P$262,"*"&$B24&"*",'Dane źródłowe'!$P$7:$P$262,"*"&$C24&"*",'Dane źródłowe'!H$7:H$262,"x")*100%/$E24 -> 0.88663968
E25: =COUNTIFS('Dane źródłowe'!P$9:P$262,"*"&$B25&"*",'Dane źródłowe'!P$9:P$262,"*"&$C25&"*",'Dane źródłowe'!P$9:P$262,"*"&$D25&"*") -> 247 | F25: =COUNTIFS('Dane źródłowe'!$P$7:$P$262,"*"&$D25&"*",'Dane źródłowe'!$P$7:$P$262,"*"&$B25&"*",'Dane źródłowe'!$P$7:$P$262,"*"&$C25&"*",'Dane źródłowe'!D$7:D$262,"x")*100%/$E25 -> 0.30364372 | G25: =COUNTIFS('Dane źródłowe'!$P$7:$P$262,"*"&$D25&"*",'Dane źródłowe'!$P$7:$P$262,"*"&$B25&"*",'Dane źródłowe'!$P$7:$P$262,"*"&$C25&"*",'Dane źródłowe'!E$7:E$262,"x")*100%/$E25 -> 0.36842105 | H25: =COUNTIFS('Dane źródłowe'!$P$7:$P$262,"*"&$D25&"*",'Dane źródłowe'!$P$7:$P$262,"*"&$B25&"*",'Dane źródłowe'!$P$7:$P$262,"*"&$C25&"*",'Dane źródłowe'!F$7:F$262,"x")*100%/$E25 -> 0.3805668 | I25: =COUNTIFS('Dane źródłowe'!$P$7:$P$262,"*"&$D25&"*",'Dane źródłowe'!$P$7:$P$262,"*"&$B25&"*",'Dane źródłowe'!$P$7:$P$262,"*"&$C25&"*",'Dane źródłowe'!G$7:G$262,"x")*100%/$E25 -> 0.50607287 | J25: =COUNTIFS('Dane źródłowe'!$P$7:$P$262,"*"&$D25&"*",'Dane źródłowe'!$P$7:$P$262,"*"&$B25&"*",'Dane źródłowe'!$P$7:$P$262,"*"&$C25&"*",'Dane źródłowe'!H$7:H$262,"x")*100%/$E25 -> 0.88663968

Sheet Ranking
A1: RANKING PANELI FOTOWOLTAICZNYCH (na podst. PVEL 2023)
B2: Producent | C2: Nazwa modułu | D2: Próby niezawodności | N2: Ocena końcowa | O2: Test dodatkowy PAN
D3: TC | E3: DH | F3: MSS | G3: PID | H3: LID+LETID | I3: Przyznanie ocen – komórki ukryte
B4: Yingli Solar | C4: YLxxxDF72 e/2 | D4: x | E4: x | F4: x | G4: x | H4: x | I4: =IF(D4="x",'Analiza danych'!F$11,"") -> 13.62916 | J4: =IF(E4="x",'Analiza danych'!G$11,"") -> 12.361331 | K4: =IF(F4="x",'Analiza danych'!H$11,"") -> 12.123613 | L4: =IF(G4="x",'Analiza danych'!I$11,"") -> 9.6671949 | M4: =IF(H4="x",'Analiza danych'!J$11,"") -> 2.2187005 | N4: =SUM(I4:M4)+50 -> 100 | O4: TAK
B5: Yingli Solar | C5: YLxxxDF54 e/2 | D5: x | E5: x | F5: x | G5: x | H5: x | I5: =IF(D5="x",'Analiza danych'!F$11,"") -> 13.62916 | J5: =IF(E5="x",'Analiza danych'!G$11,"") -> 12.361331 | K5: =IF(F5="x",'Analiza danych'!H$11,"") -> 12.123613 | L5: =IF(G5="x",'Analiza danych'!I$11,"") -> 9.6671949 | M5: =IF(H5="x",'Analiza danych'!J$11,"") -> 2.2187005 | N5: =SUM(I5:M5)+50 -> 100
B6: VSUN | C6: VSUNxxx-144BMH-DG (M6) | D6: x | E6: x | F6: x | G6: x | H6: x | I6: =IF(D6="x",'Analiza danych'!F$11,"") -> 13.62916 | J6: =IF(E6="x",'Analiza danych'!G$11,"") -> 12.361331 | K6: =IF(F6="x",'Analiza danych'!H$11,"") -> 12.123613 | L6: =IF(G6="x",'Analiza danych'!I$11,"") -> 9.6671949 | M6: =IF(H6="x",'Analiza danych'!J$11,"") -> 2.2187005 | N6: =SUM(I6:M6)+50 -> 100
B7: VSUN | C7: VSUNxxx-144BMH-DG | D7: x | E7: x | F7: x | G7: x | H7: x | I7: =IF(D7="x",'Analiza danych'!F$11,"") -> 13.62916 | J7: =IF(E7="x",'Analiza danych'!G$11,"") -> 12.361331 | K7: =IF(F7="x",'Analiza danych'!H$11,"") -> 12.123613 | L7: =IF(G7="x",'Analiza danych'!I$11,"") -> 9.6671949 | M7: =IF(H7="x",'Analiza danych'!J$11,"") -> 2.2187005 | N7: =SUM(I7:M7)+50 -> 100
B8: VSUN | C8: VSUNxxx-144BMH | D8: x | E8: x | F8: x | G8: x | H8: x | I8: =IF(D8="x",'Analiza danych'!F$11,"") -> 13.62916 | J8: =IF(E8="x",'Analiza danych'!G$11,"") -> 12.361331 | K8: =IF(F8="x",'Analiza danych'!H$11,"") -> 12.123613 | L8: =IF(G8="x",'Analiza danych'!I$11,"") -> 9.6671949 | M8: =IF(H8="x",'Analiza danych'!J$11,"") -> 2.2187005 | N8: =SUM(I8:M8)+50 -> 100
B9: VSUN | C9: VSUNxxx-132BMH-DG | D9: x | E9: x | F9: x | G9: x | H9: x | I9: =IF(D9="x",'Analiza danych'!F$11,"") -> 13.62916 | J9: =IF(E9="x",'Analiza danych'!G$11,"") -> 12.361331 | K9: =IF(F9="x",'Analiza danych'!H$11,"") -> 12.123613 | L9: =IF(G9="x",'Analiza danych'!I$11,"") -> 9.6671949 | M9: =IF(H9="x",'Analiza danych'!J$11,"") -> 2.2187005 | N9: =SUM(I9:M9)+50 -> 100
B10: VSUN | C10: VSUNxxx-132BMH | D10: x | E10: x | F10: x | G10: x | H10: x | I10: =IF(D10="x",'Analiza danych'!F$11,"") -> 13.62916 | J10: =IF(E10="x",'Analiza danych'!G$11,"") -> 12.361331 | K10: =IF(F10="x",'Analiza danych'!H$11,"") -> 12.123613 | L10: =IF(G10="x",'Analiza danych'!I$11,"") -> 9.6671949 | M10: =IF(H10="x",'Analiza danych'!J$11,"") -> 2.2187005 | N10: =SUM(I10:M10)+50 -> 100
B11: Talesun | C11: TD7G72M | D11: x | E11: x | F11: x | G11: x | H11: x | I11: =IF(D11="x",'Analiza danych'!F$11,"") -> 13.62916 | J11: =IF(E11="x",'Analiza danych'!G$11,"") -> 12.361331 | K11: =IF(F11="x",'Analiza danych'!H$11,"") -> 12.123613 | L11: =IF(G11="x",'Analiza danych'!I$11,"") -> 9.6671949 | M11: =IF(H11="x",'Analiza danych'!J$11,"") -> 2.2187005 | N11: =SUM(I11:M11)+50 -> 100 | O11: TAK
B12: Talesun | C12: TD7G66M | D12: x | E12: x | F12: x | G12: x | H12: x | I12: =IF(D12="x",'Analiza danych'!F$11,"") -> 13.62916 | J12: =IF(E12="x",'Analiza danych'!G$11,"") -> 12.361331 | K12: =IF(F12="x",'Analiza danych'!H$11,"") -> 12.123613 | L12: =IF(G12="x",'Analiza danych'!I$11,"") -> 9.6671949 | M12: =IF(H12="x",'Analiza danych'!J$11,"") -> 2.2187005 | N12: =SUM(I12:M12)+50 -> 100
B13: Akcome | C13: SKA611HDGDC | D13: x | E13: x | F13: x | G13: x | H13: x | I13: =IF(D13="x",'Analiza danych'!F$11,"") -> 13.62916 | J13: =IF(E13="x",'Analiza danych'!G$11,"") -> 12.361331 | K13: =IF(F13="x",'Analiza danych'!H$11,"") -> 12.123613 | L13: =IF(G13="x",'Analiza danych'!I$11,"") -> 9.6671949 | M13: =IF(H13="x",'Analiza danych'!J$11,"") -> 2.2187005 | N13: =SUM(I13:M13)+50 -> 100
B14: Akcome | C14: SKA610HDGDC | D14: x | E14: x | F14: x | G14: x | H14: x | I14: =IF(D14="x",'Analiza danych'!F$11,"") -> 13.62916 | J14: =IF(E14="x",'Analiza danych'!G$11,"") -> 12.361331 | K14: =IF(F14="x",'Analiza danych'!H$11,"") -> 12.123613 | L14: =IF(G14="x",'Analiza danych'!I$11,"") -> 9.6671949 | M14: =IF(H14="x",'Analiza danych'!J$11,"") -> 2.2187005 | N14: =SUM(I14:M14)+50 -> 100
B15: Phono Solar | C15: PSxxxM8GFH-18/VH | D15: x | E15: x | F15: x | G15: x | H15: x | I15: =IF(D15="x",'Analiza danych'!F$11,"") -> 13.62916 | J15: =IF(E15="x",'Analiza danych'!G$11,"") -> 12.361331 | K15: =IF(F15="x",'Analiza danych'!H$11,"") -> 12.123613 | L15: =IF(G15="x",'Analiza danych'!I$11,"") -> 9.6671949 | M15: =IF(H15="x",'Analiza danych'!J$11,"") -> 2.2187005 | N15: =SUM(I15:M15)+50 -> 100
B16: Jinko | C16: JKMxxxN-78HL4-BDV | D16: x | E16: x | F16: x | G16: x | H16: x | I16: =IF(D16="x",'Analiza danych'!F$11,"") -> 13.62916 | J16: =IF(E16="x",'Analiza danych'!G$11,"") -> 12.361331 | K16: =IF(F16="x",'Analiza danych'!H$11,"") -> 12.123613 | L16: =IF(G16="x",'Analiza danych'!I$11,"") -> 9.6671949 | M16: =IF(H16="x",'Analiza danych'!J$11,"") -> 2.2187005 | N16: =SUM(I16:M16)+50 -> 100
B17: Jinko | C17: JKMxxxN-78HL4-(V) | D17: x | E17: x | F17: x | G17: x | H17: x | I17: =IF(D17="x",'Analiza danych'!F$11,"") -> 13.62916 | J17: =IF(E17="x",'Analiza danych'!G$11,"") -> 12.361331 | K17: =IF(F17="x",'Analiza danych'!H$11,"") -> 12.123613 | L17: =IF(G17="x",'Analiza danych'!I$11,"") -> 9.6671949 | M17: =IF(H17="x",'Analiza danych'!J$11,"") -> 2.2187005 | N17: =SUM(I17:M17)+50 -> 100
B18: Jinko | C18: JKMxxxN-72HL4-BDV | D18: x | E18: x | F18: x | G18: x | H18: x | I18: =IF(D18="x",'Analiza danych'!F$11,"") -> 13.62916 | J18: =IF(E18="x",'Analiza danych'!G$11,"") -> 12.361331 | K18: =IF(F18="x",'Analiza danych'!H$11,"") -> 12.123613 | L18: =IF(G18="x",'Analiza danych'!I$11,"") -> 9.6671949 | M18: =IF(H18="x",'Analiza danych'!J$11,"") -> 2.2187005 | N18: =SUM(I18:M18)+50 -> 100 | O18: TAK
B19: Jinko | C19: JKMxxxN-72HL4-(V) | D19: x | E19: x | F19: x | G19: x | H19: x | I19: =IF(D19="x",'Analiza danych'!F$11,"") -> 13.62916 | J19: =IF(E19="x",'Analiza danych'!G$11,"") -> 12.361331 | K19: =IF(F19="x",'Analiza danych'!H$11,"") -> 12.123613 | L19: =IF(G19="x",'Analiza danych'!I$11,"") -> 9.6671949 | M19: =IF(H19="x",'Analiza danych'!J$11,"") -> 2.2187005 | N19: =SUM(I19:M19)+50 -> 100
B20: Jinko | C20: JKMxxxN-60HL4-(V) | D20: x | E20: x | F20: x | G20: x | H20: x | I20: =IF(D20="x",'Analiza danych'!F$11,"") -> 13.62916 | J20: =IF(E20="x",'Analiza danych'!G$11,"") -> 12.361331 | K20: =IF(F20="x",'Analiza danych'!H$11,"") -> 12.123613 | L20: =IF(G20="x",'Analiza danych'!I$11,"") -> 9.6671949 | M20: =IF(H20="x",'Analiza danych'!J$11,"") -> 2.2187005 | N20: =SUM(I20:M20)+50 -> 100
B21: Jinko | C21: JKMxxxN-54HL4-B | D21: x | E21: x | F21: x | G21: x | H21: x | I21: =IF(D21="x",'Analiza danych'!F$11,"") -> 13.62916 | J21: =IF(E21="x",'Analiza danych'!G$11,"") -> 12.361331 | K21: =IF(F21="x",'Analiza danych'!H$11,"") -> 12.123613 | L21: =IF(G21="x",'Analiza danych'!I$11,"") -> 9.6671949 | M21: =IF(H21="x",'Analiza danych'!J$11,"") -> 2.2187005 | N21: =SUM(I21:M21)+50 -> 100
B22: Jinko | C22: JKMxxxN-54HL4-(V) | D22: x | E22: x | F22: x | G22: x | H22: x | I22: =IF(D22="x",'Analiza danych'!F$11,"") -> 13.62916 | J22: =IF(E22="x",'Analiza danych'!G$11,"") -> 12.361331 | K22: =IF(F22="x",'Analiza danych'!H$11,"") -> 12.123613 | L22: =IF(G22="x",'Analiza danych'!I$11,"") -> 9.6671949 | M22: =IF(H22="x",'Analiza danych'!J$11,"") -> 2.2187005 | N22: =SUM(I22:M22)+50 -> 100
B23: First Solar | C23: FS-6xxxA-P-I | D23: x | E23: x | F23: x | G23: x | H23: x | I23: =IF(D23="x",'Analiza danych'!F$11,"") -> 13.62916 | J23: =IF(E23="x",'Analiza danych'!G$11,"") -> 12.361331 | K23: =IF(F23="x",'Analiza danych'!H$11,"") -> 12.123613 | L23: =IF(G23="x",'Analiza danych'!I$11,"") -> 9.6671949 | M23: =IF(H23="x",'Analiza danych'!J$11,"") -> 2.2187005 | N23: =SUM(I23:M23)+50 -> 100
B24: First Solar | C24: FS-6xxxA-P | D24: x | E24: x | F24: x | G24: x | H24: x | I24: =IF(D24="x",'Analiza danych'!F$11,"") -> 13.62916 | J24: =IF(E24="x",'Analiza danych'!G$11,"") -> 12.361331 | K24: =IF(F24="x",'Analiza danych'!H$11,"") -> 12.123613 | L24: =IF(G24="x",'Analiza danych'!I$11,"") -> 9.6671949 | M24: =IF(H24="x",'Analiza danych'!J$11,"") -> 2.2187005 | N24: =SUM(I24:M24)+50 -> 100
B25: First Solar | C25: FS-6xxx-P-I | D25: x | E25: x | F25: x | G25: x | H25: x | I25: =IF(D25="x",'Analiza danych'!F$11,"") -> 13.62916 | J25: =IF(E25="x",'Analiza danych'!G$11,"") -> 12.361331 | K25: =IF(F25="x",'Analiza danych'!H$11,"") -> 12.123613 | L25: =IF(G25="x",'Analiza danych'!I$11,"") -> 9.6671949 | M25: =IF(H25="x",'Analiza danych'!J$11,"") -> 2.2187005 | N25: =SUM(I25:M25)+50 -> 100
B26: First Solar | C26: FS-6xxx-P | D26: x | E26: x | F26: x | G26: x | H26: x | I26: =IF(D26="x",'Analiza danych'!F$11,"") -> 13.62916 | J26: =IF(E26="x",'Analiza danych'!G$11,"") -> 12.361331 | K26: =IF(F26="x",'Analiza danych'!H$11,"") -> 12.123613 | L26: =IF(G26="x",'Analiza danych'!I$11,"") -> 9.6671949 | M26: =IF(H26="x",'Analiza danych'!J$11,"") -> 2.2187005 | N26: =SUM(I26:M26)+50 -> 100
B27: EGing PV | C27: EG-xxxM72-HL/BF-DG | D27: x | E27: x | F27: x | G27: x | H27: x | I27: =IF(D27="x",'Analiza danych'!F$11,"") -> 13.62916 | J27: =IF(E27="x",'Analiza danych'!G$11,"") -> 12.361331 | K27: =IF(F27="x",'Analiza danych'!H$11,"") -> 12.123613 | L27: =IF(G27="x",'Analiza danych'!I$11,"") -> 9.6671949 | M27: =IF(H27="x",'Analiza danych'!J$11,"") -> 2.2187005 | N27: =SUM(I27:M27)+50 -> 100 | O27: TAK
B28: EGing PV | C28: EG-xxxM60-HL/BF-DG | D28: x | E28: x | F28: x | G28: x | H28: x | I28: =IF(D28="x",'Analiza danych'!F$11,"") -> 13.62916 | J28: =IF(E28="x",'Analiza danych'!G$11,"") -> 12.361331 | K28: =IF(F28="x",'Analiza danych'!H$11,"") -> 12.123613 | L28: =IF(G28="x",'Analiza danych'!I$11,"") -> 9.6671949 | M28: =IF(H28="x",'Analiza danych'!J$11,"") -> 2.2187005 | N28: =SUM(I28:M28)+50 -> 100
B29: EGing PV | C29: EG-xxxM54-HL/BF-DG | D29: x | E29: x | F29: x | G29: x | H29: x | I29: =IF(D29="x",'Analiza danych'!F$11,"") -> 13.62916 | J29: =IF(E29="x",'Analiza danych'!G$11,"") -> 12.361331 | K29: =IF(F29="x",'Analiza danych'!H$11,"") -> 12.123613 | L29: =IF(G29="x",'Analiza danych'!I$11,"") -> 9.6671949 | M29: =IF(H29="x",'Analiza danych'!J$11,"") -> 2.2187005 | N29: =SUM(I29:M29)+50 -> 100
B30: DMEGC Solar | C30: DMxxxM10-B72HSW/HBW | D30: x | E30: x | F30: x | G30: x | H30: x | I30: =IF(D30="x",'Analiza danych'!F$11,"") -> 13.62916 | J30: =IF(E30="x",'Analiza danych'!G$11,"") -> 12.361331 | K30: =IF(F30="x",'Analiza danych'!H$11,"") -> 12.123613 | L30: =IF(G30="x",'Analiza danych'!I$11,"") -> 9.6671949 | M30: =IF(H30="x",'Analiza danych'!J$11,"") -> 2.2187005 | N30: =SUM(I30:M30)+50 -> 100
B31: DMEGC Solar | C31: DMxxxM10-B66HSW/HBW | D31: x | E31: x | F31: x | G31: x | H31: x | I31: =IF(D31="x",'Analiza danych'!F$11,"") -> 13.62916 | J31: =IF(E31="x",'Analiza danych'!G$11,"") -> 12.361331 | K31: =IF(F31="x",'Analiza danych'!H$11,"") -> 12.123613 | L31: =IF(G31="x",'Analiza danych'!I$11,"") -> 9.6671949 | M31: =IF(H31="x",'Analiza danych'!J$11,"") -> 2.2187005 | N31: =SUM(I31:M31)+50 -> 100
B32: DMEGC Solar | C32: DMxxxM10-B66HST/HBT | D32: x | E32: x | F32: x | G32: x | H32: x | I32: =IF(D32="x",'Analiza danych'!F$11,"") -> 13.62916 | J32: =IF(E32="x",'Analiza danych'!G$11,"") -> 12.361331 | K32: =IF(F32="x",'Analiza danych'!H$11,"") -> 12.123613 | L32: =IF(G32="x",'Analiza danych'!I$11,"") -> 9.6671949 | M32: =IF(H32="x",'Analiza danych'!J$11,"") -> 2.2187005 | N32: =SUM(I32:M32)+50 -> 100
B33: Canadian Solar | C33: CS3N-xxxMS | D33: x | E33: x | F33: x | G33: x | H33: x | I33: =IF(D33="x",'Analiza danych'!F$11,"") -> 13.62916 | J33: =IF(E33="x",'Analiza danych'!G$11,"") -> 12.361331 | K33: =IF(F33="x",'Analiza danych'!H$11,"") -> 12.123613 | L33: =IF(G33="x",'Analiza danych'!I$11,"") -> 9.6671949 | M33: =IF(H33="x",'Analiza danych'!J$11,"") -> 2.2187005 | N33: =SUM(I33:M33)+50 -> 100
B34: Waaree | C34: Bi-62-AAA | D34: x | E34: x | F34: x | G34: x | H34: x | I34: =IF(D34="x",'Analiza danych'!F$11,"") -> 13.62916 | J34: =IF(E34="x",'Analiza danych'!G$11,"") -> 12.361331 | K34: =IF(F34="x",'Analiza danych'!H$11,"") -> 12.123613 | L34: =IF(G34="x",'Analiza danych'!I$11,"") -> 9.6671949 | M34: =IF(H34="x",'Analiza danych'!J$11,"") -> 2.2187005 | N34: =SUM(I34:M34)+50 -> 100
B35: Waaree | C35: Bi-55-AAA | D35: x | E35: x | F35: x | G35: x | H35: x | I35: =IF(D35="x",'Analiza danych'!F$11,"") -> 13.62916 | J35: =IF(E35="x",'Analiza danych'!G$11,"") -> 12.361331 | K35: =IF(F35="x",'Analiza danych'!H$11,"") -> 12.123613 | L35: =IF(G35="x",'Analiza danych'!I$11,"") -> 9.6671949 | M35: =IF(H35="x",'Analiza danych'!J$11,"") -> 2.2187005 | N35: =SUM(I35:M35)+50 -> 100 | O35: TAK
B36: Jinko | C36: JKMxxxM-72HL4-TV | D36: x | E36: x | F36: x | G36: x | I36: =IF(D36="x",'Analiza danych'!F$11,"") -> 13.62916 | J36: =IF(E36="x",'Analiza danych'!G$11,"") -> 12.361331 | K36: =IF(F36="x",'Analiza danych'!H$11,"") -> 12.123613 | L36: =IF(G36="x",'Analiza danych'!I$11,"") -> 9.6671949 | M36: =IF(H36="x",'Analiza danych'!J$11,"") | N36: =SUM(I36:M36)+50 -> 97.7813
B37: Qcells | C37: Q.PEAK DUO XL-G11.3/BFG | D37: x | E37: x | F37: x | H37: x | I37: =IF(D37="x",'Analiza danych'!F$11,"") -> 13.62916 | J37: =IF(E37="x",'Analiza danych'!G$11,"") -> 12.361331 | K37: =IF(F37="x",'Analiza danych'!H$11,"") -> 12.123613 | L37: =IF(G37="x",'Analiza danych'!I$11,"") | M37: =IF(H37="x",'Analiza danych'!J$11,"") -> 2.2187005 | N37: =SUM(I37:M37)+50 -> 90.332805
B38: Qcells | C38: Q.PEAK DUO XL-G10.3/BFG | D38: x | E38: x | F38: x | H38: x | I38: =IF(D38="x",'Analiza danych'!F$11,"") -> 13.62916 | J38: =IF(E38="x",'Analiza danych'!G$11,"") -> 12.361331 | K38: =IF(F38="x",'Analiza danych'!H$11,"") -> 12.123613 | L38: =IF(G38="x",'Analiza danych'!I$11,"") | M38: =IF(H38="x",'Analiza danych'!J$11,"") -> 2.2187005 | N38: =SUM(I38:M38)+50 -> 90.332805
B39: JA Solar | C39: JAM72D30-xxx/GB | D39: x | E39: x | F39: x | H39: x | I39: =IF(D39="x",'Analiza danych'!F$11,"") -> 13.62916 | J39: =IF(E39="x",'Analiza danych'!G$11,"") -> 12.361331 | K39: =IF(F39="x",'Analiza danych'!H$11,"") -> 12.123613 | L39: =IF(G39="x",'Analiza danych'!I$11,"") | M39: =IF(H39="x",'Analiza danych'!J$11,"") -> 2.2187005 | N39: =SUM(I39:M39)+50 -> 90.332805 | O39: TAK
B40: Huasun | C40: HS-210-B132 DSxxx | D40: x | E40: x | F40: x | H40: x | I40: =IF(D40="x",'Analiza danych'!F$11,"") -> 13.62916 | J40: =IF(E40="x",'Analiza danych'!G$11,"") -> 12.361331 | K40: =IF(F40="x",'Analiza danych'!H$11,"") -> 12.123613 | L40: =IF(G40="x",'Analiza danych'!I$11,"") | M40: =IF(H40="x",'Analiza danych'!J$11,"") -> 2.2187005 | N40: =SUM(I40:M40)+50 -> 90.332805 | O40: TAK
B41: Huasun | C41: HS-210-B120 DSxxx | D41: x | E41: x | F41: x | H41: x | I41: =IF(D41="x",'Analiza danych'!F$11,"") -> 13.62916 | J41: =IF(E41="x",'Analiza danych'!G$11,"") -> 12.361331 | K41: =IF(F41="x",'Analiza danych'!H$11,"") -> 12.123613 | L41: =IF(G41="x",'Analiza danych'!I$11,"") | M41: =IF(H41="x",'Analiza danych'!J$11,"") -> 2.2187005 | N41: =SUM(I41:M41)+50 -> 90.332805
B42: ZNShine Solar | C42: ZXM7-SHLDD144-xxx/M | D42: x | E42: x | G42: x | H42: x | I42: =IF(D42="x",'Analiza danych'!F$11,"") -> 13.62916 | J42: =IF(E42="x",'Analiza danych'!G$11,"") -> 12.361331 | K42: =IF(F42="x",'Analiza danych'!H$11,"") | L42: =IF(G42="x",'Analiza danych'!I$11,"") -> 9.6671949 | M42: =IF(H42="x",'Analiza danych'!J$11,"") -> 2.2187005 | N42: =SUM(I42:M42)+50 -> 87.876387 | O42: TAK
B43: ZNShine Solar | C43: ZXM7-SHLDD132-xxx/M | D43: x | E43: x | G43: x | H43: x | I43: =IF(D43="x",'Analiza danych'!F$11,"") -> 13.62916 | J43: =IF(E43="x",'Analiza danych'!G$11,"") -> 12.361331 | K43: =IF(F43="x",'Analiza danych'!H$11,"") | L43: =IF(G43="x",'Analiza danych'!I$11,"") -> 9.6671949 | M43: =IF(H43="x",'Analiza danych'!J$11,"") -> 2.2187005 | N43: =SUM(I43:M43)+50 -> 87.876387
B44: ZNShine Solar | C44: ZXM7-SHLDD120-xxx/M | D44: x | E44: x | G44: x | H44: x | I44: =IF(D44="x",'Analiza danych'!F$11,"") -> 13.62916 | J44: =IF(E44="x",'Analiza danych'!G$11,"") -> 12.361331 | K44: =IF(F44="x",'Analiza danych'!H$11,"") | L44: =IF(G44="x",'Analiza danych'!I$11,"") -> 9.6671949 | M44: =IF(H44="x",'Analiza danych'!J$11,"") -> 2.2187005 | N44: =SUM(I44:M44)+50 -> 87.876387
B45: ZNShine Solar | C45: ZXM7-SHLDD108-xxx/M | D45: x | E45: x | G45: x | H45: x | I45: =IF(D45="x",'Analiza danych'!F$11,"") -> 13.62916 | J45: =IF(E45="x",'Analiza danych'!G$11,"") -> 12.361331 | K45: =IF(F45="x",'Analiza danych'!H$11,"") | L45: =IF(G45="x",'Analiza danych'!I$11,"") -> 9.6671949 | M45: =IF(H45="x",'Analiza danych'!J$11,"") -> 2.2187005 | N45: =SUM(I45:M45)+50 -> 87.876387
B46: VSUN | C46: VSUNxxx-120BMH-DG | D46: x | E46: x | G46: x | H46: x | I46: =IF(D46="x",'Analiza danych'!F$11,"") -> 13.62916 | J46: =IF(E46="x",'Analiza danych'!G$11,"") -> 12.361331 | K46: =IF(F46="x",'Analiza danych'!H$11,"") | L46: =IF(G46="x",'Analiza danych'!I$11,"") -> 9.6671949 | M46: =IF(H46="x",'Analiza danych'!J$11,"") -> 2.2187005 | N46: =SUM(I46:M46)+50 -> 87.876387
B47: VSUN | C47: VSUNxxx-120BMH | D47: x | E47: x | G47: x | H47: x | I47: =IF(D47="x",'Analiza danych'!F$11,"") -> 13.62916 | J47: =IF(E47="x",'Analiza danych'!G$11,"") -> 12.361331 | K47: =IF(F47="x",'Analiza danych'!H$11,"") | L47: =IF(G47="x",'Analiza danych'!I$11,"") -> 9.6671949 | M47: =IF(H47="x",'Analiza danych'!J$11,"") -> 2.2187005 | N47: =SUM(I47:M47)+50 -> 87.876387
B48: VSUN | C48: VSUNxxx-108BMH-DG | D48: x | E48: x | G48: x | H48: x | I48: =IF(D48="x",'Analiza danych'!F$11,"") -> 13.62916 | J48: =IF(E48="x",'Analiza danych'!G$11,"") -> 12.361331 | K48: =IF(F48="x",'Analiza danych'!H$11,"") | L48: =IF(G48="x",'Analiza danych'!I$11,"") -> 9.6671949 | M48: =IF(H48="x",'Analiza danych'!J$11,"") -> 2.2187005 | N48: =SUM(I48:M48)+50 -> 87.876387
B49: VSUN | C49: VSUNxxx-108BMH | D49: x | E49: x | G49: x | H49: x | I49: =IF(D49="x",'Analiza danych'!F$11,"") -> 13.62916 | J49: =IF(E49="x",'Analiza danych'!G$11,"") -> 12.361331 | K49: =IF(F49="x",'Analiza danych'!H$11,"") | L49: =IF(G49="x",'Analiza danych'!I$11,"") -> 9.6671949 | M49: =IF(H49="x",'Analiza danych'!J$11,"") -> 2.2187005 | N49: =SUM(I49:M49)+50 -> 87.876387
B50: Akcome | C50: SKA511HDGDC | D50: x | E50: x | G50: x | H50: x | I50: =IF(D50="x",'Analiza danych'!F$11,"") -> 13.62916 | J50: =IF(E50="x",'Analiza danych'!G$11,"") -> 12.361331 | K50: =IF(F50="x",'Analiza danych'!H$11,"") | L50: =IF(G50="x",'Analiza danych'!I$11,"") -> 9.6671949 | M50: =IF(H50="x",'Analiza danych'!J$11,"") -> 2.2187005 | N50: =SUM(I50:M50)+50 -> 87.876387
B51: Akcome | C51: SKA510HDGDC | D51: x | E51: x | G51: x | H51: x | I51: =IF(D51="x",'Analiza danych'!F$11,"") -> 13.62916 | J51: =IF(E51="x",'Analiza danych'!G$11,"") -> 12.361331 | K51: =IF(F51="x",'Analiza danych'!H$11,"") | L51: =IF(G51="x",'Analiza danych'!I$11,"") -> 9.6671949 | M51: =IF(H51="x",'Analiza danych'!J$11,"") -> 2.2187005 | N51: =SUM(I51:M51)+50 -> 87.876387
B52: Akcome | C52: SKA509HDGDC | D52: x | E52: x | G52: x | H52: x | I52: =IF(D52="x",'Analiza danych'!F$11,"") -> 13.62916 | J52: =IF(E52="x",'Analiza danych'!G$11,"") -> 12.361331 | K52: =IF(F52="x",'Analiza danych'!H$11,"") | L52: =IF(G52="x",'Analiza danych'!I$11,"") -> 9.6671949 | M52: =IF(H52="x",'Analiza danych'!J$11,"") -> 2.2187005 | N52: =SUM(I52:M52)+50 -> 87.876387
B53: Akcome | C53: SKA508HDGDC | D53: x | E53: x | G53: x | H53: x | I53: =IF(D53="x",'Analiza danych'!F$11,"") -> 13.62916 | J53: =IF(E53="x",'Analiza danych'!G$11,"") -> 12.361331 | K53: =IF(F53="x",'Analiza danych'!H$11,"") | L53: =IF(G53="x",'Analiza danych'!I$11,"") -> 9.6671949 | M53: =IF(H53="x",'Analiza danych'!J$11,"") -> 2.2187005 | N53: =SUM(I53:M53)+50 -> 87.876387
B54: DMEGC Solar | C54: GHxxxM10-B66HSW/HST-C | D54: x | E54: x | G54: x | H54: x | I54: =IF(D54="x",'Analiza danych'!F$11,"") -> 13.62916 | J54: =IF(E54="x",'Analiza danych'!G$11,"") -> 12.361331 | K54: =IF(F54="x",'Analiza danych'!H$11,"") | L54: =IF(G54="x",'Analiza danych'!I$11,"") -> 9.6671949 | M54: =IF(H54="x",'Analiza danych'!J$11,"") -> 2.2187005 | N54: =SUM(I54:M54)+50 -> 87.876387
... B58: DMEGC Solar | C58: DMxxxM10-B54HBB | D58: x | E58: x | G58: x | H58: x | I58: =IF(D58="x",'Analiza danych'!F$11,"") -> 13.62916 | J58: =IF(E58="x",'Analiza danych'!G$11,"") -> 12.361331 | K58: =IF(F58="x",'Analiza danych'!H$11,"") | L58: =IF(G58="x",'Analiza danych'!I$11,"") -> 9.6671949 | M58: =IF(H58="x",'Analiza danych'!J$11,"") -> 2.2187005 | N58: =SUM(I58:M58)+50 -> 87.876387
B59: Risen Energy | C59: RSM120-8-xxxBMDG | D59: x | F59: x | G59: x | H59: x | I59: =IF(D59="x",'Analiza danych'!F$11,"") -> 13.62916 | J59: =IF(E59="x",'Analiza danych'!G$11,"") | K59: =IF(F59="x",'Analiza danych'!H$11,"") -> 12.123613 | L59: =IF(G59="x",'Analiza danych'!I$11,"") -> 9.6671949 | M59: =IF(H59="x",'Analiza danych'!J$11,"") -> 2.2187005 | N59: =SUM(I59:M59)+50 -> 87.638669 | O59: TAK
B60: Jinko | C60: JKMxxxN-78HL4-TV | D60: x | F60: x | G60: x | H60: x | I60: =IF(D60="x",'Analiza danych'!F$11,"") -> 13.62916 | J60: =IF(E60="x",'Analiza danych'!G$11,"") | K60: =IF(F60="x",'Analiza danych'!H$11,"") -> 12.123613 | L60: =IF(G60="x",'Analiza danych'!I$11,"") -> 9.6671949 | M60: =IF(H60="x",'Analiza danych'!J$11,"") -> 2.2187005 | N60: =SUM(I60:M60)+50 -> 87.638669
B61: Jinko | C61: JKMxxxN-72HL4-TV | D61: x | F61: x | G61: x | H61: x | I61: =IF(D61="x",'Analiza danych'!F$11,"") -> 13.62916 | J61: =IF(E61="x",'Analiza danych'!G$11,"") | K61: =IF(F61="x",'Analiza danych'!H$11,"") -> 12.123613 | L61: =IF(G61="x",'Analiza danych'!I$11,"") -> 9.6671949 | M61: =IF(H61="x",'Analiza danych'!J$11,"") -> 2.2187005 | N61: =SUM(I61:M61)+50 -> 87.638669 | O61: TAK
B62: DMEGC Solar | C62: DMxxxM10-B78HSW/HBW | D62: x | F62: x | G62: x | H62: x | I62: =IF(D62="x",'Analiza danych'!F$11,"") -> 13.62916 | J62: =IF(E62="x",'Analiza danych'!G$11,"") | K62: =IF(F62="x",'Analiza danych'!H$11,"") -> 12.123613 | L62: =IF(G62="x",'Analiza danych'!I$11,"") -> 9.6671949 | M62: =IF(H62="x",'Analiza danych'!J$11,"") -> 2.2187005 | N62: =SUM(I62:M62)+50 -> 87.638669
B63: Astronergy | C63: CHSM66M(DG)/F-BH-xxx | D63: x | F63: x | G63: x | H63: x | I63: =IF(D63="x",'Analiza danych'!F$11,"") -> 13.62916 | J63: =IF(E63="x",'Analiza danych'!G$11,"") | K63: =IF(F63="x",'Analiza danych'!H$11,"") -> 12.123613 | L63: =IF(G63="x",'Analiza danych'!I$11,"") -> 9.6671949 | M63: =IF(H63="x",'Analiza danych'!J$11,"") -> 2.2187005 | N63: =SUM(I63:M63)+50 -> 87.638669
B64: Astronergy | C64: CHSM60M(DG)/F-BH-xxx | D64: x | F64: x | G64: x | H64: x | I64: =IF(D64="x",'Analiza danych'!F$11,"") -> 13.62916 | J64: =IF(E64="x",'Analiza danych'!G$11,"") | K64: =IF(F64="x",'Analiza danych'!H$11,"") -> 12.123613 | L64: =IF(G64="x",'Analiza danych'!I$11,"") -> 9.6671949 | M64: =IF(H64="x",'Analiza danych'!J$11,"") -> 2.2187005 | N64: =SUM(I64:M64)+50 -> 87.638669
B65: Adani Solar | C65: ASB-M10-144-AAA (G2B) | D65: x | F65: x | G65: x | H65: x | I65: =IF(D65="x",'Analiza danych'!F$11,"") -> 13.62916 | J65: =IF(E65="x",'Analiza danych'!G$11,"") | K65: =IF(F65="x",'Analiza danych'!H$11,"") -> 12.123613 | L65: =IF(G65="x",'Analiza danych'!I$11,"") -> 9.6671949 | M65: =IF(H65="x",'Analiza danych'!J$11,"") -> 2.2187005 | N65: =SUM(I65:M65)+50 -> 87.638669 | O65: TAK
B66: Vikram Solar | C66: VSMDH.72.AAA.05 | E66: x | F66: x | G66: x | H66: x | I66: =IF(D66="x",'Analiza danych'!F$11,"") | J66: =IF(E66="x",'Analiza danych'!G$11,"") -> 12.361331 | K66: =IF(F66="x",'Analiza danych'!H$11,"") -> 12.123613 | L66: =IF(G66="x",'Analiza danych'!I$11,"") -> 9.6671949 | M66: =IF(H66="x",'Analiza danych'!J$11,"") -> 2.2187005 | N66: =SUM(I66:M66)+50 -> 86.37084 | O66: TAK
B67: Vikram Solar | C67: VSMDH.60.AAA.05 | E67: x | F67: x | G67: x | H67: x | I67: =IF(D67="x",'Analiza danych'!F$11,"") | J67: =IF(E67="x",'Analiza danych'!G$11,"") -> 12.361331 | K67: =IF(F67="x",'Analiza danych'!H$11,"") -> 12.123613 | L67: =IF(G67="x",'Analiza danych'!I$11,"") -> 9.6671949 | M67: =IF(H67="x",'Analiza danych'!J$11,"") -> 2.2187005 | N67: =SUM(I67:M67)+50 -> 86.37084
B68: Vikram Solar | C68: VSMDH.54.AAA.05 | E68: x | F68: x | G68: x | H68: x | I68: =IF(D68="x",'Analiza danych'!F$11,"") | J68: =IF(E68="x",'Analiza danych'!G$11,"") -> 12.361331 | K68: =IF(F68="x",'Analiza danych'!H$11,"") -> 12.123613 | L68: =IF(G68="x",'Analiza danych'!I$11,"") -> 9.6671949 | M68: =IF(H68="x",'Analiza danych'!J$11,"") -> 2.2187005 | N68: =SUM(I68:M68)+50 -> 86.37084
B69: Trina Solar | C69: TSM-xxxNEG19RC.20 | E69: x | F69: x | G69: x | H69: x | I69: =IF(D69="x",'Analiza danych'!F$11,"") | J69: =IF(E69="x",'Analiza danych'!G$11,"") -> 12.361331 | K69: =IF(F69="x",'Analiza danych'!H$11,"") -> 12.123613 | L69: =IF(G69="x",'Analiza danych'!I$11,"") -> 9.6671949 | M69: =IF(H69="x",'Analiza danych'!J$11,"") -> 2.2187005 | N69: =SUM(I69:M69)+50 -> 86.37084
B70: Trina Solar | C70: TSM-xxxDEG19C.20 | E70: x | F70: x | G70: x | H70: x | I70: =IF(D70="x",'Analiza danych'!F$11,"") | J70: =IF(E70="x",'Analiza danych'!G$11,"") -> 12.361331 | K70: =IF(F70="x",'Analiza danych'!H$11,"") -> 12.123613 | L70: =IF(G70="x",'Analiza danych'!I$11,"") -> 9.6671949 | M70: =IF(H70="x",'Analiza danych'!J$11,"") -> 2.2187005 | N70: =SUM(I70:M70)+50 -> 86.37084
B71: SolarSpace | C71: SS8-72HD-xxxM | E71: x | F71: x | G71: x | H71: x | I71: =IF(D71="x",'Analiza danych'!F$11,"") | J71: =IF(E71="x",'Analiza danych'!G$11,"") -> 12.361331 | K71: =IF(F71="x",'Analiza danych'!H$11,"") -> 12.123613 | L71: =IF(G71="x",'Analiza danych'!I$11,"") -> 9.6671949 | M71: =IF(H71="x",'Analiza danych'!J$11,"") -> 2.2187005 | N71: =SUM(I71:M71)+50 -> 86.37084
B72: SolarSpace | C72: SS8-60HD-xxxM | E72: x | F72: x | G72: x | H72: x | I72: =IF(D72="x",'Analiza danych'!F$11,"") | J72: =IF(E72="x",'Analiza danych'!G$11,"") -> 12.361331 | K72: =IF(F72="x",'Analiza danych'!H$11,"") -> 12.123613 | L72: =IF(G72="x",'Analiza danych'!I$11,"") -> 9.6671949 | M72: =IF(H72="x",'Analiza danych'!J$11,"") -> 2.2187005 | N72: =SUM(I72:M72)+50 -> 86.37084
B73: Jolywood | C73: JW-HD144N | E73: x | F73: x | G73: x | H73: x | I73: =IF(D73="x",'Analiza danych'!F$11,"") | J73: =IF(E73="x",'Analiza danych'!G$11,"") -> 12.361331 | K73: =IF(F73="x",'Analiza danych'!H$11,"") -> 12.123613 | L73: =IF(G73="x",'Analiza danych'!I$11,"") -> 9.6671949 | M73: =IF(H73="x",'Analiza danych'!J$11,"") -> 2.2187005 | N73: =SUM(I73:M73)+50 -> 86.37084 | O73: TAK
B74: DMEGC Solar | C74: DMxxxM10T-B72HSW/HBW | E74: x | F74: x | G74: x | H74: x | I74: =IF(D74="x",'Analiza danych'!F$11,"") | J74: =IF(E74="x",'Analiza danych'!G$11,"") -> 12.361331 | K74: =IF(F74="x",'Analiza danych'!H$11,"") -> 12.123613 | L74: =IF(G74="x",'Analiza danych'!I$11,"") -> 9.6671949 | M74: =IF(H74="x",'Analiza danych'!J$11,"") -> 2.2187005 | N74: =SUM(I74:M74)+50 -> 86.37084
B75: DMEGC Solar | C75: DMxxxM10T-B54HSW/HBW | E75: x | F75: x | G75: x | H75: x | I75: =IF(D75="x",'Analiza danych'!F$11,"") | J75: =IF(E75="x",'Analiza danych'!G$11,"") -> 12.361331 | K75: =IF(F75="x",'Analiza danych'!H$11,"") -> 12.123613 | L75: =IF(G75="x",'Analiza danych'!I$11,"") -> 9.6671949 | M75: =IF(H75="x",'Analiza danych'!J$11,"") -> 2.2187005 | N75: =SUM(I75:M75)+50 -> 86.37084
B76: DMEGC Solar | C76: DMxxxM10T-B54HST/HBT | E76: x | F76: x | G76: x | H76: x | I76: =IF(D76="x",'Analiza danych'!F$11,"") | J76: =IF(E76="x",'Analiza danych'!G$11,"") -> 12.361331 | K76: =IF(F76="x",'Analiza danych'!H$11,"") -> 12.123613 | L76: =IF(G76="x",'Analiza danych'!I$11,"") -> 9.6671949 | M76: =IF(H76="x",'Analiza danych'!J$11,"") -> 2.2187005 | N76: =SUM(I76:M76)+50 -> 86.37084
B77: Jinko | C77: JKMxxxM-72HL4-BDVP | E77: x | F77: x | G77: x | I77: =IF(D77="x",'Analiza danych'!F$11,"") | J77: =IF(E77="x",'Analiza danych'!G$11,"") -> 12.361331 | K77: =IF(F77="x",'Analiza danych'!H$11,"") -> 12.123613 | L77: =IF(G77="x",'Analiza danych'!I$11,"") -> 9.6671949 | M77: =IF(H77="x",'Analiza danych'!J$11,"") | N77: =SUM(I77:M77)+50 -> 84.152139
B78: Trina Solar | C78: TSM-xxxDE21 | D78: x | F78: x | H78: x | I78: =IF(D78="x",'Analiza danych'!F$11,"") -> 13.62916 | J78: =IF(E78="x",'Analiza danych'!G$11,"") | K78: =IF(F78="x",'Analiza danych'!H$11,"") -> 12.123613 | L78: =IF(G78="x",'Analiza danych'!I$11,"") | M78: =IF(H78="x",'Analiza danych'!J$11,"") -> 2.2187005 | N78: =SUM(I78:M78)+50 -> 77.971474
B79: Trina Solar | C79: TSM-xxxDE19 | D79: x | F79: x | H79: x | I79: =IF(D79="x",'Analiza danych'!F$11,"") -> 13.62916 | J79: =IF(E79="x",'Analiza danych'!G$11,"") | K79: =IF(F79="x",'Analiza danych'!H$11,"") -> 12.123613 | L79: =IF(G79="x",'Analiza danych'!I$11,"") | M79: =IF(H79="x",'Analiza danych'!J$11,"") -> 2.2187005 | N79: =SUM(I79:M79)+50 -> 77.971474
B80: AE Solar | C80: AExxxMD-144E | D80: x | F80: x | H80: x | I80: =IF(D80="x",'Analiza danych'!F$11,"") -> 13.62916 | J80: =IF(E80="x",'Analiza danych'!G$11,"") | K80: =IF(F80="x",'Analiza danych'!H$11,"") -> 12.123613 | L80: =IF(G80="x",'Analiza danych'!I$11,"") | M80: =IF(H80="x",'Analiza danych'!J$11,"") -> 2.2187005 | N80: =SUM(I80:M80)+50 -> 77.971474
B81: AE Solar | C81: AExxxMD-144 | D81: x | F81: x | H81: x | I81: =IF(D81="x",'Analiza danych'!F$11,"") -> 13.62916 | J81: =IF(E81="x",'Analiza danych'!G$11,"") | K81: =IF(F81="x",'Analiza danych'!H$11,"") -> 12.123613 | L81: =IF(G81="x",'Analiza danych'!I$11,"") | M81: =IF(H81="x",'Analiza danych'!J$11,"") -> 2.2187005 | N81: =SUM(I81:M81)+50 -> 77.971474
B82: AE Solar | C82: AExxxMD-132E | D82: x | F82: x | H82: x | I82: =IF(D82="x",'Analiza danych'!F$11,"") -> 13.62916 | J82: =IF(E82="x",'Analiza danych'!G$11,"") | K82: =IF(F82="x",'Analiza danych'!H$11,"") -> 12.123613 | L82: =IF(G82="x",'Analiza danych'!I$11,"") | M82: =IF(H82="x",'Analiza danych'!J$11,"") -> 2.2187005 | N82: =SUM(I82:M82)+50 -> 77.971474
B83: AE Solar | C83: AExxxMD-132 | D83: x | F83: x | H83: x | I83: =IF(D83="x",'Analiza danych'!F$11,"") -> 13.62916 | J83: =IF(E83="x",'Analiza danych'!G$11,"") | K83: =IF(F83="x",'Analiza danych'!H$11,"") -> 12.123613 | L83: =IF(G83="x",'Analiza danych'!I$11,"") | M83: =IF(H83="x",'Analiza danych'!J$11,"") -> 2.2187005 | N83: =SUM(I83:M83)+50 -> 77.971474
B84: AE Solar | C84: AExxxMD-120E | D84: x | F84: x | H84: x | I84: =IF(D84="x",'Analiza danych'!F$11,"") -> 13.62916 | J84: =IF(E84="x",'Analiza danych'!G$11,"") | K84: =IF(F84="x",'Analiza danych'!H$11,"") -> 12.123613 | L84: =IF(G84="x",'Analiza danych'!I$11,"") | M84: =IF(H84="x",'Analiza danych'!J$11,"") -> 2.2187005 | N84: =SUM(I84:M84)+50 -> 77.971474
B85: AE Solar | C85: AExxxMD-120 | D85: x | F85: x | H85: x | I85: =IF(D85="x",'Analiza danych'!F$11,"") -> 13.62916 | J85: =IF(E85="x",'Analiza danych'!G$11,"") | K85: =IF(F85="x",'Analiza danych'!H$11,"") -> 12.123613 | L85: =IF(G85="x",'Analiza danych'!I$11,"") | M85: =IF(H85="x",'Analiza danych'!J$11,"") -> 2.2187005 | N85: =SUM(I85:M85)+50 -> 77.971474
B86: AE Solar | C86: AExxxMD-108E | D86: x | F86: x | H86: x | I86: =IF(D86="x",'Analiza danych'!F$11,"") -> 13.62916 | J86: =IF(E86="x",'Analiza danych'!G$11,"") | K86: =IF(F86="x",'Analiza danych'!H$11,"") -> 12.123613 | L86: =IF(G86="x",'Analiza danych'!I$11,"") | M86: =IF(H86="x",'Analiza danych'!J$11,"") -> 2.2187005 | N86: =SUM(I86:M86)+50 -> 77.971474
B87: AE Solar | C87: AExxxMD-108 | D87: x | F87: x | H87: x | I87: =IF(D87="x",'Analiza danych'!F$11,"") -> 13.62916 | J87: =IF(E87="x",'Analiza danych'!G$11,"") | K87: =IF(F87="x",'Analiza danych'!H$11,"") -> 12.123613 | L87: =IF(G87="x",'Analiza danych'!I$11,"") | M87: =IF(H87="x",'Analiza danych'!J$11,"") -> 2.2187005 | N87: =SUM(I87:M87)+50 -> 77.971474
B88: JA Solar | C88: JAM72D30-xxx/MB | E88: x | F88: x | H88: x | I88: =IF(D88="x",'Analiza danych'!F$11,"") | J88: =IF(E88="x",'Analiza danych'!G$11,"") -> 12.361331 | K88: =IF(F88="x",'Analiza danych'!H$11,"") -> 12.123613 | L88: =IF(G88="x",'Analiza danych'!I$11,"") | M88: =IF(H88="x",'Analiza danych'!J$11,"") -> 2.2187005 | N88: =SUM(I88:M88)+50 -> 76.703645
B89: Astronergy | C89: CHSM78N(DG)/F-BH-xxx | E89: x | F89: x | H89: x | I89: =IF(D89="x",'Analiza danych'!F$11,"") | J89: =IF(E89="x",'Analiza danych'!G$11,"") -> 12.361331 | K89: =IF(F89="x",'Analiza danych'!H$11,"") -> 12.123613 | L89: =IF(G89="x",'Analiza danych'!I$11,"") | M89: =IF(H89="x",'Analiza danych'!J$11,"") -> 2.2187005 | N89: =SUM(I89:M89)+50 -> 76.703645
B90: Astronergy | C90: CHSM72N(DG)/F-BH-xxx | E90: x | F90: x | H90: x | I90: =IF(D90="x",'Analiza danych'!F$11,"") | J90: =IF(E90="x",'Analiza danych'!G$11,"") -> 12.361331 | K90: =IF(F90="x",'Analiza danych'!H$11,"") -> 12.123613 | L90: =IF(G90="x",'Analiza danych'!I$11,"") | M90: =IF(H90="x",'Analiza danych'!J$11,"") -> 2.2187005 | N90: =SUM(I90:M90)+50 -> 76.703645 | O90: TAK
B91: Astronergy | C91: CHSM60N(DG)/F-BH-xxx | E91: x | F91: x | H91: x | I91: =IF(D91="x",'Analiza danych'!F$11,"") | J91: =IF(E91="x",'Analiza danych'!G$11,"") -> 12.361331 | K91: =IF(F91="x",'Analiza danych'!H$11,"") -> 12.123613 | L91: =IF(G91="x",'Analiza danych'!I$11,"") | M91: =IF(H91="x",'Analiza danych'!J$11,"") -> 2.2187005 | N91: =SUM(I91:M91)+50 -> 76.703645
B92: Astronergy | C92: CHSM54N(DG)/F-BH-xxx | E92: x | F92: x | H92: x | I92: =IF(D92="x",'Analiza danych'!F$11,"") | J92: =IF(E92="x",'Analiza danych'!G$11,"") -> 12.361331 | K92: =IF(F92="x",'Analiza danych'!H$11,"") -> 12.123613 | L92: =IF(G92="x",'Analiza danych'!I$11,"") | M92: =IF(H92="x",'Analiza danych'!J$11,"") -> 2.2187005 | N92: =SUM(I92:M92)+50 -> 76.703645
B93: First Solar | C93: FS-6xxxA | D93: x | G93: x | H93: x | I93: =IF(D93="x",'Analiza danych'!F$11,"") -> 13.62916 | J93: =IF(E93="x",'Analiza danych'!G$11,"") | K93: =IF(F93="x",'Analiza danych'!H$11,"") | L93: =IF(G93="x",'Analiza danych'!I$11,"") -> 9.6671949 | M93: =IF(H93="x",'Analiza danych'!J$11,"") -> 2.2187005 | N93: =SUM(I93:M93)+50 -> 75.515055
B94: First Solar | C94: FS-6xxx | D94: x | G94: x | H94: x | I94: =IF(D94="x",'Analiza danych'!F$11,"") -> 13.62916 | J94: =IF(E94="x",'Analiza danych'!G$11,"") | K94: =IF(F94="x",'Analiza danych'!H$11,"") | L94: =IF(G94="x",'Analiza danych'!I$11,"") -> 9.6671949 | M94: =IF(H94="x",'Analiza danych'!J$11,"") -> 2.2187005 | N94: =SUM(I94:M94)+50 -> 75.515055
B95: Adani Solar | C95: ASB-M10-144-AAA (G2WB) | D95: x | G95: x | H95: x | I95: =IF(D95="x",'Analiza danych'!F$11,"") -> 13.62916 | J95: =IF(E95="x",'Analiza danych'!G$11,"") | K95: =IF(F95="x",'Analiza danych'!H$11,"") | L95: =IF(G95="x",'Analiza danych'!I$11,"") -> 9.6671949 | M95: =IF(H95="x",'Analiza danych'!J$11,"") -> 2.2187005 | N95: =SUM(I95:M95)+50 -> 75.515055
B96: SolarSpace | C96: SS8-54HD-xxxM | E96: x | G96: x | H96: x | I96: =IF(D96="x",'Analiza danych'!F$11,"") | J96: =IF(E96="x",'Analiza danych'!G$11,"") -> 12.361331 | K96: =IF(F96="x",'Analiza danych'!H$11,"") | L96: =IF(G96="x",'Analiza danych'!I$11,"") -> 9.6671949 | M96: =IF(H96="x",'Analiza danych'!J$11,"") -> 2.2187005 | N96: =SUM(I96:M96)+50 -> 74.247227
B97: Phono Solar | C97: PSxxxM8GFH-24/TH | E97: x | G97: x | H97: x | I97: =IF(D97="x",'Analiza danych'!F$11,"") | J97: =IF(E97="x",'Analiza danych'!G$11,"") -> 12.361331 | K97: =IF(F97="x",'Analiza danych'!H$11,"") | L97: =IF(G97="x",'Analiza danych'!I$11,"") -> 9.6671949 | M97: =IF(H97="x",'Analiza danych'!J$11,"") -> 2.2187005 | N97: =SUM(I97:M97)+50 -> 74.247227
B98: Phono Solar | C98: PSxxxM8GFH-22/WH | E98: x | G98: x | H98: x | I98: =IF(D98="x",'Analiza danych'!F$11,"") | J98: =IF(E98="x",'Analiza danych'!G$11,"") -> 12.361331 | K98: =IF(F98="x",'Analiza danych'!H$11,"") | L98: =IF(G98="x",'Analiza danych'!I$11,"") -> 9.6671949 | M98: =IF(H98="x",'Analiza danych'!J$11,"") -> 2.2187005 | N98: =SUM(I98:M98)+50 -> 74.247227
B99: Phono Solar | C99: PSxxxM8GFH-20/UH | E99: x | G99: x | H99: x | I99: =IF(D99="x",'Analiza danych'!F$11,"") | J99: =IF(E99="x",'Analiza danych'!G$11,"") -> 12.361331 | K99: =IF(F99="x",'Analiza danych'!H$11,"") | L99: =IF(G99="x",'Analiza danych'!I$11,"") -> 9.6671949 | M99: =IF(H99="x",'Analiza danych'!J$11,"") -> 2.2187005 | N99: =SUM(I99:M99)+50 -> 74.247227
B100: Jolywood | C100: JW-HD108N | E100: x | G100: x | H100: x | I100: =IF(D100="x",'Analiza danych'!F$11,"") | J100: =IF(E100="x",'Analiza danych'!G$11,"") -> 12.361331 | K100: =IF(F100="x",'Analiza danych'!H$11,"") | L100: =IF(G100="x",'Analiza danych'!I$11,"") -> 9.6671949 | M100: =IF(H100="x",'Analiza danych'!J$11,"") -> 2.2187005 | N100: =SUM(I100:M100)+50 -> 74.247227
B101: DMEGC Solar | C101: GHxxxM10T-B66HSW/HST-C | E101: x | G101: x | H101: x | I101: =IF(D101="x",'Analiza danych'!F$11,"") | J101: =IF(E101="x",'Analiza danych'!G$11,"") -> 12.361331 | K101: =IF(F101="x",'Analiza danych'!H$11,"") | L101: =IF(G101="x",'Analiza danych'!I$11,"") -> 9.6671949 | M101: =IF(H101="x",'Analiza danych'!J$11,"") -> 2.2187005 | N101: =SUM(I101:M101)+50 -> 74.247227
B102: DMEGC Solar | C102: DMxxxM10T-B78HSW/HBW | E102: x | G102: x | H102: x | I102: =IF(D102="x",'Analiza danych'!F$11,"") | J102: =IF(E102="x",'Analiza danych'!G$11,"") -> 12.361331 | K102: =IF(F102="x",'Analiza danych'!H$11,"") | L102: =IF(G102="x",'Analiza danych'!I$11,"") -> 9.6671949 | M102: =IF(H102="x",'Analiza danych'!J$11,"") -> 2.2187005 | N102: =SUM(I102:M102)+50 -> 74.247227
B103: Canadian Solar | C103: CS3W-xxxMS | E103: x | G103: x | H103: x | I103: =IF(D103="x",'Analiza danych'!F$11,"") | J103: =IF(E103="x",'Analiza danych'!G$11,"") -> 12.361331 | K103: =IF(F103="x",'Analiza danych'!H$11,"") | L103: =IF(G103="x",'Analiza danych'!I$11,"") -> 9.6671949 | M103: =IF(H103="x",'Analiza danych'!J$11,"") -> 2.2187005 | N103: =SUM(I103:M103)+50 -> 74.247227
...

Sheet Przykładowa analiza danych
C4: Ile modułów danego typu? | D4: Ile % modułów danego typu przeszło próbę:
B5: Marka | C5: Ile modułów danego typu? | D5: TC | E5: DH | F5: MSS | G5: PID | H5: LID+LETID
B6: ET Solar | C6: 30 | D6: 0 | E6: 0.16666667 | F6: 0.26666667 | G6: 0.33333333 | H6: 0.66666667
B7: DMEGC Solar | C7: 22 | D7: 0.40909091 | E7: 0.59090909 | F7: 0.31818182 | G7: 0.63636364 | H7: 1
B8: Astronergy | C8: 16 | D8: 0.125 | E8: 0.4375 | F8: 0.375 | G8: 0.125 | H8: 1
B9: Jinko | C9: 15 | D9: 0.66666667 | E9: 0.8 | F9: 0.8 | G9: 0.73333333 | H9: 0.6
B10: Premier Energies | C10: 12 | D10: 0 | E10: 0 | F10: 0 | G10: 0.33333333 | H10: 1
B11: HD Hyundai | C11: 12 | D11: 0 | E11: 0 | F11: 0.16666667 | G11: 0 | H11: 1
B12: Waaree | C12: 10 | D12: 0.2 | E12: 0.2 | F12: 0.2 | G12: 0.2 | H12: 1
B13: Vikram Solar | C13: 10 | D13: 0 | E13: 0.3 | F13: 0.3 | G13: 0.3 | H13: 1
B14: Boviet Solar | C14: 10 | D14: 0 | E14: 0 | F14: 0.8 | G14: 1 | H14: 0
B15: VSUN | C15: 9 | D15: 1 | E15: 1 | F15: 0.55555556 | G15: 1 | H15: 1
B16: Qcells | C16: 8 | D16: 0.25 | E16: 0.25 | F16: 0.25 | G16: 0.5 | H16: 1
B17: AE Solar | C17: 8 | D17: 1 | E17: 0 | F17: 1 | G17: 0 | H17: 1
... B40: REC Group | C40: 1 | D40: 0 | E40: 0 | F40: 1 | G40: 1 | H40: 0

Sheet Dane kontaktowe i źródła
B4: Opis: Ranking paneli fotowoltaicznych stworzony na podstawie PVEL 2023 PV Module Reliability Scorecard
B6: Autor: Dawid Kaczmarczyk
B7: Główne źródło: PVEL 2023 PV Module Reliability Scorecard (https://scorecard.pvel.com)
B9: // Uwaga, arkusz jest otwarty do edycji dla każdego. Pewność dokładności informacji zyskujesz po pobraniu plików źródłowych.
B11: Masz sugestie, pomysły lub propozycje? Potrzebujesz pomocy ze swoim projektem?
B12: Napisz do mnie!
B14: dawkaczradiatus@gmail.com
B15: https://www.linkedin.com/in/dawid-kaczmarczyk-945246276/
B17: Jak wesprzeć autora?
B19: Jeśli te informacje są dla Ciebie wartościowe, rozważ przekazanie darowizny w formie przelewu lub przez poniższy link Paypal. Zapraszam też na kawę, mieszkam w Lublinie, bywam też często w Poznaniu i w okolicy Jeleniej Góry :)
B21: Przelew
B22: 27 1090 2688 0000 0001 5326 5948
... B27: https://www.paypal.com/donate/?hosted_button_id=QRHRFCXLET73E
