Workbook

Sheet Dane
A1: Data | B1: Godzina | C1: Rynkowa Cena Energii [zł]
A2: 44562.042 | B2: 0.041666667 | C2: 267.74
A3: 44562.083 | B3: 0.083333333 | C3: 210.14
A4: 44562.125 | B4: 0.125 | C4: 192.08
A5: 44562.167 | B5: 0.16666667 | C5: 170.7
A6: 44562.208 | B6: 0.20833333 | C6: 162.61
A7: 44562.25 | B7: 0.25 | C7: 188.37
A8: 44562.292 | B8: 0.29166667 | C8: 200.17
A9: 44562.333 | B9: 0.33333333 | C9: 231.76
A10: 44562.375 | B10: 0.375 | C10: 258.5
A11: 44562.417 | B11: 0.41666667 | C11: 299.48
A12: 44562.458 | B12: 0.45833333 | C12: 341.25
A13: 44562.5 | B13: 0.5 | C13: 377.66
... A8760: 44926.958 | B8760: 0.95833333 | C8760: 159.65

Sheet Analiza danych
A4: Miesiąc | B4: Dzień | C4: Średnie ceny w danej godzinie
C5: 0 | D5: =C5+1 -> 1 | E5: =D5+1 -> 2 | F5: =E5+1 -> 3 | G5: =F5+1 -> 4 | H5: =G5+1 -> 5 | I5: =H5+1 -> 6 | J5: =I5+1 -> 7 | K5: =J5+1 -> 8 | ... Z5: =Y5+1 -> 23
A6: 1 | B6: Roboczy | C6: 535.88952 | D6: 500.0319 | E6: 454.85905 | F6: 438.06619 | G6: 437.51095 | H6: 454.8881 | I6: 513.73429 | J6: 659.89952 | K6: 655.63619 | L6: 781.59476 | M6: 818.4781 | N6: 800.04143 | O6: 802.68762 | P6: 794.57286 | Q6: 802.94571 | R6: 799.62381 | S6: 811.44429 | T6: 861.7581 | U6: 892.37524 | V6: 841.23714 | W6: 808.05619 | X6: 732.89333 | Y6: 590.86143 | Z6: 635.65048
A7: 1 | B7: Sobota | C7: 450.26 | D7: 428.2525 | E7: 388.4425 | F7: 358.4325 | G7: 356.825 | H7: 380.4925 | I7: 429.6225 | J7: 543.245 | K7: 507.555 | L7: 538.73 | M7: 548.7175 | N7: 554.1325 | O7: 559.525 | P7: 566.995 | Q7: 577.4925 | R7: 572.4075 | S7: 572.8425 | T7: 614.405 | U7: 631.4225 | V7: 588.9 | W7: 562.5175 | X7: 545.1925 | Y7: 513.6125 | Z7: 627.3625
A8: 1 | B8: Ndz./Św | C8: 525.208 | D8: 507.745 | E8: 462.37167 | F8: 449.25167 | G8: 439.825 | H8: 443.11167 | I8: 456.63167 | J8: 478.815 | K8: 558.98333 | L8: 623.63167 | M8: 715.81833 | N8: 750.37167 | O8: 769.58667 | P8: 755.42 | Q8: 757.46 | R8: 745.19333 | S8: 764.52333 | T8: 841.68833 | U8: 883.03 | V8: 863.48667 | W8: 846.50833 | X8: 769.79167 | Y8: 674.31 | Z8: 616.52167
A9: 2 | B9: Roboczy | C9: 463.081 | D9: 431.2425 | E9: 393.465 | F9: 374.442 | G9: 371.2035 | H9: 388.614 | I9: 443.1225 | J9: 552.534 | K9: 545.4765 | L9: 594.669 | M9: 605.5335 | N9: 575.411 | O9: 569.215 | P9: 559.07 | Q9: 564.715 | R9: 560.923 | S9: 577.028 | T9: 597.2415 | U9: 648.7245 | V9: 638.866 | W9: 622.0075 | X9: 582.833 | Y9: 518.3375 | Z9: 543.004
A10: 2 | B10: Sobota | C10: 499.355 | D10: 463.2475 | E10: 421.7075 | F10: 413.7725 | G10: 416.7875 | H10: 438.94 | I10: 501.0275 | J10: 623.565 | K10: 597.4175 | L10: 668.99 | M10: 658.235 | N10: 608.72 | O10: 609.135 | P10: 594.22 | Q10: 587.0375 | R10: 580.9825 | S10: 586.7 | T10: 605.7925 | U10: 624.4575 | V10: 615.8325 | W10: 603.7575 | X10: 562.445 | Y10: 496.26 | Z10: 539.5925
A11: 2 | B11: Ndz./Św | C11: 471.9575 | D11: 482.325 | E11: 448.6275 | F11: 437.2975 | G11: 430.255 | H11: 437.0425 | I11: 455.4975 | J11: 505.0525 | K11: 525.13 | L11: 573.7625 | M11: 574.555 | N11: 558.74 | O11: 542.5275 | P11: 516.23 | Q11: 507.625 | R11: 504.46 | S11: 520.575 | T11: 598.4525 | U11: 671.105 | V11: 696.175 | W11: 630.675 | X11: 562.0975 | Y11: 510.5625 | Z11: 486.23
A12: 3 | B12: Roboczy | C12: 623.97043 | D12: 629.97739 | E12: 606.27455 | F12: 593.80174 | G12: 596.54696 | H12: 621.71348 | I12: 654.31174 | J12: 739.66348 | K12: 657.23739 | L12: 674.52565 | M12: 609.2213 | N12: 550.6787 | O12: 528.83783 | P12: 526.54739 | Q12: 522.97609 | R12: 535.72739 | S12: 575.42043 | T12: 682.02478 | U12: 896.05478 | V12: 1045.7052 | W12: 1064.6552 | X12: 923.36435 | Y12: 664.76 | Z12: 701.75043
A13: 3 | B13: Sobota | C13: 630.295 | D13: 644.2575 | E13: 626.69 | F13: 621.18 | G13: 622.4675 | H13: 644.155 | I13: 694.0275 | J13: 789.8975 | K13: 656.49 | L13: 672.535 | M13: 613.745 | N13: 538.4075 | O13: 530.6575 | P13: 526.68 | Q13: 525.5025 | R13: 528.715 | S13: 584.135 | T13: 699.9875 | U13: 887.2325 | V13: 1002.6275 | W13: 975.83 | X13: 846.29 | Y13: 658.7475 | Z13: 717.9875
A14: 3 | B14: Ndz./Św | C14: 661.8225 | D14: 630.1675 | E14: 566.6075 | F14: 565.45 | G14: 574.2575 | H14: 585.3125 | I14: 586.11 | J14: 618.5425 | K14: 620.56 | L14: 623.2675 | M14: 609.715 | N14: 564.0475 | O14: 521.84 | P14: 504.7525 | Q14: 516.5125 | R14: 539.935 | S14: 576.8275 | T14: 691.6225 | U14: 841.89 | V14: 1007.8675 | W14: 973.005 | X14: 851.025 | Y14: 718.89 | Z14: 663.895
A15: 4 | B15: Roboczy | C15: 549.97389 | D15: 529.92333 | E15: 503.01944 | F15: 493.45889 | G15: 493.42556 | H15: 510.72889 | I15: 548.76944 | J15: 620.35278 | K15: 650.05722 | L15: 660.36833 | M15: 589.11833 | N15: 523.87444 | O15: 510.58389 | P15: 498.71667 | Q15: 488.58444 | R15: 491.17333 | S15: 500.05167 | T15: 530.84167 | U15: 587.17722 | V15: 682.80944 | W15: 856.27222 | X15: 953.57 | Y15: 740.14889 | Z15: 651.54556
A16: 4 | B16: Sobota | C16: 596.736 | D16: 582.768 | E16: 543.04 | F16: 525.408 | G16: 524.136 | H16: 550.398 | I16: 601.472 | J16: 675.188 | K16: 680.632 | L16: 660.988 | M16: 612.406 | N16: 557.446 | O16: 525.068 | P16: 490.326 | Q16: 474.316 | R16: 484.434 | S16: 506.212 | T16: 517.07 | U16: 607.958 | V16: 641.666 | W16: 774.448 | X16: 856.968 | Y16: 671.678 | Z16: 693.36
A17: 4 | B17: Ndz./Św | C17: 607.76143 | D17: 573.05143 | E17: 527.69 | F17: 508.23857 | G17: 503.16286 | H17: 505.60429 | I17: 499.09143 | J17: 497.81714 | K17: 539.24857 | L17: 557.48 | M17: 520.88571 | N17: 457.47286 | O17: 409.28571 | P17: 384.07571 | Q17: 370.79286 | R17: 362.54286 | S17: 380.59714 | T17: 421.79857 | U17: 511.09571 | V17: 627.57714 | W17: 742.77286 | X17: 816.84143 | Y17: 716.95429 | Z17: 618.89857
... A41: 12 | B41: Ndz./Św | C41: 654.81857 | D41: 652.07857 | E41: 598.19571 | F41: 584.45571 | G41: 570.21286 | H41: 577.49857 | I41: 572.18143 | J41: 600.11857 | K41: 641.95857 | L41: 705.26571 | M41: 796.24571 | N41: 821.17571 | O41: 835.45571 | P41: 840.58571 | Q41: 843.99 | R41: 825.72286 | S41: 833.80286 | T41: 881.26571 | U41: 855.01 | V41: 818.45857 | W41: 769.23 | X41: 725.20857 | Y41: 654.60143 | Z41: 616.37857

Sheet Wykres dobowy
B2: Wpisz datę: | C2: 44760
O3: Godzina | P3: Rynkowa Cena Energii
N4: 0 | O4: =C$2+N4 -> 44760 | P4: =VLOOKUP(O4,Dane!A$1:C$10000,3) -> 1146.24
N5: 0.041666667 | O5: =C$2+N5 -> 44760.042 | P5: =VLOOKUP(O5,Dane!A$1:C$10000,3) -> 784.8
N6: 0.083333333 | O6: =C$2+N6 -> 44760.083 | P6: =VLOOKUP(O6,Dane!A$1:C$10000,3) -> 800.54
N7: 0.125 | O7: =C$2+N7 -> 44760.125 | P7: =VLOOKUP(O7,Dane!A$1:C$10000,3) -> 745.02
N8: 0.16666667 | O8: =C$2+N8 -> 44760.167 | P8: =VLOOKUP(O8,Dane!A$1:C$10000,3) -> 840.63
N9: 0.20833333 | O9: =C$2+N9 -> 44760.208 | P9: =VLOOKUP(O9,Dane!A$1:C$10000,3) -> 708.66
N10: 0.25 | O10: =C$2+N10 -> 44760.25 | P10: =VLOOKUP(O10,Dane!A$1:C$10000,3) -> 606.79
N11: 0.29166667 | O11: =C$2+N11 -> 44760.292 | P11: =VLOOKUP(O11,Dane!A$1:C$10000,3) -> 1313.5
N12: 0.33333333 | O12: =C$2+N12 -> 44760.333 | P12: =VLOOKUP(O12,Dane!A$1:C$10000,3) -> 1024.72
N13: 0.375 | O13: =C$2+N13 -> 44760.375 | P13: =VLOOKUP(O13,Dane!A$1:C$10000,3) -> 1209.14
N14: 0.41666667 | O14: =C$2+N14 -> 44760.417 | P14: =VLOOKUP(O14,Dane!A$1:C$10000,3) -> 733.36
N15: 0.45833333 | O15: =C$2+N15 -> 44760.458 | P15: =VLOOKUP(O15,Dane!A$1:C$10000,3) -> 636.69
... N27: 0.95833333 | O27: =C$2+N27 -> 44760.958 | P27: =VLOOKUP(O27,Dane!A$1:C$10000,3) -> 2457.56

Sheet Dane kontaktowe i źródła
B4: Opis: Baza danych RCE – Rynkowych Cen Energii z każdej godziny roku 2022. Pomocne informacje dla inwestujących w PV i magazyny energii.
B6: Autor: Dawid Kaczmarczyk
B7: Główne źródło: Raporty dot. Rynkowej Ceny Energii z https://www.pse.pl/home
B9: Masz sugestie, pomysły lub propozycje? Potrzebujesz pomocy ze swoim projektem?
B10: Napisz do mnie!
B12: dawkaczradiatus@gmail.com
B13: https://www.linkedin.com/in/dawid-kaczmarczyk-945246276/
B15: Jak wesprzeć autora?
B17: Jeśli te informacje są dla Ciebie wartościowe, rozważ przekazanie darowizny w formie przelewu lub przez poniższy link Paypal. Ewentualnie umów się ze mną na kawę, zapraszam do Lublina, bywam też często w Poznaniu :)
B19: Przelew
B20: 27 1090 2688 0000 0001 5326 5948
B21: Sandander
... B25: https://www.paypal.com/donate/?hosted_button_id=QRHRFCXLET73E
